Workbook

Sheet Aperçu
A1: Topps Now F1 2026
A2: Tracker de collection — checklist complète
A4: SET DE BASE (versions principales) | C4: VERSIONS PRINCIPALES (tous les onglets) | E4: PARALLÈLES (variantes) | G4: COLLECTION TOTALE
A5: =(SUM('Cartes événementielles'!E6:E72))/67 -> 0 | C5: =(SUM('Cartes événementielles'!E6:E72))/67 -> 0 | E5: =0 -> 0 | G5: =(SUM('Cartes événementielles'!G6:G72))/67 -> 0
A7: =(SUM('Cartes événementielles'!E6:E72))&" / 67" -> 0 / 67 | C7: =(SUM('Cartes événementielles'!E6:E72))&" / 67" -> 0 / 67 | E7: =(SUM('Cartes événementielles'!F6:F72))&" / 0" -> 0 / 0 | G7: =(SUM('Cartes événementielles'!G6:G72))&" / 67" -> 0 / 67
A8: Set de base = versions principales de l’onglet « Set de base » • Versions principales = Standard ou version nominale lorsqu’elle existe, numérotée ou non, tous onglets confondus.
A10: Progression par onglet
A11: Onglet | B11: Versions | C11: Possédées | D11: Progression
A12: Cartes événementielles | B12: 67 | C12: =SUM('Cartes événementielles'!G6:G72) -> 0 | D12: =(SUM('Cartes événementielles'!G6:G72))/67 -> 0
A15: Cartes de base par pilote
A16: Pilote | B16: Cartes de base | C16: Possédées | D16: Progression
A17: Alex Albon | B17: 1 | C17: =IF('Cartes événementielles'!C45=TRUE,1,0) -> 0 | D17: =(IF('Cartes événementielles'!C45=TRUE,1,0))/1 -> 0
A18: Arvid Lindblad | B18: 2 | C18: =IF('Cartes événementielles'!C41=TRUE,1,0)+IF('Cartes événementielles'!C71=TRUE,1,0) -> 0 | D18: =(IF('Cartes événementielles'!C41=TRUE,1,0)+IF('Cartes événementielles'!C71=TRUE,1,0))/2 -> 0
A19: Arvin Lindblad | B19: 1 | C19: =IF('Cartes événementielles'!C17=TRUE,1,0) -> 0 | D19: =(IF('Cartes événementielles'!C17=TRUE,1,0))/1 -> 0
A20: Charles Leclerc | B20: 1 | C20: =IF('Cartes événementielles'!C49=TRUE,1,0) -> 0 | D20: =(IF('Cartes événementielles'!C49=TRUE,1,0))/1 -> 0
A21: Fernando Alonso | B21: 2 | C21: =IF('Cartes événementielles'!C28=TRUE,1,0)+IF('Cartes événementielles'!C59=TRUE,1,0) -> 0 | D21: =(IF('Cartes événementielles'!C28=TRUE,1,0)+IF('Cartes événementielles'!C59=TRUE,1,0))/2 -> 0
A22: Franco Colapinto | B22: 3 | C22: =IF('Cartes événementielles'!C24=TRUE,1,0)+IF('Cartes événementielles'!C32=TRUE,1,0)+IF('Cartes événementielles'!C36=TRUE,1,0) -> 0 | D22: =(IF('Cartes événementielles'!C24=TRUE,1,0)+IF('Cartes événementielles'!C32=TRUE,1,0)+IF('Cartes événementielles'!C36=TRUE,1,0))/3 -> 0
A23: Gabriel Bortoleto | B23: 1 | C23: =IF('Cartes événementielles'!C21=TRUE,1,0) -> 0 | D23: =(IF('Cartes événementielles'!C21=TRUE,1,0))/1 -> 0
A24: George Russell | B24: 6 | C24: =IF('Cartes événementielles'!C19=TRUE,1,0)+IF('Cartes événementielles'!C44=TRUE,1,0)+IF('Cartes événementielles'!C46=TRUE,1,0)+IF('Cartes événementielles'!C47=TRUE,1,0)+IF('Cartes événementielles'!C50=TRUE,1,0)+IF('Cartes événementielles'!C67=TRUE,1,0) -> 0 | D24: =(IF('Cartes événementielles'!C19=TRUE,1,0)+IF('Cartes événementielles'!C44=TRUE,1,0)+IF('Cartes événementielles'!C46=TRUE,1,0)+IF('Cartes événementielles'!C47=TRUE,1,0)+IF('Cartes événementielles'!C50=TRUE,1,0)+IF('Cartes événementielles'!C67=TRUE,1,0))/6 -> 0
A25: Isack Hadjar | B25: 3 | C25: =IF('Cartes événementielles'!C25=TRUE,1,0)+IF('Cartes événementielles'!C40=TRUE,1,0)+IF('Cartes événementielles'!C55=TRUE,1,0) -> 0 | D25: =(IF('Cartes événementielles'!C25=TRUE,1,0)+IF('Cartes événementielles'!C40=TRUE,1,0)+IF('Cartes événementielles'!C55=TRUE,1,0))/3 -> 0
A26: Kimi Antonelli | B26: 9 | C26: =IF('Cartes événementielles'!C22=TRUE,1,0)+IF('Cartes événementielles'!C23=TRUE,1,0)+IF('Cartes événementielles'!C27=TRUE,1,0)+IF('Cartes événementielles'!C30=TRUE,1,0)+IF('Cartes événementielles'!C34=TRUE,1,0)+IF('Cartes événementielles'!C38=TRUE,1,0)+IF('Cartes événementielles'!C53=TRUE,1,0)+IF('Cartes événementielles'!C62=TRUE,1,0)+IF('Cartes événementielles'!C64=TRUE,1,0) -> 0 | D26: =(IF('Cartes événementielles'!C22=TRUE,1,0)+IF('Cartes événementielles'!C23=TRUE,1,0)+IF('Cartes événementielles'!C27=TRUE,1,0)+IF('Cartes événementielles'!C30=TRUE,1,0)+IF('Cartes événementielles'!C34=TRUE,1,0)+IF('Cartes événementielles'!C38=TRUE,1,0)+IF('Cartes événementielles'!C53=TRUE,1,0)+IF('Cartes événementielles'!C62=TRUE,1,0)+IF('Cartes événementielles'!C64=TRUE,1,0))/9 -> 0
A27: Lando Norris | B27: 5 | C27: =IF('Cartes événementielles'!C31=TRUE,1,0)+IF('Cartes événementielles'!C44=TRUE,1,0)+IF('Cartes événementielles'!C56=TRUE,1,0)+IF('Cartes événementielles'!C58=TRUE,1,0)+IF('Cartes événementielles'!C63=TRUE,1,0) -> 0 | D27: =(IF('Cartes événementielles'!C31=TRUE,1,0)+IF('Cartes événementielles'!C44=TRUE,1,0)+IF('Cartes événementielles'!C56=TRUE,1,0)+IF('Cartes événementielles'!C58=TRUE,1,0)+IF('Cartes événementielles'!C63=TRUE,1,0))/5 -> 0
A28: Lewis Hamilton | B28: 7 | C28: =IF('Cartes événementielles'!C18=TRUE,1,0)+IF('Cartes événementielles'!C26=TRUE,1,0)+IF('Cartes événementielles'!C37=TRUE,1,0)+IF('Cartes événementielles'!C39=TRUE,1,0)+IF('Cartes événementielles'!C43=TRUE,1,0)+IF('Cartes événementielles'!C44=TRUE,1,0)+IF('Cartes événementielles'!C70=TRUE,1,0) -> 0 | D28: =(IF('Cartes événementielles'!C18=TRUE,1,0)+IF('Cartes événementielles'!C26=TRUE,1,0)+IF('Cartes événementielles'!C37=TRUE,1,0)+IF('Cartes événementielles'!C39=TRUE,1,0)+IF('Cartes événementielles'!C43=TRUE,1,0)+IF('Cartes événementielles'!C44=TRUE,1,0)+IF('Cartes événementielles'!C70=TRUE,1,0))/7 -> 0
A29: Liam Lawson | B29: 1 | C29: =IF('Cartes événementielles'!C65=TRUE,1,0) -> 0 | D29: =(IF('Cartes événementielles'!C65=TRUE,1,0))/1 -> 0
A30: Max Verstappen | B30: 6 | C30: =IF('Cartes événementielles'!C35=TRUE,1,0)+IF('Cartes événementielles'!C48=TRUE,1,0)+IF('Cartes événementielles'!C54=TRUE,1,0)+IF('Cartes événementielles'!C68=TRUE,1,0)+IF('Cartes événementielles'!C69=TRUE,1,0)+IF('Cartes événementielles'!C72=TRUE,1,0) -> 0 | D30: =(IF('Cartes événementielles'!C35=TRUE,1,0)+IF('Cartes événementielles'!C48=TRUE,1,0)+IF('Cartes événementielles'!C54=TRUE,1,0)+IF('Cartes événementielles'!C68=TRUE,1,0)+IF('Cartes événementielles'!C69=TRUE,1,0)+IF('Cartes événementielles'!C72=TRUE,1,0))/6 -> 0
A31: Nico Hulkenberg | B31: 1 | C31: =IF('Cartes événementielles'!C57=TRUE,1,0) -> 0 | D31: =(IF('Cartes événementielles'!C57=TRUE,1,0))/1 -> 0
A32: Pierre Gasly | B32: 1 | C32: =IF('Cartes événementielles'!C61=TRUE,1,0) -> 0 | D32: =(IF('Cartes événementielles'!C61=TRUE,1,0))/1 -> 0
A33: Ugo Ugochukwu | B33: 1 | C33: =IF('Cartes événementielles'!C66=TRUE,1,0) -> 0 | D33: =(IF('Cartes événementielles'!C66=TRUE,1,0))/1 -> 0
A34: Valtteri Bottas | B34: 1 | C34: =IF('Cartes événementielles'!C29=TRUE,1,0) -> 0 | D34: =(IF('Cartes événementielles'!C29=TRUE,1,0))/1 -> 0

Sheet Cartes événementielles
A1: Topps Now F1 2026 — Cartes événementielles
A2: Suivi de collection — checklist complète
A3: Cochez les cartes possédées. Utilisez les boutons − / + à gauche pour replier ou déplier chaque subset.
A4: N° | B4: Carte | C4: Version principale | D4: Progression | E4: Principales possédées | F4: Parallèles possédés | G4: Versions possédées
A5: CARTES éVéNEMENTIELLES · 67 cartes | D5: =SUM(G6:G72)/67 -> 0
A6: 1 | B6: Oracle Red Bull Racing — Dévoilement de la livrée RB22 | C6: FALSE | D6: =G6/1 -> 0 | E6: =COUNTIF(C6,TRUE) -> 0 | F6: =0 -> 0 | G6: =E6+F6 -> 0
A7: 2 | B7: Visa Cash App RB Formula One Team — Dévoilement de la livrée 2026 | C7: FALSE | D7: =G7/1 -> 0 | E7: =COUNTIF(C7,TRUE) -> 0 | F7: =0 -> 0 | G7: =E7+F7 -> 0
A8: 3 | B8: Audi Revolut F1® Team — Dévoilement de la livrée R26 | C8: FALSE | D8: =G8/1 -> 0 | E8: =COUNTIF(C8,TRUE) -> 0 | F8: =0 -> 0 | G8: =E8+F8 -> 0
A9: 4 | B9: Scuderia Ferrari HP — Dévoilement de la livrée SF-26 | C9: FALSE | D9: =G9/1 -> 0 | E9: =COUNTIF(C9,TRUE) -> 0 | F9: =0 -> 0 | G9: =E9+F9 -> 0
A10: 5 | B10: BWT Alpine F1® Team — Dévoilement de la livrée 2026 | C10: FALSE | D10: =G10/1 -> 0 | E10: =COUNTIF(C10,TRUE) -> 0 | F10: =0 -> 0 | G10: =E10+F10 -> 0
A11: 6 | B11: MoneyGram Haas F1® Team — Dévoilement de la livrée VF-26 | C11: FALSE | D11: =G11/1 -> 0 | E11: =COUNTIF(C11,TRUE) -> 0 | F11: =0 -> 0 | G11: =E11+F11 -> 0
A12: 7 | B12: Mercedes-AMG PETRONAS Formula One Team — Dévoilement de la livrée W17 E Performance | C12: FALSE | D12: =G12/1 -> 0 | E12: =COUNTIF(C12,TRUE) -> 0 | F12: =0 -> 0 | G12: =E12+F12 -> 0
A13: 8 | B13: Atlassian Williams F1 Team — Dévoilement de la livrée FW48 | C13: FALSE | D13: =G13/1 -> 0 | E13: =COUNTIF(C13,TRUE) -> 0 | F13: =0 -> 0 | G13: =E13+F13 -> 0
A14: 9 | B14: McLaren Mastercard F1® Team — Dévoilement de la livrée MCL40 | C14: FALSE | D14: =G14/1 -> 0 | E14: =COUNTIF(C14,TRUE) -> 0 | F14: =0 -> 0 | G14: =E14+F14 -> 0
A15: 10 | B15: Aston Martin Aramco Formula One™ Team — Dévoilement de la livrée AMR26 | C15: FALSE | D15: =G15/1 -> 0 | E15: =COUNTIF(C15,TRUE) -> 0 | F15: =0 -> 0 | G15: =E15+F15 -> 0
A16: 11 | B16: Cadillac Formula 1® Team — Révèle leur 1ère voiture de F1 | C16: FALSE | D16: =G16/1 -> 0 | E16: =COUNTIF(C16,TRUE) -> 0 | F16: =0 -> 0 | G16: =E16+F16 -> 0
A17: 12 | B17: Arvin Lindblad — Ses débuts en Formule 1 | C17: FALSE | D17: =G17/1 -> 0 | E17: =COUNTIF(C17,TRUE) -> 0 | F17: =0 -> 0 | G17: =E17+F17 -> 0
... A72: 67 | B72: Max Verstappen — Décroche sa première victoire sur le circuit de Marina Bay. | C72: FALSE | D72: =G72/1 -> 0 | E72: =COUNTIF(C72,TRUE) -> 0 | F72: =0 -> 0 | G72: =E72+F72 -> 0
