Workbook

Sheet Aperçu
A1: Topps Now F1 2023
A2: Tracker de collection — checklist complète
A4: SET DE BASE (versions Standard) | C4: CARTES STANDARDS (tous les onglets) | E4: PARALLÈLES (variantes) | G4: COLLECTION TOTALE
A5: =(COUNTIF('Cartes événementielles'!C6:C77,TRUE))/72 -> 0 | C5: =(COUNTIF('Cartes événementielles'!C6:C77,TRUE))/72 -> 0 | E5: =0 -> 0 | G5: =(COUNTIF('Cartes événementielles'!C6:C77,TRUE))/72 -> 0
A7: =(COUNTIF('Cartes événementielles'!C6:C77,TRUE))&" / 72" -> 0 / 72 | C7: =(COUNTIF('Cartes événementielles'!C6:C77,TRUE))&" / 72" -> 0 / 72 | E7: =(0)&" / 0" -> 0 / 0 | G7: =(COUNTIF('Cartes événementielles'!C6:C77,TRUE))&" / 72" -> 0 / 72
A8: Set de base = versions Standard de l’onglet « Set de base » • Cartes Standards = version principale non parallèle lorsqu’elle existe, tous onglets confondus.
A10: Progression par onglet
A11: Onglet | B11: Versions | C11: Possédées | D11: Progression
A12: Cartes événementielles | B12: 72 | C12: =COUNTIF('Cartes événementielles'!C6:C77,TRUE) -> 0 | D12: =(COUNTIF('Cartes événementielles'!C6:C77,TRUE))/72 -> 0
A15: Cartes de base par pilote
A16: Pilote | B16: Cartes de base | C16: Possédées | D16: Progression
A17: Alexander Albon | B17: 1 | C17: =IF('Cartes événementielles'!C28=TRUE,1,0) -> 0 | D17: =(IF('Cartes événementielles'!C28=TRUE,1,0))/1 -> 0
A18: Carlos Sainz | B18: 2 | C18: =IF('Cartes événementielles'!C49=TRUE,1,0)+IF('Cartes événementielles'!C51=TRUE,1,0) -> 0 | D18: =(IF('Cartes événementielles'!C49=TRUE,1,0)+IF('Cartes événementielles'!C51=TRUE,1,0))/2 -> 0
A19: Charles Leclerc | B19: 2 | C19: =IF('Cartes événementielles'!C16=TRUE,1,0)+IF('Cartes événementielles'!C69=TRUE,1,0) -> 0 | D19: =(IF('Cartes événementielles'!C16=TRUE,1,0)+IF('Cartes événementielles'!C69=TRUE,1,0))/2 -> 0
A20: Daniel Ricciardo | B20: 2 | C20: =IF('Cartes événementielles'!C40=TRUE,1,0)+IF('Cartes événementielles'!C68=TRUE,1,0) -> 0 | D20: =(IF('Cartes événementielles'!C40=TRUE,1,0)+IF('Cartes événementielles'!C68=TRUE,1,0))/2 -> 0
A21: Esteban Ocon | B21: 1 | C21: =IF('Cartes événementielles'!C22=TRUE,1,0) -> 0 | D21: =(IF('Cartes événementielles'!C22=TRUE,1,0))/1 -> 0
A22: Fernando Alonso | B22: 5 | C22: =IF('Cartes événementielles'!C7=TRUE,1,0)+IF('Cartes événementielles'!C11=TRUE,1,0)+IF('Cartes événementielles'!C14=TRUE,1,0)+IF('Cartes événementielles'!C21=TRUE,1,0)+IF('Cartes événementielles'!C71=TRUE,1,0) -> 0 | D22: =(IF('Cartes événementielles'!C7=TRUE,1,0)+IF('Cartes événementielles'!C11=TRUE,1,0)+IF('Cartes événementielles'!C14=TRUE,1,0)+IF('Cartes événementielles'!C21=TRUE,1,0)+IF('Cartes événementielles'!C71=TRUE,1,0))/5 -> 0
A23: Gabriel Bortoleto | B23: 1 | C23: =IF('Cartes événementielles'!C50=TRUE,1,0) -> 0 | D23: =(IF('Cartes événementielles'!C50=TRUE,1,0))/1 -> 0
A24: George Russell | B24: 2 | C24: =IF('Cartes événementielles'!C24=TRUE,1,0)+IF('Cartes événementielles'!C65=TRUE,1,0) -> 0 | D24: =(IF('Cartes événementielles'!C24=TRUE,1,0)+IF('Cartes événementielles'!C65=TRUE,1,0))/2 -> 0
A25: Lance Stroll | B25: 1 | C25: =IF('Cartes événementielles'!C9=TRUE,1,0) -> 0 | D25: =(IF('Cartes événementielles'!C9=TRUE,1,0))/1 -> 0
A26: Lando Norris | B26: 5 | C26: =IF('Cartes événementielles'!C32=TRUE,1,0)+IF('Cartes événementielles'!C36=TRUE,1,0)+IF('Cartes événementielles'!C39=TRUE,1,0)+IF('Cartes événementielles'!C52=TRUE,1,0)+IF('Cartes événementielles'!C64=TRUE,1,0) -> 0 | D26: =(IF('Cartes événementielles'!C32=TRUE,1,0)+IF('Cartes événementielles'!C36=TRUE,1,0)+IF('Cartes événementielles'!C39=TRUE,1,0)+IF('Cartes événementielles'!C52=TRUE,1,0)+IF('Cartes événementielles'!C64=TRUE,1,0))/5 -> 0
A27: Lewis Hamilton | B27: 2 | C27: =IF('Cartes événementielles'!C14=TRUE,1,0)+IF('Cartes événementielles'!C36=TRUE,1,0) -> 0 | D27: =(IF('Cartes événementielles'!C14=TRUE,1,0)+IF('Cartes événementielles'!C36=TRUE,1,0))/2 -> 0
A28: Liam Lawson | B28: 2 | C28: =IF('Cartes événementielles'!C47=TRUE,1,0)+IF('Cartes événementielles'!C53=TRUE,1,0) -> 0 | D28: =(IF('Cartes événementielles'!C47=TRUE,1,0)+IF('Cartes événementielles'!C53=TRUE,1,0))/2 -> 0
A29: Logan Sargeant | B29: 2 | C29: =IF('Cartes événementielles'!C8=TRUE,1,0)+IF('Cartes événementielles'!C66=TRUE,1,0) -> 0 | D29: =(IF('Cartes événementielles'!C8=TRUE,1,0)+IF('Cartes événementielles'!C66=TRUE,1,0))/2 -> 0
A30: Max Verstappen | B30: 24 | C30: =IF('Cartes événementielles'!C6=TRUE,1,0)+IF('Cartes événementielles'!C12=TRUE,1,0)+IF('Cartes événementielles'!C14=TRUE,1,0)+IF('Cartes événementielles'!C17=TRUE,1,0)+IF('Cartes événementielles'!C19=TRUE,1,0)+IF('Cartes événementielles'!C20=TRUE,1,0)+IF('Cartes événementielles'!C23=TRUE,1,0)+IF('Cartes événementielles'!C27=TRUE,1,0)+IF('Cartes événementielles'!C29=TRUE,1,0)+IF('Cartes événementielles'!C33=TRUE,1,0)+IF('Cartes événementielles'!C37=TRUE,1,0)+IF('Cartes événementielles'!C41=TRUE,1,0)+IF('Cartes événementielles'!C45=TRUE,1,0)+IF('Cartes événementielles'!C48=TRUE,1,0)+IF('Cartes événementielles'!C55=TRUE,1,0)+IF('Cartes événementielles'!C59=TRUE,1,0)+IF('Cartes événementielles'!C60=TRUE,1,0)+IF('Cartes événementielles'!C62=TRUE,1,0)+IF('Cartes événementielles'!C63=TRUE,1,0)+IF('Cartes événementielles'!C67=TRUE,1,0)+IF('Cartes événementielles'!C70=TRUE,1,0)+IF('Cartes événementielles'!C73=TRUE,1,0)+IF('Cartes événementielles'!C75=TRUE,1,0)+IF('Cartes événementielles'!C76=TRUE,1,0) -> 0 | D30: =(IF('Cartes événementielles'!C6=TRUE,1,0)+IF('Cartes événementielles'!C12=TRUE,1,0)+IF('Cartes événementielles'!C14=TRUE,1,0)+IF('Cartes événementielles'!C17=TRUE,1,0)+IF('Cartes événementielles'!C19=TRUE,1,0)+IF('Cartes événementielles'!C20=TRUE,1,0)+IF('Cartes événementielles'!C23=TRUE,1,0)+IF('Cartes événementielles'!C27=TRUE,1,0)+IF('Cartes événementielles'!C29=TRUE,1,0)+IF('Cartes événementielles'!C33=TRUE,1,0)+IF('Cartes événementielles'!C37=TRUE,1,0)+IF('Cartes événementielles'!C41=TRUE,1,0)+IF('Cartes événementielles'!C45=TRUE,1,0)+IF('Cartes événementielles'!C48=TRUE,1,0)+IF('Cartes événementielles'!C55=TRUE,1,0)+IF('Cartes événementielles'!C59=TRUE,1,0)+IF('Cartes événementielles'!C60=TRUE,1,0)+IF('Cartes événementielles'!C62=TRUE,1,0)+IF('Cartes événementielles'!C63=TRUE,1,0)+IF('Cartes événementielles'!C67=TRUE,1,0)+IF('Cartes événementielles'!C70=TRUE,1,0)+IF('Cartes événementielles'!C73=TRUE,1,0)+IF('Cartes événementielles'!C75=TRUE,1,0)+IF('Cartes événementielles'!C76=TRUE,1,0))/24 -> 0
A31: Oliver Bearman | B31: 1 | C31: =IF('Cartes événementielles'!C18=TRUE,1,0) -> 0 | D31: =(IF('Cartes événementielles'!C18=TRUE,1,0))/1 -> 0
A32: Oscar Piastri | B32: 5 | C32: =IF('Cartes événementielles'!C13=TRUE,1,0)+IF('Cartes événementielles'!C34=TRUE,1,0)+IF('Cartes événementielles'!C43=TRUE,1,0)+IF('Cartes événementielles'!C56=TRUE,1,0)+IF('Cartes événementielles'!C61=TRUE,1,0) -> 0 | D32: =(IF('Cartes événementielles'!C13=TRUE,1,0)+IF('Cartes événementielles'!C34=TRUE,1,0)+IF('Cartes événementielles'!C43=TRUE,1,0)+IF('Cartes événementielles'!C56=TRUE,1,0)+IF('Cartes événementielles'!C61=TRUE,1,0))/5 -> 0
A33: Pierre Gasly | B33: 2 | C33: =IF('Cartes événementielles'!C44=TRUE,1,0)+IF('Cartes événementielles'!C46=TRUE,1,0) -> 0 | D33: =(IF('Cartes événementielles'!C44=TRUE,1,0)+IF('Cartes événementielles'!C46=TRUE,1,0))/2 -> 0
A34: Sergio Pérez | B34: 2 | C34: =IF('Cartes événementielles'!C10=TRUE,1,0)+IF('Cartes événementielles'!C15=TRUE,1,0) -> 0 | D34: =(IF('Cartes événementielles'!C10=TRUE,1,0)+IF('Cartes événementielles'!C15=TRUE,1,0))/2 -> 0
A35: Théo Pourchaire | B35: 1 | C35: =IF('Cartes événementielles'!C77=TRUE,1,0) -> 0 | D35: =(IF('Cartes événementielles'!C77=TRUE,1,0))/1 -> 0

Sheet Cartes événementielles
A1: Topps Now F1 2023 — Cartes événementielles
A2: Suivi de collection — checklist complète
A3: Cochez les cartes possédées. Utilisez les boutons − / + à gauche pour replier ou déplier chaque subset.
A4: N° | B4: Carte | C4: Standard | D4: Progression
A5: CARTES éVéNEMENTIELLES · 72 cartes | D5: =COUNTIF(C6:C77,TRUE)/72 -> 0
A6: 1 | B6: Max Verstappen — Victoire écrasante à l’ouverture de la saison 2023 | C6: FALSE | D6: =COUNTIF(C6:C6,TRUE)/1 -> 0
A7: 2 | B7: Fernando Alonso — Course exceptionnelle pour un podium | C7: FALSE | D7: =COUNTIF(C7:C7,TRUE)/1 -> 0
A8: 3 | B8: Logan Sargeant — 1er Américain à courir en F1 depuis 2015 | C8: FALSE | D8: =COUNTIF(C8:C8,TRUE)/1 -> 0
A9: 4 | B9: Lance Stroll — Performance remarquable lors de la première course | C9: FALSE | D9: =COUNTIF(C9:C9,TRUE)/1 -> 0
A10: 5 | B10: Sergio Pérez — Pôle et victoire en Arabie Saoudite | C10: FALSE | D10: =COUNTIF(C10:C10,TRUE)/1 -> 0
A11: 6 | B11: Fernando Alonso — 100ème podium en carrière | C11: FALSE | D11: =COUNTIF(C11:C11,TRUE)/1 -> 0
A12: 7 | B12: Max Verstappen — Victoire lors d’une course mouvementée en Australie | C12: FALSE | D12: =COUNTIF(C12:C12,TRUE)/1 -> 0
A13: 8 | B13: Oscar Piastri — Premiers points en Formule 1 | C13: FALSE | D13: =COUNTIF(C13:C13,TRUE)/1 -> 0
A14: 9 | B14: Max Verstappen / Lewis Hamilton / Fernando Alonso — Premier podium “Champions du monde” depuis 2018 | C14: FALSE | D14: =COUNTIF(C14:C14,TRUE)/1 -> 0
A15: 10 | B15: Sergio Pérez — Le roi de la rue | C15: FALSE | D15: =COUNTIF(C15:C15,TRUE)/1 -> 0
A16: 11 | B16: Charles Leclerc — Première pôle et premier podium de l’année | C16: FALSE | D16: =COUNTIF(C16:C16,TRUE)/1 -> 0
A17: 12 | B17: Max Verstappen — Dépasse le record de podiums d’Ayrton Senna | C17: FALSE | D17: =COUNTIF(C17:C17,TRUE)/1 -> 0
... A77: 72 | B77: Théo Pourchaire — Champion FIA F2 2023 | C77: FALSE | D77: =COUNTIF(C77:C77,TRUE)/1 -> 0
