Workbook

Sheet Aperçu
A1: Topps McLaren Racing 2025
A2: Tracker de collection — checklist complète
A4: SET DE BASE (versions Standard) | C4: CARTES STANDARDS (tous les onglets) | E4: PARALLÈLES (variantes) | G4: COLLECTION TOTALE
A5: =(COUNTIF('Set de base'!B6:B85,TRUE))/64 -> 0 | C5: =(COUNTIF('Set de base'!B6:B85,TRUE)+COUNTIF('Inserts'!B6:B8,TRUE)+COUNTIF('Reliques'!B6:B17,TRUE)+COUNTIF('Autographes'!B6:B53,TRUE)+COUNTIF('Autographes & Reliques'!B6:B11,TRUE))/117 -> 0 | E5: =(COUNTIF('Set de base'!C6:H85,TRUE)+COUNTIF('Inserts'!C6:H8,TRUE)+COUNTIF('Reliques'!C6:H17,TRUE)+COUNTIF('Autographes'!C6:H53,TRUE)+COUNTIF('Autographes & Reliques'!C6:H11,TRUE))/702 -> 0 | G5: =(COUNTIF('Set de base'!B6:H85,TRUE)+COUNTIF('Inserts'!B6:H8,TRUE)+COUNTIF('Reliques'!B6:H17,TRUE)+COUNTIF('Autographes'!B6:H53,TRUE)+COUNTIF('Autographes & Reliques'!B6:H11,TRUE))/819 -> 0
A7: =(COUNTIF('Set de base'!B6:B85,TRUE))&" / 64" -> 0 / 64 | C7: =(COUNTIF('Set de base'!B6:B85,TRUE)+COUNTIF('Inserts'!B6:B8,TRUE)+COUNTIF('Reliques'!B6:B17,TRUE)+COUNTIF('Autographes'!B6:B53,TRUE)+COUNTIF('Autographes & Reliques'!B6:B11,TRUE))&" / 117" -> 0 / 117 | E7: =(COUNTIF('Set de base'!C6:H85,TRUE)+COUNTIF('Inserts'!C6:H8,TRUE)+COUNTIF('Reliques'!C6:H17,TRUE)+COUNTIF('Autographes'!C6:H53,TRUE)+COUNTIF('Autographes & Reliques'!C6:H11,TRUE))&" / 702" -> 0 / 702 | G7: =(COUNTIF('Set de base'!B6:H85,TRUE)+COUNTIF('Inserts'!B6:H8,TRUE)+COUNTIF('Reliques'!B6:H17,TRUE)+COUNTIF('Autographes'!B6:H53,TRUE)+COUNTIF('Autographes & Reliques'!B6:H11,TRUE))&" / 819" -> 0 / 819
A8: Set de base = versions Standard de l’onglet « Set de base » • Cartes Standards = version principale non parallèle lorsqu’elle existe, tous onglets confondus.
A10: Progression par onglet
A11: Onglet | B11: Versions | C11: Possédées | D11: Progression
A12: Set de base | B12: 448 | C12: =COUNTIF('Set de base'!B6:H85,TRUE) -> 0 | D12: =(COUNTIF('Set de base'!B6:H85,TRUE))/448 -> 0
A13: Inserts | B13: 21 | C13: =COUNTIF('Inserts'!B6:H8,TRUE) -> 0 | D13: =(COUNTIF('Inserts'!B6:H8,TRUE))/21 -> 0
A14: Reliques | B14: 70 | C14: =COUNTIF('Reliques'!B6:H17,TRUE) -> 0 | D14: =(COUNTIF('Reliques'!B6:H17,TRUE))/70 -> 0
A15: Autographes | B15: 252 | C15: =COUNTIF('Autographes'!B6:H53,TRUE) -> 0 | D15: =(COUNTIF('Autographes'!B6:H53,TRUE))/252 -> 0
A16: Autographes & Reliques | B16: 28 | C16: =COUNTIF('Autographes & Reliques'!B6:H11,TRUE) -> 0 | D16: =(COUNTIF('Autographes & Reliques'!B6:H11,TRUE))/28 -> 0
A19: Cartes de base par pilote
A20: Pilote | B20: Cartes de base | C20: Possédées | D20: Progression
A21: Lando Norris | B21: 12 | C21: =IF('Set de base'!B7=TRUE,1,0)+IF('Set de base'!B8=TRUE,1,0)+IF('Set de base'!B15=TRUE,1,0)+IF('Set de base'!B16=TRUE,1,0)+IF('Set de base'!B17=TRUE,1,0)+IF('Set de base'!B18=TRUE,1,0)+IF('Set de base'!B19=TRUE,1,0)+IF('Set de base'!B23=TRUE,1,0)+IF('Set de base'!B26=TRUE,1,0)+IF('Set de base'!B28=TRUE,1,0)+IF('Set de base'!B41=TRUE,1,0)+IF('Set de base'!B72=TRUE,1,0) -> 0 | D21: =(IF('Set de base'!B7=TRUE,1,0)+IF('Set de base'!B8=TRUE,1,0)+IF('Set de base'!B15=TRUE,1,0)+IF('Set de base'!B16=TRUE,1,0)+IF('Set de base'!B17=TRUE,1,0)+IF('Set de base'!B18=TRUE,1,0)+IF('Set de base'!B19=TRUE,1,0)+IF('Set de base'!B23=TRUE,1,0)+IF('Set de base'!B26=TRUE,1,0)+IF('Set de base'!B28=TRUE,1,0)+IF('Set de base'!B41=TRUE,1,0)+IF('Set de base'!B72=TRUE,1,0))/12 -> 0
A22: Oscar Piastri | B22: 9 | C22: =IF('Set de base'!B6=TRUE,1,0)+IF('Set de base'!B8=TRUE,1,0)+IF('Set de base'!B13=TRUE,1,0)+IF('Set de base'!B14=TRUE,1,0)+IF('Set de base'!B17=TRUE,1,0)+IF('Set de base'!B27=TRUE,1,0)+IF('Set de base'!B28=TRUE,1,0)+IF('Set de base'!B40=TRUE,1,0)+IF('Set de base'!B71=TRUE,1,0) -> 0 | D22: =(IF('Set de base'!B6=TRUE,1,0)+IF('Set de base'!B8=TRUE,1,0)+IF('Set de base'!B13=TRUE,1,0)+IF('Set de base'!B14=TRUE,1,0)+IF('Set de base'!B17=TRUE,1,0)+IF('Set de base'!B27=TRUE,1,0)+IF('Set de base'!B28=TRUE,1,0)+IF('Set de base'!B40=TRUE,1,0)+IF('Set de base'!B71=TRUE,1,0))/9 -> 0
A23: Lewis Hamilton | B23: 4 | C23: =IF('Set de base'!B29=TRUE,1,0)+IF('Set de base'!B42=TRUE,1,0)+IF('Set de base'!B59=TRUE,1,0)+IF('Set de base'!B73=TRUE,1,0) -> 0 | D23: =(IF('Set de base'!B29=TRUE,1,0)+IF('Set de base'!B42=TRUE,1,0)+IF('Set de base'!B59=TRUE,1,0)+IF('Set de base'!B73=TRUE,1,0))/4 -> 0
A24: James Hunt | B24: 2 | C24: =IF('Set de base'!B43=TRUE,1,0)+IF('Set de base'!B64=TRUE,1,0) -> 0 | D24: =(IF('Set de base'!B43=TRUE,1,0)+IF('Set de base'!B64=TRUE,1,0))/2 -> 0
A25: Gerhard Berger | B25: 3 | C25: =IF('Set de base'!B30=TRUE,1,0)+IF('Set de base'!B44=TRUE,1,0)+IF('Set de base'!B60=TRUE,1,0) -> 0 | D25: =(IF('Set de base'!B30=TRUE,1,0)+IF('Set de base'!B44=TRUE,1,0)+IF('Set de base'!B60=TRUE,1,0))/3 -> 0
A26: Kimi Räikkönen | B26: 4 | C26: =IF('Set de base'!B35=TRUE,1,0)+IF('Set de base'!B45=TRUE,1,0)+IF('Set de base'!B67=TRUE,1,0)+IF('Set de base'!B74=TRUE,1,0) -> 0 | D26: =(IF('Set de base'!B35=TRUE,1,0)+IF('Set de base'!B45=TRUE,1,0)+IF('Set de base'!B67=TRUE,1,0)+IF('Set de base'!B74=TRUE,1,0))/4 -> 0
A27: David Coulthard | B27: 4 | C27: =IF('Set de base'!B31=TRUE,1,0)+IF('Set de base'!B46=TRUE,1,0)+IF('Set de base'!B68=TRUE,1,0)+IF('Set de base'!B75=TRUE,1,0) -> 0 | D27: =(IF('Set de base'!B31=TRUE,1,0)+IF('Set de base'!B46=TRUE,1,0)+IF('Set de base'!B68=TRUE,1,0)+IF('Set de base'!B75=TRUE,1,0))/4 -> 0
A28: Ayrton Senna | B28: 5 | C28: =IF('Set de base'!B32=TRUE,1,0)+IF('Set de base'!B36=TRUE,1,0)+IF('Set de base'!B47=TRUE,1,0)+IF('Set de base'!B61=TRUE,1,0)+IF('Set de base'!B80=TRUE,1,0) -> 0 | D28: =(IF('Set de base'!B32=TRUE,1,0)+IF('Set de base'!B36=TRUE,1,0)+IF('Set de base'!B47=TRUE,1,0)+IF('Set de base'!B61=TRUE,1,0)+IF('Set de base'!B80=TRUE,1,0))/5 -> 0
A29: Alain Prost | B29: 5 | C29: =IF('Set de base'!B33=TRUE,1,0)+IF('Set de base'!B36=TRUE,1,0)+IF('Set de base'!B48=TRUE,1,0)+IF('Set de base'!B62=TRUE,1,0)+IF('Set de base'!B76=TRUE,1,0) -> 0 | D29: =(IF('Set de base'!B33=TRUE,1,0)+IF('Set de base'!B36=TRUE,1,0)+IF('Set de base'!B48=TRUE,1,0)+IF('Set de base'!B62=TRUE,1,0)+IF('Set de base'!B76=TRUE,1,0))/5 -> 0
A30: Mika Häkkinen | B30: 4 | C30: =IF('Set de base'!B34=TRUE,1,0)+IF('Set de base'!B49=TRUE,1,0)+IF('Set de base'!B65=TRUE,1,0)+IF('Set de base'!B78=TRUE,1,0) -> 0 | D30: =(IF('Set de base'!B34=TRUE,1,0)+IF('Set de base'!B49=TRUE,1,0)+IF('Set de base'!B65=TRUE,1,0)+IF('Set de base'!B78=TRUE,1,0))/4 -> 0
A31: Emerson Fittipaldi | B31: 3 | C31: =IF('Set de base'!B50=TRUE,1,0)+IF('Set de base'!B66=TRUE,1,0)+IF('Set de base'!B79=TRUE,1,0) -> 0 | D31: =(IF('Set de base'!B50=TRUE,1,0)+IF('Set de base'!B66=TRUE,1,0)+IF('Set de base'!B79=TRUE,1,0))/3 -> 0
A32: Juan Pablo Montoya | B32: 4 | C32: =IF('Set de base'!B51=TRUE,1,0)+IF('Set de base'!B63=TRUE,1,0)+IF('Set de base'!B77=TRUE,1,0)+IF('Set de base'!B84=TRUE,1,0) -> 0 | D32: =(IF('Set de base'!B51=TRUE,1,0)+IF('Set de base'!B63=TRUE,1,0)+IF('Set de base'!B77=TRUE,1,0)+IF('Set de base'!B84=TRUE,1,0))/4 -> 0
A33: Pato O’Ward | B33: 1 | C33: =IF('Set de base'!B83=TRUE,1,0) -> 0 | D33: =(IF('Set de base'!B83=TRUE,1,0))/1 -> 0
A34: Tony Kanaan | B34: 1 | C34: =IF('Set de base'!B85=TRUE,1,0) -> 0 | D34: =(IF('Set de base'!B85=TRUE,1,0))/1 -> 0

Sheet Set de base
A1: Topps McLaren Racing 2025 — Set de base
A2: Suivi de collection — checklist complète
A3: Cochez les cartes possédées. Utilisez les boutons − / + à gauche pour replier ou déplier chaque subset.
A4: Carte | B4: Standard | C4: Blue /99 | D4: Purple /50 | E4: Orange /25 | F4: Black /10 | G4: Red /5 | H4: Gold /1 | I4: Progression
A5: MCLAREN FORMULA 1® TEAM · 5 cartes | I5: =COUNTIF(B6:H10,TRUE)/35 -> 0
A6: Oscar Piastri | B6: FALSE | C6: FALSE | D6: FALSE | E6: FALSE | F6: FALSE | G6: FALSE | H6: FALSE | I6: =COUNTIF(B6:H6,TRUE)/7 -> 0
A7: Lando Norris | B7: FALSE | C7: FALSE | D7: FALSE | E7: FALSE | F7: FALSE | G7: FALSE | H7: FALSE | I7: =COUNTIF(B7:H7,TRUE)/7 -> 0
A8: Oscar Piastri and Lando Norris | B8: FALSE | C8: FALSE | D8: FALSE | E8: FALSE | F8: FALSE | G8: FALSE | H8: FALSE | I8: =COUNTIF(B8:H8,TRUE)/7 -> 0
A9: Zak Brown | B9: FALSE | C9: FALSE | D9: FALSE | E9: FALSE | F9: FALSE | G9: FALSE | H9: FALSE | I9: =COUNTIF(B9:H9,TRUE)/7 -> 0
A10: Andrea Stella | B10: FALSE | C10: FALSE | D10: FALSE | E10: FALSE | F10: FALSE | G10: FALSE | H10: FALSE | I10: =COUNTIF(B10:H10,TRUE)/7 -> 0
A12: 2025 CONSTRUCTORS’ WORLD CHAMPIONS · 8 cartes | I12: =COUNTIF(B13:H20,TRUE)/56 -> 0
A13: Piastri wins in China | B13: FALSE | C13: FALSE | D13: FALSE | E13: FALSE | F13: FALSE | G13: FALSE | H13: FALSE | I13: =COUNTIF(B13:H13,TRUE)/7 -> 0
A14: Oscar secures first career Grand Slam | B14: FALSE | C14: FALSE | D14: FALSE | E14: FALSE | F14: FALSE | G14: FALSE | H14: FALSE | I14: =COUNTIF(B14:H14,TRUE)/7 -> 0
A15: Lando’s Hat-trick in season opener | B15: FALSE | C15: FALSE | D15: FALSE | E15: FALSE | F15: FALSE | G15: FALSE | H15: FALSE | I15: =COUNTIF(B15:H15,TRUE)/7 -> 0
A16: Imperious hat-trick win in Monaco | B16: FALSE | C16: FALSE | D16: FALSE | E16: FALSE | F16: FALSE | G16: FALSE | H16: FALSE | I16: =COUNTIF(B16:H16,TRUE)/7 -> 0
A17: Commanding win with 1-2 finish in Miami | B17: FALSE | C17: FALSE | D17: FALSE | E17: FALSE | F17: FALSE | G17: FALSE | H17: FALSE | I17: =COUNTIF(B17:H17,TRUE)/7 -> 0
A18: Celebrating the new world champion | B18: FALSE | C18: FALSE | D18: FALSE | E18: FALSE | F18: FALSE | G18: FALSE | H18: FALSE | I18: =COUNTIF(B18:H18,TRUE)/7 -> 0
A19: Secures maiden world championship | B19: FALSE | C19: FALSE | D19: FALSE | E19: FALSE | F19: FALSE | G19: FALSE | H19: FALSE | I19: =COUNTIF(B19:H19,TRUE)/7 -> 0
A20: 2025 constructors’ world champions | B20: FALSE | C20: FALSE | D20: FALSE | E20: FALSE | F20: FALSE | G20: FALSE | H20: FALSE | I20: =COUNTIF(B20:H20,TRUE)/7 -> 0
A22: 2025 DRIVERS’ WORLD CHAMPION · 1 carte | I22: =COUNTIF(B23:H23,TRUE)/7 -> 0
A23: Lando Norris | B23: FALSE | C23: FALSE | D23: FALSE | E23: FALSE | F23: FALSE | G23: FALSE | H23: FALSE | I23: =COUNTIF(B23:H23,TRUE)/7 -> 0
A25: BEHIND THE SCENES · 12 cartes | I25: =COUNTIF(B26:H37,TRUE)/84 -> 0
A26: Lando Norris | B26: FALSE | C26: FALSE | D26: FALSE | E26: FALSE | F26: FALSE | G26: FALSE | H26: FALSE | I26: =COUNTIF(B26:H26,TRUE)/7 -> 0
A27: Oscar Piastri | B27: FALSE | C27: FALSE | D27: FALSE | E27: FALSE | F27: FALSE | G27: FALSE | H27: FALSE | I27: =COUNTIF(B27:H27,TRUE)/7 -> 0
A28: Lando Norris and Oscar Piastri | B28: FALSE | C28: FALSE | D28: FALSE | E28: FALSE | F28: FALSE | G28: FALSE | H28: FALSE | I28: =COUNTIF(B28:H28,TRUE)/7 -> 0
A29: Lewis Hamilton | B29: FALSE | C29: FALSE | D29: FALSE | E29: FALSE | F29: FALSE | G29: FALSE | H29: FALSE | I29: =COUNTIF(B29:H29,TRUE)/7 -> 0
A30: Gerhard Berger | B30: FALSE | C30: FALSE | D30: FALSE | E30: FALSE | F30: FALSE | G30: FALSE | H30: FALSE | I30: =COUNTIF(B30:H30,TRUE)/7 -> 0
A31: David Coulthard | B31: FALSE | C31: FALSE | D31: FALSE | E31: FALSE | F31: FALSE | G31: FALSE | H31: FALSE | I31: =COUNTIF(B31:H31,TRUE)/7 -> 0
A32: Ayrton Senna | B32: FALSE | C32: FALSE | D32: FALSE | E32: FALSE | F32: FALSE | G32: FALSE | H32: FALSE | I32: =COUNTIF(B32:H32,TRUE)/7 -> 0
A33: Alain Prost | B33: FALSE | C33: FALSE | D33: FALSE | E33: FALSE | F33: FALSE | G33: FALSE | H33: FALSE | I33: =COUNTIF(B33:H33,TRUE)/7 -> 0
A34: Mika Häkkinen | B34: FALSE | C34: FALSE | D34: FALSE | E34: FALSE | F34: FALSE | G34: FALSE | H34: FALSE | I34: =COUNTIF(B34:H34,TRUE)/7 -> 0
A35: Kimi Räikkönen | B35: FALSE | C35: FALSE | D35: FALSE | E35: FALSE | F35: FALSE | G35: FALSE | H35: FALSE | I35: =COUNTIF(B35:H35,TRUE)/7 -> 0
A36: Ayrton Senna and Alain Prost | B36: FALSE | C36: FALSE | D36: FALSE | E36: FALSE | F36: FALSE | G36: FALSE | H36: FALSE | I36: =COUNTIF(B36:H36,TRUE)/7 -> 0
A37: Andrea Stella and Zak Brown | B37: FALSE | C37: FALSE | D37: FALSE | E37: FALSE | F37: FALSE | G37: FALSE | H37: FALSE | I37: =COUNTIF(B37:H37,TRUE)/7 -> 0
A39: BORN TO RACE · 12 cartes | I39: =COUNTIF(B40:H51,TRUE)/84 -> 0
A40: Oscar Piastri | B40: FALSE | C40: FALSE | D40: FALSE | E40: FALSE | F40: FALSE | G40: FALSE | H40: FALSE | I40: =COUNTIF(B40:H40,TRUE)/7 -> 0
A41: Lando Norris | B41: FALSE | C41: FALSE | D41: FALSE | E41: FALSE | F41: FALSE | G41: FALSE | H41: FALSE | I41: =COUNTIF(B41:H41,TRUE)/7 -> 0
A42: Lewis Hamilton | B42: FALSE | C42: FALSE | D42: FALSE | E42: FALSE | F42: FALSE | G42: FALSE | H42: FALSE | I42: =COUNTIF(B42:H42,TRUE)/7 -> 0
A43: James Hunt | B43: FALSE | C43: FALSE | D43: FALSE | E43: FALSE | F43: FALSE | G43: FALSE | H43: FALSE | I43: =COUNTIF(B43:H43,TRUE)/7 -> 0
A44: Gerhard Berger | B44: FALSE | C44: FALSE | D44: FALSE | E44: FALSE | F44: FALSE | G44: FALSE | H44: FALSE | I44: =COUNTIF(B44:H44,TRUE)/7 -> 0
...

Sheet Inserts
A1: Topps McLaren Racing 2025 — Inserts
A2: Suivi de collection — checklist complète
A3: Cochez les cartes possédées. Utilisez les boutons − / + à gauche pour replier ou déplier chaque subset.
A4: Carte | B4: Standard | C4: Blue /99 | D4: Purple /50 | E4: Orange /25 | F4: Black /10 | G4: Red /5 | H4: Gold /1 | I4: Progression
A5: MCLAREN SHADOW F1® SIM RACING TEAM · 3 cartes | I5: =COUNTIF(B6:H8,TRUE)/21 -> 0
A6: Wilson Hughes | B6: FALSE | C6: FALSE | D6: FALSE | E6: FALSE | F6: FALSE | G6: FALSE | H6: FALSE | I6: =COUNTIF(B6:H6,TRUE)/7 -> 0
A7: Alfie Butcher | B7: FALSE | C7: FALSE | D7: FALSE | E7: FALSE | F7: FALSE | G7: FALSE | H7: FALSE | I7: =COUNTIF(B7:H7,TRUE)/7 -> 0
A8: Jake Benham | B8: FALSE | C8: FALSE | D8: FALSE | E8: FALSE | F8: FALSE | G8: FALSE | H8: FALSE | I8: =COUNTIF(B8:H8,TRUE)/7 -> 0

Sheet Reliques
A1: Topps McLaren Racing 2025 — Reliques
A2: Suivi de collection — checklist complète
A3: Cochez les cartes possédées. Utilisez les boutons − / + à gauche pour replier ou déplier chaque subset.
A4: Carte | B4: Standard | C4: Blue /99 | D4: Purple /50 | E4: Orange /25 | F4: Black /10 | G4: Red /5 | H4: Gold /1 | I4: Progression
A5: RACE WORN · 5 cartes | I5: =COUNTIF(B6:H10,TRUE)/35 -> 0
A6: Lando Norris | B6: FALSE | C6: FALSE | D6: FALSE | E6: FALSE | F6: FALSE | G6: FALSE | H6: FALSE | I6: =COUNTIF(B6:H6,TRUE)/7 -> 0
A7: Oscar Piastri | B7: FALSE | C7: FALSE | D7: FALSE | E7: FALSE | F7: FALSE | G7: FALSE | H7: FALSE | I7: =COUNTIF(B7:H7,TRUE)/7 -> 0
A8: Juan Pablo Montoya | B8: FALSE | C8: FALSE | D8: FALSE | E8: FALSE | F8: FALSE | G8: FALSE | H8: FALSE | I8: =COUNTIF(B8:H8,TRUE)/7 -> 0
A9: Mika Häkkinen | B9: FALSE | C9: FALSE | D9: FALSE | E9: FALSE | F9: FALSE | G9: FALSE | H9: FALSE | I9: =COUNTIF(B9:H9,TRUE)/7 -> 0
A10: David Coulthard | B10: FALSE | C10: FALSE | D10: FALSE | E10: FALSE | F10: FALSE | G10: FALSE | H10: FALSE | I10: =COUNTIF(B10:H10,TRUE)/7 -> 0
A12: TRACK USED · 5 cartes | I12: =COUNTIF(B13:H17,TRUE)/35 -> 0
A13: Lando Norris | B13: FALSE | C13: FALSE | D13: FALSE | E13: FALSE | F13: FALSE | G13: FALSE | H13: FALSE | I13: =COUNTIF(B13:H13,TRUE)/7 -> 0
A14: Oscar Piastri | B14: FALSE | C14: FALSE | D14: FALSE | E14: FALSE | F14: FALSE | G14: FALSE | H14: FALSE | I14: =COUNTIF(B14:H14,TRUE)/7 -> 0
A15: Mika Häkkinen | B15: FALSE | C15: FALSE | D15: FALSE | E15: FALSE | F15: FALSE | G15: FALSE | H15: FALSE | I15: =COUNTIF(B15:H15,TRUE)/7 -> 0
A16: Zak Brown | B16: FALSE | C16: FALSE | D16: FALSE | E16: FALSE | F16: FALSE | G16: FALSE | H16: FALSE | I16: =COUNTIF(B16:H16,TRUE)/7 -> 0
A17: Andrea Stella | B17: FALSE | C17: FALSE | D17: FALSE | E17: FALSE | F17: FALSE | G17: FALSE | H17: FALSE | I17: =COUNTIF(B17:H17,TRUE)/7 -> 0

Sheet Autographes
A1: Topps McLaren Racing 2025 — Autographes
A2: Suivi de collection — checklist complète
A3: Cochez les cartes possédées. Utilisez les boutons − / + à gauche pour replier ou déplier chaque subset.
A4: Carte | B4: Standard | C4: Blue /99 | D4: Purple /50 | E4: Orange /25 | F4: Black /10 | G4: Red /5 | H4: Gold /1 | I4: Progression
A5: MCLAREN FORMULA 1® TEAM · 2 cartes | I5: =COUNTIF(B6:H7,TRUE)/14 -> 0
A6: Oscar Piastri | B6: FALSE | C6: FALSE | D6: FALSE | E6: FALSE | F6: FALSE | G6: FALSE | H6: FALSE | I6: =COUNTIF(B6:H6,TRUE)/7 -> 0
A7: Lando Norris | B7: FALSE | C7: FALSE | D7: FALSE | E7: FALSE | F7: FALSE | G7: FALSE | H7: FALSE | I7: =COUNTIF(B7:H7,TRUE)/7 -> 0
A9: 2025 DRIVERS’ WORLD CHAMPION · 1 carte | I9: =COUNTIF(B10:H10,TRUE)/7 -> 0
A10: Lando Norris | B10: FALSE | C10: FALSE | D10: FALSE | E10: FALSE | F10: FALSE | G10: FALSE | H10: FALSE | I10: =COUNTIF(B10:H10,TRUE)/7 -> 0
A12: BORN TO RACE · 10 cartes | I12: =COUNTIF(B13:H22,TRUE)/70 -> 0
A13: Oscar Piastri | B13: FALSE | C13: FALSE | D13: FALSE | E13: FALSE | F13: FALSE | G13: FALSE | H13: FALSE | I13: =COUNTIF(B13:H13,TRUE)/7 -> 0
A14: Lando Norris | B14: FALSE | C14: FALSE | D14: FALSE | E14: FALSE | F14: FALSE | G14: FALSE | H14: FALSE | I14: =COUNTIF(B14:H14,TRUE)/7 -> 0
A15: Lewis Hamilton | B15: FALSE | C15: FALSE | D15: FALSE | E15: FALSE | F15: FALSE | G15: FALSE | H15: FALSE | I15: =COUNTIF(B15:H15,TRUE)/7 -> 0
A16: Gerhard Berger | B16: FALSE | C16: FALSE | D16: FALSE | E16: FALSE | F16: FALSE | G16: FALSE | H16: FALSE | I16: =COUNTIF(B16:H16,TRUE)/7 -> 0
A17: Kimi Räikkönen | B17: FALSE | C17: FALSE | D17: FALSE | E17: FALSE | F17: FALSE | G17: FALSE | H17: FALSE | I17: =COUNTIF(B17:H17,TRUE)/7 -> 0
A18: David Coulthard | B18: FALSE | C18: FALSE | D18: FALSE | E18: FALSE | F18: FALSE | G18: FALSE | H18: FALSE | I18: =COUNTIF(B18:H18,TRUE)/7 -> 0
A19: Alain Prost | B19: FALSE | C19: FALSE | D19: FALSE | E19: FALSE | F19: FALSE | G19: FALSE | H19: FALSE | I19: =COUNTIF(B19:H19,TRUE)/7 -> 0
A20: Mika Häkkinen | B20: FALSE | C20: FALSE | D20: FALSE | E20: FALSE | F20: FALSE | G20: FALSE | H20: FALSE | I20: =COUNTIF(B20:H20,TRUE)/7 -> 0
A21: Emerson Fittipaldi | B21: FALSE | C21: FALSE | D21: FALSE | E21: FALSE | F21: FALSE | G21: FALSE | H21: FALSE | I21: =COUNTIF(B21:H21,TRUE)/7 -> 0
A22: Juan Pablo Montoya | B22: FALSE | C22: FALSE | D22: FALSE | E22: FALSE | F22: FALSE | G22: FALSE | H22: FALSE | I22: =COUNTIF(B22:H22,TRUE)/7 -> 0
A24: BEHIND THE WHEEL · 8 cartes | I24: =COUNTIF(B25:H32,TRUE)/56 -> 0
A25: Lewis Hamilton | B25: FALSE | C25: FALSE | D25: FALSE | E25: FALSE | F25: FALSE | G25: FALSE | H25: FALSE | I25: =COUNTIF(B25:H25,TRUE)/7 -> 0
A26: Gerhard Berger | B26: FALSE | C26: FALSE | D26: FALSE | E26: FALSE | F26: FALSE | G26: FALSE | H26: FALSE | I26: =COUNTIF(B26:H26,TRUE)/7 -> 0
A27: Alain Prost | B27: FALSE | C27: FALSE | D27: FALSE | E27: FALSE | F27: FALSE | G27: FALSE | H27: FALSE | I27: =COUNTIF(B27:H27,TRUE)/7 -> 0
A28: Juan Pablo Montoya | B28: FALSE | C28: FALSE | D28: FALSE | E28: FALSE | F28: FALSE | G28: FALSE | H28: FALSE | I28: =COUNTIF(B28:H28,TRUE)/7 -> 0
A29: Mika Häkkinen | B29: FALSE | C29: FALSE | D29: FALSE | E29: FALSE | F29: FALSE | G29: FALSE | H29: FALSE | I29: =COUNTIF(B29:H29,TRUE)/7 -> 0
A30: Emerson Fittipaldi | B30: FALSE | C30: FALSE | D30: FALSE | E30: FALSE | F30: FALSE | G30: FALSE | H30: FALSE | I30: =COUNTIF(B30:H30,TRUE)/7 -> 0
A31: Kimi Räikkönen | B31: FALSE | C31: FALSE | D31: FALSE | E31: FALSE | F31: FALSE | G31: FALSE | H31: FALSE | I31: =COUNTIF(B31:H31,TRUE)/7 -> 0
A32: David Coulthard | B32: FALSE | C32: FALSE | D32: FALSE | E32: FALSE | F32: FALSE | G32: FALSE | H32: FALSE | I32: =COUNTIF(B32:H32,TRUE)/7 -> 0
A34: VINTAGE MCLAREN · 9 cartes | I34: =COUNTIF(B35:H43,TRUE)/63 -> 0
A35: Oscar Piastri | B35: FALSE | C35: FALSE | D35: FALSE | E35: FALSE | F35: FALSE | G35: FALSE | H35: FALSE | I35: =COUNTIF(B35:H35,TRUE)/7 -> 0
A36: Lando Norris | B36: FALSE | C36: FALSE | D36: FALSE | E36: FALSE | F36: FALSE | G36: FALSE | H36: FALSE | I36: =COUNTIF(B36:H36,TRUE)/7 -> 0
A37: Lewis Hamilton | B37: FALSE | C37: FALSE | D37: FALSE | E37: FALSE | F37: FALSE | G37: FALSE | H37: FALSE | I37: =COUNTIF(B37:H37,TRUE)/7 -> 0
A38: Kimi Räikkönen | B38: FALSE | C38: FALSE | D38: FALSE | E38: FALSE | F38: FALSE | G38: FALSE | H38: FALSE | I38: =COUNTIF(B38:H38,TRUE)/7 -> 0
A39: David Coulthard | B39: FALSE | C39: FALSE | D39: FALSE | E39: FALSE | F39: FALSE | G39: FALSE | H39: FALSE | I39: =COUNTIF(B39:H39,TRUE)/7 -> 0
A40: Alain Prost | B40: FALSE | C40: FALSE | D40: FALSE | E40: FALSE | F40: FALSE | G40: FALSE | H40: FALSE | I40: =COUNTIF(B40:H40,TRUE)/7 -> 0
A41: Juan Pablo Montoya | B41: FALSE | C41: FALSE | D41: FALSE | E41: FALSE | F41: FALSE | G41: FALSE | H41: FALSE | I41: =COUNTIF(B41:H41,TRUE)/7 -> 0
A42: Mika Häkkinen | B42: FALSE | C42: FALSE | D42: FALSE | E42: FALSE | F42: FALSE | G42: FALSE | H42: FALSE | I42: =COUNTIF(B42:H42,TRUE)/7 -> 0
A43: Emerson Fittipaldi | B43: FALSE | C43: FALSE | D43: FALSE | E43: FALSE | F43: FALSE | G43: FALSE | H43: FALSE | I43: =COUNTIF(B43:H43,TRUE)/7 -> 0
A45: INDY HERITAGE · 1 carte | I45: =COUNTIF(B46:H46,TRUE)/7 -> 0
...

Sheet Autographes & Reliques
A1: Topps McLaren Racing 2025 — Autographes & Reliques
A2: Suivi de collection — checklist complète
A3: Cochez les cartes possédées. Utilisez les boutons − / + à gauche pour replier ou déplier chaque subset.
A4: Carte | B4: Standard | C4: Blue /99 | D4: Purple /50 | E4: Orange /25 | F4: Black /10 | G4: Red /5 | H4: Gold /1 | I4: Progression
A5: RACE WORN · 3 cartes | I5: =COUNTIF(B6:H8,TRUE)/21 -> 0
A6: Nolan Siegel | B6: FALSE | C6: FALSE | D6: FALSE | E6: FALSE | F6: FALSE | G6: FALSE | H6: FALSE | I6: =COUNTIF(B6:H6,TRUE)/7 -> 0
A7: Christian Lundgaard | B7: FALSE | C7: FALSE | D7: FALSE | E7: FALSE | F7: FALSE | G7: FALSE | H7: FALSE | I7: =COUNTIF(B7:H7,TRUE)/7 -> 0
A8: Pato O’Ward | B8: FALSE | C8: FALSE | D8: FALSE | E8: FALSE | F8: FALSE | G8: FALSE | H8: FALSE | I8: =COUNTIF(B8:H8,TRUE)/7 -> 0
A10: TRACK USED · 1 carte | I10: =COUNTIF(B11:H11,TRUE)/7 -> 0
A11: Lando Norris | B11: FALSE | C11: FALSE | D11: FALSE | E11: FALSE | F11: FALSE | G11: FALSE | H11: FALSE | I11: =COUNTIF(B11:H11,TRUE)/7 -> 0
