Workbook

Sheet Aperçu
A1: Topps Lights Out F1 2026
A2: Tracker de collection — checklist complète
A4: SET DE BASE (versions Standard) | C4: CARTES STANDARDS (tous les onglets) | E4: PARALLÈLES (variantes) | G4: COLLECTION TOTALE
A5: =(COUNTIF('Set de base'!B6:B129,TRUE))/110 -> 0 | C5: =(COUNTIF('Set de base'!B6:B129,TRUE)+COUNTIF('Autographes'!B6:B86,TRUE))/183 -> 0 | E5: =(COUNTIF('Set de base'!C6:K129,TRUE)+COUNTIF('Autographes'!C6:I86,TRUE))/1495 -> 0 | G5: =(COUNTIF('Set de base'!B6:K129,TRUE)+COUNTIF('Autographes'!B6:I86,TRUE))/1678 -> 0
A7: =(COUNTIF('Set de base'!B6:B129,TRUE))&" / 110" -> 0 / 110 | C7: =(COUNTIF('Set de base'!B6:B129,TRUE)+COUNTIF('Autographes'!B6:B86,TRUE))&" / 183" -> 0 / 183 | E7: =(COUNTIF('Set de base'!C6:K129,TRUE)+COUNTIF('Autographes'!C6:I86,TRUE))&" / 1495" -> 0 / 1495 | G7: =(COUNTIF('Set de base'!B6:K129,TRUE)+COUNTIF('Autographes'!B6:I86,TRUE))&" / 1678" -> 0 / 1678
A8: Set de base = versions Standard de l’onglet « Set de base » • Cartes Standards = version principale non parallèle lorsqu’elle existe, tous onglets confondus.
A10: Progression par onglet
A11: Onglet | B11: Versions | C11: Possédées | D11: Progression
A12: Set de base | B12: 1100 | C12: =COUNTIF('Set de base'!B6:K129,TRUE) -> 0 | D12: =(COUNTIF('Set de base'!B6:K129,TRUE))/1100 -> 0
A13: Autographes | B13: 578 | C13: =COUNTIF('Autographes'!B6:I86,TRUE) -> 0 | D13: =(COUNTIF('Autographes'!B6:I86,TRUE))/578 -> 0
A16: Cartes de base par pilote
A17: Pilote | B17: Cartes de base | C17: Possédées | D17: Progression
A18: Alexander Albon | B18: 4 | C18: =IF('Set de base'!B14=TRUE,1,0)+IF('Set de base'!B38=TRUE,1,0)+IF('Set de base'!B58=TRUE,1,0)+IF('Set de base'!B83=TRUE,1,0) -> 0 | D18: =(IF('Set de base'!B14=TRUE,1,0)+IF('Set de base'!B38=TRUE,1,0)+IF('Set de base'!B58=TRUE,1,0)+IF('Set de base'!B83=TRUE,1,0))/4 -> 0
A19: Alexander Dunne | B19: 1 | C19: =IF('Set de base'!B125=TRUE,1,0) -> 0 | D19: =(IF('Set de base'!B125=TRUE,1,0))/1 -> 0
A20: Arvid Lindblad | B20: 7 | C20: =IF('Set de base'!B25=TRUE,1,0)+IF('Set de base'!B49=TRUE,1,0)+IF('Set de base'!B63=TRUE,1,0)+IF('Set de base'!B72=TRUE,1,0)+IF('Set de base'!B94=TRUE,1,0)+IF('Set de base'!B106=TRUE,1,0)+IF('Set de base'!B116=TRUE,1,0) -> 0 | D20: =(IF('Set de base'!B25=TRUE,1,0)+IF('Set de base'!B49=TRUE,1,0)+IF('Set de base'!B63=TRUE,1,0)+IF('Set de base'!B72=TRUE,1,0)+IF('Set de base'!B94=TRUE,1,0)+IF('Set de base'!B106=TRUE,1,0)+IF('Set de base'!B116=TRUE,1,0))/7 -> 0
A21: Carlos Sainz | B21: 4 | C21: =IF('Set de base'!B15=TRUE,1,0)+IF('Set de base'!B39=TRUE,1,0)+IF('Set de base'!B58=TRUE,1,0)+IF('Set de base'!B84=TRUE,1,0) -> 0 | D21: =(IF('Set de base'!B15=TRUE,1,0)+IF('Set de base'!B39=TRUE,1,0)+IF('Set de base'!B58=TRUE,1,0)+IF('Set de base'!B84=TRUE,1,0))/4 -> 0
A22: Charles Leclerc | B22: 6 | C22: =IF('Set de base'!B12=TRUE,1,0)+IF('Set de base'!B36=TRUE,1,0)+IF('Set de base'!B57=TRUE,1,0)+IF('Set de base'!B69=TRUE,1,0)+IF('Set de base'!B81=TRUE,1,0)+IF('Set de base'!B102=TRUE,1,0) -> 0 | D22: =(IF('Set de base'!B12=TRUE,1,0)+IF('Set de base'!B36=TRUE,1,0)+IF('Set de base'!B57=TRUE,1,0)+IF('Set de base'!B69=TRUE,1,0)+IF('Set de base'!B81=TRUE,1,0)+IF('Set de base'!B102=TRUE,1,0))/6 -> 0
A23: Emerson Fittipaldi | B23: 1 | C23: =IF('Set de base'!B126=TRUE,1,0) -> 0 | D23: =(IF('Set de base'!B126=TRUE,1,0))/1 -> 0
A24: Esteban Ocon | B24: 4 | C24: =IF('Set de base'!B20=TRUE,1,0)+IF('Set de base'!B44=TRUE,1,0)+IF('Set de base'!B61=TRUE,1,0)+IF('Set de base'!B89=TRUE,1,0) -> 0 | D24: =(IF('Set de base'!B20=TRUE,1,0)+IF('Set de base'!B44=TRUE,1,0)+IF('Set de base'!B61=TRUE,1,0)+IF('Set de base'!B89=TRUE,1,0))/4 -> 0
A25: Fernando Alonso | B25: 4 | C25: =IF('Set de base'!B18=TRUE,1,0)+IF('Set de base'!B42=TRUE,1,0)+IF('Set de base'!B60=TRUE,1,0)+IF('Set de base'!B87=TRUE,1,0) -> 0 | D25: =(IF('Set de base'!B18=TRUE,1,0)+IF('Set de base'!B42=TRUE,1,0)+IF('Set de base'!B60=TRUE,1,0)+IF('Set de base'!B87=TRUE,1,0))/4 -> 0
A26: Fernando Barrichello | B26: 1 | C26: =IF('Set de base'!B128=TRUE,1,0) -> 0 | D26: =(IF('Set de base'!B128=TRUE,1,0))/1 -> 0
A27: Franco Colapinto | B27: 5 | C27: =IF('Set de base'!B17=TRUE,1,0)+IF('Set de base'!B41=TRUE,1,0)+IF('Set de base'!B59=TRUE,1,0)+IF('Set de base'!B86=TRUE,1,0)+IF('Set de base'!B111=TRUE,1,0) -> 0 | D27: =(IF('Set de base'!B17=TRUE,1,0)+IF('Set de base'!B41=TRUE,1,0)+IF('Set de base'!B59=TRUE,1,0)+IF('Set de base'!B86=TRUE,1,0)+IF('Set de base'!B111=TRUE,1,0))/5 -> 0
A28: Freddie Slater | B28: 1 | C28: =IF('Set de base'!B127=TRUE,1,0) -> 0 | D28: =(IF('Set de base'!B127=TRUE,1,0))/1 -> 0
A29: Gabriel Bortoleto | B29: 6 | C29: =IF('Set de base'!B23=TRUE,1,0)+IF('Set de base'!B47=TRUE,1,0)+IF('Set de base'!B62=TRUE,1,0)+IF('Set de base'!B92=TRUE,1,0)+IF('Set de base'!B104=TRUE,1,0)+IF('Set de base'!B114=TRUE,1,0) -> 0 | D29: =(IF('Set de base'!B23=TRUE,1,0)+IF('Set de base'!B47=TRUE,1,0)+IF('Set de base'!B62=TRUE,1,0)+IF('Set de base'!B92=TRUE,1,0)+IF('Set de base'!B104=TRUE,1,0)+IF('Set de base'!B114=TRUE,1,0))/6 -> 0
A30: Gabriele Minì | B30: 1 | C30: =IF('Set de base'!B123=TRUE,1,0) -> 0 | D30: =(IF('Set de base'!B123=TRUE,1,0))/1 -> 0
A31: George Russell | B31: 6 | C31: =IF('Set de base'!B8=TRUE,1,0)+IF('Set de base'!B32=TRUE,1,0)+IF('Set de base'!B55=TRUE,1,0)+IF('Set de base'!B67=TRUE,1,0)+IF('Set de base'!B77=TRUE,1,0)+IF('Set de base'!B99=TRUE,1,0) -> 0 | D31: =(IF('Set de base'!B8=TRUE,1,0)+IF('Set de base'!B32=TRUE,1,0)+IF('Set de base'!B55=TRUE,1,0)+IF('Set de base'!B67=TRUE,1,0)+IF('Set de base'!B77=TRUE,1,0)+IF('Set de base'!B99=TRUE,1,0))/6 -> 0
A32: Isack Hadjar | B32: 5 | C32: =IF('Set de base'!B11=TRUE,1,0)+IF('Set de base'!B35=TRUE,1,0)+IF('Set de base'!B56=TRUE,1,0)+IF('Set de base'!B80=TRUE,1,0)+IF('Set de base'!B110=TRUE,1,0) -> 0 | D32: =(IF('Set de base'!B11=TRUE,1,0)+IF('Set de base'!B35=TRUE,1,0)+IF('Set de base'!B56=TRUE,1,0)+IF('Set de base'!B80=TRUE,1,0)+IF('Set de base'!B110=TRUE,1,0))/5 -> 0
A33: Kimi Antonelli | B33: 7 | C33: =IF('Set de base'!B9=TRUE,1,0)+IF('Set de base'!B33=TRUE,1,0)+IF('Set de base'!B55=TRUE,1,0)+IF('Set de base'!B68=TRUE,1,0)+IF('Set de base'!B78=TRUE,1,0)+IF('Set de base'!B100=TRUE,1,0)+IF('Set de base'!B109=TRUE,1,0) -> 0 | D33: =(IF('Set de base'!B9=TRUE,1,0)+IF('Set de base'!B33=TRUE,1,0)+IF('Set de base'!B55=TRUE,1,0)+IF('Set de base'!B68=TRUE,1,0)+IF('Set de base'!B78=TRUE,1,0)+IF('Set de base'!B100=TRUE,1,0)+IF('Set de base'!B109=TRUE,1,0))/7 -> 0
A34: Lance Stroll | B34: 4 | C34: =IF('Set de base'!B19=TRUE,1,0)+IF('Set de base'!B43=TRUE,1,0)+IF('Set de base'!B60=TRUE,1,0)+IF('Set de base'!B88=TRUE,1,0) -> 0 | D34: =(IF('Set de base'!B19=TRUE,1,0)+IF('Set de base'!B43=TRUE,1,0)+IF('Set de base'!B60=TRUE,1,0)+IF('Set de base'!B88=TRUE,1,0))/4 -> 0
A35: Lando Norris | B35: 4 | C35: =IF('Set de base'!B6=TRUE,1,0)+IF('Set de base'!B30=TRUE,1,0)+IF('Set de base'!B54=TRUE,1,0)+IF('Set de base'!B75=TRUE,1,0) -> 0 | D35: =(IF('Set de base'!B6=TRUE,1,0)+IF('Set de base'!B30=TRUE,1,0)+IF('Set de base'!B54=TRUE,1,0)+IF('Set de base'!B75=TRUE,1,0))/4 -> 0
A36: Lewis Hamilton | B36: 6 | C36: =IF('Set de base'!B13=TRUE,1,0)+IF('Set de base'!B37=TRUE,1,0)+IF('Set de base'!B57=TRUE,1,0)+IF('Set de base'!B70=TRUE,1,0)+IF('Set de base'!B82=TRUE,1,0)+IF('Set de base'!B103=TRUE,1,0) -> 0 | D36: =(IF('Set de base'!B13=TRUE,1,0)+IF('Set de base'!B37=TRUE,1,0)+IF('Set de base'!B57=TRUE,1,0)+IF('Set de base'!B70=TRUE,1,0)+IF('Set de base'!B82=TRUE,1,0)+IF('Set de base'!B103=TRUE,1,0))/6 -> 0
A37: Liam Lawson | B37: 6 | C37: =IF('Set de base'!B24=TRUE,1,0)+IF('Set de base'!B48=TRUE,1,0)+IF('Set de base'!B63=TRUE,1,0)+IF('Set de base'!B93=TRUE,1,0)+IF('Set de base'!B105=TRUE,1,0)+IF('Set de base'!B115=TRUE,1,0) -> 0 | D37: =(IF('Set de base'!B24=TRUE,1,0)+IF('Set de base'!B48=TRUE,1,0)+IF('Set de base'!B63=TRUE,1,0)+IF('Set de base'!B93=TRUE,1,0)+IF('Set de base'!B105=TRUE,1,0)+IF('Set de base'!B115=TRUE,1,0))/6 -> 0
A38: Max Verstappen | B38: 5 | C38: =IF('Set de base'!B10=TRUE,1,0)+IF('Set de base'!B34=TRUE,1,0)+IF('Set de base'!B56=TRUE,1,0)+IF('Set de base'!B79=TRUE,1,0)+IF('Set de base'!B101=TRUE,1,0) -> 0 | D38: =(IF('Set de base'!B10=TRUE,1,0)+IF('Set de base'!B34=TRUE,1,0)+IF('Set de base'!B56=TRUE,1,0)+IF('Set de base'!B79=TRUE,1,0)+IF('Set de base'!B101=TRUE,1,0))/5 -> 0
A39: Nico Hülkenberg | B39: 5 | C39: =IF('Set de base'!B22=TRUE,1,0)+IF('Set de base'!B46=TRUE,1,0)+IF('Set de base'!B62=TRUE,1,0)+IF('Set de base'!B91=TRUE,1,0)+IF('Set de base'!B113=TRUE,1,0) -> 0 | D39: =(IF('Set de base'!B22=TRUE,1,0)+IF('Set de base'!B46=TRUE,1,0)+IF('Set de base'!B62=TRUE,1,0)+IF('Set de base'!B91=TRUE,1,0)+IF('Set de base'!B113=TRUE,1,0))/5 -> 0
A40: Nikola Tsolov | B40: 1 | C40: =IF('Set de base'!B122=TRUE,1,0) -> 0 | D40: =(IF('Set de base'!B122=TRUE,1,0))/1 -> 0
A41: Oliver Bearman | B41: 6 | C41: =IF('Set de base'!B21=TRUE,1,0)+IF('Set de base'!B45=TRUE,1,0)+IF('Set de base'!B61=TRUE,1,0)+IF('Set de base'!B71=TRUE,1,0)+IF('Set de base'!B90=TRUE,1,0)+IF('Set de base'!B112=TRUE,1,0) -> 0 | D41: =(IF('Set de base'!B21=TRUE,1,0)+IF('Set de base'!B45=TRUE,1,0)+IF('Set de base'!B61=TRUE,1,0)+IF('Set de base'!B71=TRUE,1,0)+IF('Set de base'!B90=TRUE,1,0)+IF('Set de base'!B112=TRUE,1,0))/6 -> 0
A42: Oscar Piastri | B42: 4 | C42: =IF('Set de base'!B7=TRUE,1,0)+IF('Set de base'!B31=TRUE,1,0)+IF('Set de base'!B54=TRUE,1,0)+IF('Set de base'!B76=TRUE,1,0) -> 0 | D42: =(IF('Set de base'!B7=TRUE,1,0)+IF('Set de base'!B31=TRUE,1,0)+IF('Set de base'!B54=TRUE,1,0)+IF('Set de base'!B76=TRUE,1,0))/4 -> 0
A43: Pierre Gasly | B43: 4 | C43: =IF('Set de base'!B16=TRUE,1,0)+IF('Set de base'!B40=TRUE,1,0)+IF('Set de base'!B59=TRUE,1,0)+IF('Set de base'!B85=TRUE,1,0) -> 0 | D43: =(IF('Set de base'!B16=TRUE,1,0)+IF('Set de base'!B40=TRUE,1,0)+IF('Set de base'!B59=TRUE,1,0)+IF('Set de base'!B85=TRUE,1,0))/4 -> 0
A44: Rafael Câmara | B44: 1 | C44: =IF('Set de base'!B121=TRUE,1,0) -> 0 | D44: =(IF('Set de base'!B121=TRUE,1,0))/1 -> 0
A45: Sebastián Montoya | B45: 1 | C45: =IF('Set de base'!B124=TRUE,1,0) -> 0 | D45: =(IF('Set de base'!B124=TRUE,1,0))/1 -> 0
...

Sheet Set de base
A1: Topps Lights Out F1 2026 — Set de base
A2: Suivi de collection — checklist complète
A3: Cochez les cartes possédées. Utilisez les boutons − / + à gauche pour replier ou déplier chaque subset.
A4: Carte | B4: Standard | C4: Green /99 | D4: Purple /75 | E4: Gold /50 | F4: Orange /25 | G4: Black /10 | H4: Red /5 | I4: Silver Framed /5 | J4: Foilfractor /1 | K4: Gold Framed /1 | L4: Progression
A5: LIGHTS OUT · 22 cartes | L5: =COUNTIF(B6:K27,TRUE)/220 -> 0
A6: Lando Norris | B6: FALSE | C6: FALSE | D6: FALSE | E6: FALSE | F6: FALSE | G6: FALSE | H6: FALSE | I6: FALSE | J6: FALSE | K6: FALSE | L6: =COUNTIF(B6:K6,TRUE)/10 -> 0
A7: Oscar Piastri | B7: FALSE | C7: FALSE | D7: FALSE | E7: FALSE | F7: FALSE | G7: FALSE | H7: FALSE | I7: FALSE | J7: FALSE | K7: FALSE | L7: =COUNTIF(B7:K7,TRUE)/10 -> 0
A8: George Russell | B8: FALSE | C8: FALSE | D8: FALSE | E8: FALSE | F8: FALSE | G8: FALSE | H8: FALSE | I8: FALSE | J8: FALSE | K8: FALSE | L8: =COUNTIF(B8:K8,TRUE)/10 -> 0
A9: Kimi Antonelli | B9: FALSE | C9: FALSE | D9: FALSE | E9: FALSE | F9: FALSE | G9: FALSE | H9: FALSE | I9: FALSE | J9: FALSE | K9: FALSE | L9: =COUNTIF(B9:K9,TRUE)/10 -> 0
A10: Max Verstappen | B10: FALSE | C10: FALSE | D10: FALSE | E10: FALSE | F10: FALSE | G10: FALSE | H10: FALSE | I10: FALSE | J10: FALSE | K10: FALSE | L10: =COUNTIF(B10:K10,TRUE)/10 -> 0
A11: Isack Hadjar | B11: FALSE | C11: FALSE | D11: FALSE | E11: FALSE | F11: FALSE | G11: FALSE | H11: FALSE | I11: FALSE | J11: FALSE | K11: FALSE | L11: =COUNTIF(B11:K11,TRUE)/10 -> 0
A12: Charles Leclerc | B12: FALSE | C12: FALSE | D12: FALSE | E12: FALSE | F12: FALSE | G12: FALSE | H12: FALSE | I12: FALSE | J12: FALSE | K12: FALSE | L12: =COUNTIF(B12:K12,TRUE)/10 -> 0
A13: Lewis Hamilton | B13: FALSE | C13: FALSE | D13: FALSE | E13: FALSE | F13: FALSE | G13: FALSE | H13: FALSE | I13: FALSE | J13: FALSE | K13: FALSE | L13: =COUNTIF(B13:K13,TRUE)/10 -> 0
A14: Alexander Albon | B14: FALSE | C14: FALSE | D14: FALSE | E14: FALSE | F14: FALSE | G14: FALSE | H14: FALSE | I14: FALSE | J14: FALSE | K14: FALSE | L14: =COUNTIF(B14:K14,TRUE)/10 -> 0
A15: Carlos Sainz | B15: FALSE | C15: FALSE | D15: FALSE | E15: FALSE | F15: FALSE | G15: FALSE | H15: FALSE | I15: FALSE | J15: FALSE | K15: FALSE | L15: =COUNTIF(B15:K15,TRUE)/10 -> 0
A16: Pierre Gasly | B16: FALSE | C16: FALSE | D16: FALSE | E16: FALSE | F16: FALSE | G16: FALSE | H16: FALSE | I16: FALSE | J16: FALSE | K16: FALSE | L16: =COUNTIF(B16:K16,TRUE)/10 -> 0
A17: Franco Colapinto | B17: FALSE | C17: FALSE | D17: FALSE | E17: FALSE | F17: FALSE | G17: FALSE | H17: FALSE | I17: FALSE | J17: FALSE | K17: FALSE | L17: =COUNTIF(B17:K17,TRUE)/10 -> 0
... A27: Valtteri Bottas | B27: FALSE | C27: FALSE | D27: FALSE | E27: FALSE | F27: FALSE | G27: FALSE | H27: FALSE | I27: FALSE | J27: FALSE | K27: FALSE | L27: =COUNTIF(B27:K27,TRUE)/10 -> 0
A29: NERO · 22 cartes | L29: =COUNTIF(B30:K51,TRUE)/220 -> 0
A30: Lando Norris | B30: FALSE | C30: FALSE | D30: FALSE | E30: FALSE | F30: FALSE | G30: FALSE | H30: FALSE | I30: FALSE | J30: FALSE | K30: FALSE | L30: =COUNTIF(B30:K30,TRUE)/10 -> 0
A31: Oscar Piastri | B31: FALSE | C31: FALSE | D31: FALSE | E31: FALSE | F31: FALSE | G31: FALSE | H31: FALSE | I31: FALSE | J31: FALSE | K31: FALSE | L31: =COUNTIF(B31:K31,TRUE)/10 -> 0
A32: George Russell | B32: FALSE | C32: FALSE | D32: FALSE | E32: FALSE | F32: FALSE | G32: FALSE | H32: FALSE | I32: FALSE | J32: FALSE | K32: FALSE | L32: =COUNTIF(B32:K32,TRUE)/10 -> 0
A33: Kimi Antonelli | B33: FALSE | C33: FALSE | D33: FALSE | E33: FALSE | F33: FALSE | G33: FALSE | H33: FALSE | I33: FALSE | J33: FALSE | K33: FALSE | L33: =COUNTIF(B33:K33,TRUE)/10 -> 0
A34: Max Verstappen | B34: FALSE | C34: FALSE | D34: FALSE | E34: FALSE | F34: FALSE | G34: FALSE | H34: FALSE | I34: FALSE | J34: FALSE | K34: FALSE | L34: =COUNTIF(B34:K34,TRUE)/10 -> 0
A35: Isack Hadjar | B35: FALSE | C35: FALSE | D35: FALSE | E35: FALSE | F35: FALSE | G35: FALSE | H35: FALSE | I35: FALSE | J35: FALSE | K35: FALSE | L35: =COUNTIF(B35:K35,TRUE)/10 -> 0
A36: Charles Leclerc | B36: FALSE | C36: FALSE | D36: FALSE | E36: FALSE | F36: FALSE | G36: FALSE | H36: FALSE | I36: FALSE | J36: FALSE | K36: FALSE | L36: =COUNTIF(B36:K36,TRUE)/10 -> 0
A37: Lewis Hamilton | B37: FALSE | C37: FALSE | D37: FALSE | E37: FALSE | F37: FALSE | G37: FALSE | H37: FALSE | I37: FALSE | J37: FALSE | K37: FALSE | L37: =COUNTIF(B37:K37,TRUE)/10 -> 0
A38: Alexander Albon | B38: FALSE | C38: FALSE | D38: FALSE | E38: FALSE | F38: FALSE | G38: FALSE | H38: FALSE | I38: FALSE | J38: FALSE | K38: FALSE | L38: =COUNTIF(B38:K38,TRUE)/10 -> 0
A39: Carlos Sainz | B39: FALSE | C39: FALSE | D39: FALSE | E39: FALSE | F39: FALSE | G39: FALSE | H39: FALSE | I39: FALSE | J39: FALSE | K39: FALSE | L39: =COUNTIF(B39:K39,TRUE)/10 -> 0
A40: Pierre Gasly | B40: FALSE | C40: FALSE | D40: FALSE | E40: FALSE | F40: FALSE | G40: FALSE | H40: FALSE | I40: FALSE | J40: FALSE | K40: FALSE | L40: =COUNTIF(B40:K40,TRUE)/10 -> 0
A41: Franco Colapinto | B41: FALSE | C41: FALSE | D41: FALSE | E41: FALSE | F41: FALSE | G41: FALSE | H41: FALSE | I41: FALSE | J41: FALSE | K41: FALSE | L41: =COUNTIF(B41:K41,TRUE)/10 -> 0
... A51: Valtteri Bottas | B51: FALSE | C51: FALSE | D51: FALSE | E51: FALSE | F51: FALSE | G51: FALSE | H51: FALSE | I51: FALSE | J51: FALSE | K51: FALSE | L51: =COUNTIF(B51:K51,TRUE)/10 -> 0
A53: POWERTRAIN · 11 cartes | L53: =COUNTIF(B54:K64,TRUE)/110 -> 0
A54: McLaren Mastercard F1 Team — Andrea Stella / Lando Norris / Oscar Piastri | B54: FALSE | C54: FALSE | D54: FALSE | E54: FALSE | F54: FALSE | G54: FALSE | H54: FALSE | I54: FALSE | J54: FALSE | K54: FALSE | L54: =COUNTIF(B54:K54,TRUE)/10 -> 0
A55: Mercedes-AMG Petronas Formula One Team — Toto Wolff / George Russell / Kimi Antonelli | B55: FALSE | C55: FALSE | D55: FALSE | E55: FALSE | F55: FALSE | G55: FALSE | H55: FALSE | I55: FALSE | J55: FALSE | K55: FALSE | L55: =COUNTIF(B55:K55,TRUE)/10 -> 0
A56: Oracle Red Bull Racing — Laurent Mekies / Max Verstappen / Isack Hadjar | B56: FALSE | C56: FALSE | D56: FALSE | E56: FALSE | F56: FALSE | G56: FALSE | H56: FALSE | I56: FALSE | J56: FALSE | K56: FALSE | L56: =COUNTIF(B56:K56,TRUE)/10 -> 0
A57: Scuderia Ferrari HP — Frédéric Vasseur / Charles Leclerc / Lewis Hamilton | B57: FALSE | C57: FALSE | D57: FALSE | E57: FALSE | F57: FALSE | G57: FALSE | H57: FALSE | I57: FALSE | J57: FALSE | K57: FALSE | L57: =COUNTIF(B57:K57,TRUE)/10 -> 0
A58: Atlassian Williams F1 Team — James Vowles / Alexander Albon / Carlos Sainz | B58: FALSE | C58: FALSE | D58: FALSE | E58: FALSE | F58: FALSE | G58: FALSE | H58: FALSE | I58: FALSE | J58: FALSE | K58: FALSE | L58: =COUNTIF(B58:K58,TRUE)/10 -> 0
A59: BWT Alpine Formula One Team — Steve Nielsen / Pierre Gasly / Franco Colapinto | B59: FALSE | C59: FALSE | D59: FALSE | E59: FALSE | F59: FALSE | G59: FALSE | H59: FALSE | I59: FALSE | J59: FALSE | K59: FALSE | L59: =COUNTIF(B59:K59,TRUE)/10 -> 0
A60: Aston Martin Aramco Formula One Team — Adrian Newey / Fernando Alonso / Lance Stroll | B60: FALSE | C60: FALSE | D60: FALSE | E60: FALSE | F60: FALSE | G60: FALSE | H60: FALSE | I60: FALSE | J60: FALSE | K60: FALSE | L60: =COUNTIF(B60:K60,TRUE)/10 -> 0
...

Sheet Autographes
A1: Topps Lights Out F1 2026 — Autographes
A2: Suivi de collection — checklist complète
A3: Cochez les cartes possédées. Utilisez les boutons − / + à gauche pour replier ou déplier chaque subset.
A4: Carte | B4: Standard | C4: Gold /50 | D4: Orange /25 | E4: Black /10 | F4: Red /5 | G4: Silver Framed /5 | H4: Foilfractor /1 | I4: Gold Framed /1 | J4: Progression
A5: LIGHTS OUT · 12 cartes | J5: =COUNTIF(B6:I17,TRUE)/96 -> 0
A6: Lando Norris | B6: FALSE | C6: FALSE | D6: FALSE | E6: FALSE | F6: FALSE | G6: FALSE | H6: FALSE | I6: FALSE | J6: =COUNTIF(B6:I6,TRUE)/8 -> 0
A7: Oscar Piastri | B7: FALSE | C7: FALSE | D7: FALSE | E7: FALSE | F7: FALSE | G7: FALSE | H7: FALSE | I7: FALSE | J7: =COUNTIF(B7:I7,TRUE)/8 -> 0
A8: George Russell | B8: FALSE | C8: FALSE | D8: FALSE | E8: FALSE | F8: FALSE | G8: FALSE | H8: FALSE | I8: FALSE | J8: =COUNTIF(B8:I8,TRUE)/8 -> 0
A9: Max Verstappen | B9: FALSE | C9: FALSE | D9: FALSE | E9: FALSE | F9: FALSE | G9: FALSE | H9: FALSE | I9: FALSE | J9: =COUNTIF(B9:I9,TRUE)/8 -> 0
A10: Isack Hadjar | B10: FALSE | C10: FALSE | D10: FALSE | E10: FALSE | F10: FALSE | G10: FALSE | H10: FALSE | I10: FALSE | J10: =COUNTIF(B10:I10,TRUE)/8 -> 0
A11: Lewis Hamilton | B11: FALSE | C11: FALSE | D11: FALSE | E11: FALSE | F11: FALSE | G11: FALSE | H11: FALSE | I11: FALSE | J11: =COUNTIF(B11:I11,TRUE)/8 -> 0
A12: Alexander Albon | B12: FALSE | C12: FALSE | D12: FALSE | E12: FALSE | F12: FALSE | G12: FALSE | H12: FALSE | I12: FALSE | J12: =COUNTIF(B12:I12,TRUE)/8 -> 0
A13: Franco Colapinto | B13: FALSE | C13: FALSE | D13: FALSE | E13: FALSE | F13: FALSE | G13: FALSE | H13: FALSE | I13: FALSE | J13: =COUNTIF(B13:I13,TRUE)/8 -> 0
A14: Lance Stroll | B14: FALSE | C14: FALSE | D14: FALSE | E14: FALSE | F14: FALSE | G14: FALSE | H14: FALSE | I14: FALSE | J14: =COUNTIF(B14:I14,TRUE)/8 -> 0
A15: Esteban Ocon | B15: FALSE | C15: FALSE | D15: FALSE | E15: FALSE | F15: FALSE | G15: FALSE | H15: FALSE | I15: FALSE | J15: =COUNTIF(B15:I15,TRUE)/8 -> 0
A16: Nico Hülkenberg | B16: FALSE | C16: FALSE | D16: FALSE | E16: FALSE | F16: FALSE | G16: FALSE | H16: FALSE | I16: FALSE | J16: =COUNTIF(B16:I16,TRUE)/8 -> 0
A17: Sergio Pérez | B17: FALSE | C17: FALSE | D17: FALSE | E17: FALSE | F17: FALSE | G17: FALSE | H17: FALSE | I17: FALSE | J17: =COUNTIF(B17:I17,TRUE)/8 -> 0
A19: NERO · 9 cartes | J19: =COUNTIF(B20:I28,TRUE)/72 -> 0
A20: Lando Norris | B20: FALSE | C20: FALSE | D20: FALSE | E20: FALSE | F20: FALSE | G20: FALSE | H20: FALSE | I20: FALSE | J20: =COUNTIF(B20:I20,TRUE)/8 -> 0
A21: Oscar Piastri | B21: FALSE | C21: FALSE | D21: FALSE | E21: FALSE | F21: FALSE | G21: FALSE | H21: FALSE | I21: FALSE | J21: =COUNTIF(B21:I21,TRUE)/8 -> 0
A22: Max Verstappen | B22: FALSE | C22: FALSE | D22: FALSE | E22: FALSE | F22: FALSE | G22: FALSE | H22: FALSE | I22: FALSE | J22: =COUNTIF(B22:I22,TRUE)/8 -> 0
A23: Isack Hadjar | B23: FALSE | C23: FALSE | D23: FALSE | E23: FALSE | F23: FALSE | G23: FALSE | H23: FALSE | I23: FALSE | J23: =COUNTIF(B23:I23,TRUE)/8 -> 0
A24: Carlos Sainz | B24: FALSE | C24: FALSE | D24: FALSE | E24: FALSE | F24: FALSE | G24: FALSE | H24: FALSE | I24: FALSE | J24: =COUNTIF(B24:I24,TRUE)/8 -> 0
A25: Pierre Gasly | B25: FALSE | C25: FALSE | D25: FALSE | E25: FALSE | F25: FALSE | G25: FALSE | H25: FALSE | I25: FALSE | J25: =COUNTIF(B25:I25,TRUE)/8 -> 0
A26: Fernando Alonso | B26: FALSE | C26: FALSE | D26: FALSE | E26: FALSE | F26: FALSE | G26: FALSE | H26: FALSE | I26: FALSE | J26: =COUNTIF(B26:I26,TRUE)/8 -> 0
A27: Gabriel Bortoleto | B27: FALSE | C27: FALSE | D27: FALSE | E27: FALSE | F27: FALSE | G27: FALSE | H27: FALSE | I27: FALSE | J27: =COUNTIF(B27:I27,TRUE)/8 -> 0
A28: Valtteri Bottas | B28: FALSE | C28: FALSE | D28: FALSE | E28: FALSE | F28: FALSE | G28: FALSE | H28: FALSE | I28: FALSE | J28: =COUNTIF(B28:I28,TRUE)/8 -> 0
A30: IGNITE · 4 cartes | J30: =COUNTIF(B31:I34,TRUE)/32 -> 0
A31: Kimi Antonelli | B31: FALSE | C31: FALSE | D31: FALSE | E31: FALSE | F31: FALSE | G31: FALSE | H31: FALSE | I31: FALSE | J31: =COUNTIF(B31:I31,TRUE)/8 -> 0
A32: Oliver Bearman | B32: FALSE | C32: FALSE | D32: FALSE | E32: FALSE | F32: FALSE | G32: FALSE | H32: FALSE | I32: FALSE | J32: =COUNTIF(B32:I32,TRUE)/8 -> 0
A33: Arvid Lindblad (RC) | B33: FALSE | C33: FALSE | D33: FALSE | E33: FALSE | F33: FALSE | G33: FALSE | H33: FALSE | I33: FALSE | J33: =COUNTIF(B33:I33,TRUE)/8 -> 0
A34: Sergio Pérez | B34: FALSE | C34: FALSE | D34: FALSE | E34: FALSE | F34: FALSE | G34: FALSE | H34: FALSE | I34: FALSE | J34: =COUNTIF(B34:I34,TRUE)/8 -> 0
A36: ON CARD AUTOGRAPH · 1 carte | J36: =COUNTIF(B37:I37,TRUE)/2 -> 0
A37: Alain Prost | B37: FALSE | H37: FALSE | J37: =COUNTIF(B37:I37,TRUE)/2 -> 0
A39: CARTES AUTOGRAPHIéES F2 & F3 · 47 cartes | J39: =COUNTIF(B40:I86,TRUE)/376 -> 0
A40: Rafael Câmara | B40: FALSE | C40: FALSE | D40: FALSE | E40: FALSE | F40: FALSE | G40: FALSE | H40: FALSE | I40: FALSE | J40: =COUNTIF(B40:I40,TRUE)/8 -> 0
A41: Joshua Dürksen | B41: FALSE | C41: FALSE | D41: FALSE | E41: FALSE | F41: FALSE | G41: FALSE | H41: FALSE | I41: FALSE | J41: =COUNTIF(B41:I41,TRUE)/8 -> 0
A42: Ritomo Miyata | B42: FALSE | C42: FALSE | D42: FALSE | E42: FALSE | F42: FALSE | G42: FALSE | H42: FALSE | I42: FALSE | J42: =COUNTIF(B42:I42,TRUE)/8 -> 0
A43: Colton Herta | B43: FALSE | C43: FALSE | D43: FALSE | E43: FALSE | F43: FALSE | G43: FALSE | H43: FALSE | I43: FALSE | J43: =COUNTIF(B43:I43,TRUE)/8 -> 0
A44: Noel León | B44: FALSE | C44: FALSE | D44: FALSE | E44: FALSE | F44: FALSE | G44: FALSE | H44: FALSE | I44: FALSE | J44: =COUNTIF(B44:I44,TRUE)/8 -> 0
...
