Workbook

Sheet Aperçu
A1: Topps Lights Out F1 2025
A2: Tracker de collection — checklist complète
A4: SET DE BASE (versions Standard) | C4: CARTES STANDARDS (tous les onglets) | E4: PARALLÈLES (variantes) | G4: COLLECTION TOTALE
A5: =(COUNTIF('Set de base'!B6:B71,TRUE))/56 -> 0 | C5: =(COUNTIF('Set de base'!B6:B71,TRUE)+COUNTIF('Autographes'!B6:B37,TRUE))/82 -> 0 | E5: =(COUNTIF('Set de base'!C6:I71,TRUE)+COUNTIF('Autographes'!C6:I37,TRUE))/574 -> 0 | G5: =(COUNTIF('Set de base'!B6:I71,TRUE)+COUNTIF('Autographes'!B6:I37,TRUE))/656 -> 0
A7: =(COUNTIF('Set de base'!B6:B71,TRUE))&" / 56" -> 0 / 56 | C7: =(COUNTIF('Set de base'!B6:B71,TRUE)+COUNTIF('Autographes'!B6:B37,TRUE))&" / 82" -> 0 / 82 | E7: =(COUNTIF('Set de base'!C6:I71,TRUE)+COUNTIF('Autographes'!C6:I37,TRUE))&" / 574" -> 0 / 574 | G7: =(COUNTIF('Set de base'!B6:I71,TRUE)+COUNTIF('Autographes'!B6:I37,TRUE))&" / 656" -> 0 / 656
A8: Set de base = versions Standard de l’onglet « Set de base » • Cartes Standards = version principale non parallèle lorsqu’elle existe, tous onglets confondus.
A10: Progression par onglet
A11: Onglet | B11: Versions | C11: Possédées | D11: Progression
A12: Set de base | B12: 448 | C12: =COUNTIF('Set de base'!B6:I71,TRUE) -> 0 | D12: =(COUNTIF('Set de base'!B6:I71,TRUE))/448 -> 0
A13: Autographes | B13: 208 | C13: =COUNTIF('Autographes'!B6:I37,TRUE) -> 0 | D13: =(COUNTIF('Autographes'!B6:I37,TRUE))/208 -> 0
A16: Cartes de base par pilote
A17: Pilote | B17: Cartes de base | C17: Possédées | D17: Progression
A18: Alex Albon | B18: 1 | C18: =IF('Set de base'!B6=TRUE,1,0) -> 0 | D18: =(IF('Set de base'!B6=TRUE,1,0))/1 -> 0
A19: Alexander Albon | B19: 1 | C19: =IF('Set de base'!B44=TRUE,1,0) -> 0 | D19: =(IF('Set de base'!B44=TRUE,1,0))/1 -> 0
A20: Alexander Dunne | B20: 1 | C20: =IF('Set de base'!B66=TRUE,1,0) -> 0 | D20: =(IF('Set de base'!B66=TRUE,1,0))/1 -> 0
A21: Carlos Sainz | B21: 3 | C21: =IF('Set de base'!B7=TRUE,1,0)+IF('Set de base'!B28=TRUE,1,0)+IF('Set de base'!B44=TRUE,1,0) -> 0 | D21: =(IF('Set de base'!B7=TRUE,1,0)+IF('Set de base'!B28=TRUE,1,0)+IF('Set de base'!B44=TRUE,1,0))/3 -> 0
A22: Charles Leclerc | B22: 3 | C22: =IF('Set de base'!B8=TRUE,1,0)+IF('Set de base'!B43=TRUE,1,0)+IF('Set de base'!B60=TRUE,1,0) -> 0 | D22: =(IF('Set de base'!B8=TRUE,1,0)+IF('Set de base'!B43=TRUE,1,0)+IF('Set de base'!B60=TRUE,1,0))/3 -> 0
A23: Esteban Ocon | B23: 2 | C23: =IF('Set de base'!B9=TRUE,1,0)+IF('Set de base'!B47=TRUE,1,0) -> 0 | D23: =(IF('Set de base'!B9=TRUE,1,0)+IF('Set de base'!B47=TRUE,1,0))/2 -> 0
A24: Fernando Alonso | B24: 4 | C24: =IF('Set de base'!B10=TRUE,1,0)+IF('Set de base'!B29=TRUE,1,0)+IF('Set de base'!B46=TRUE,1,0)+IF('Set de base'!B61=TRUE,1,0) -> 0 | D24: =(IF('Set de base'!B10=TRUE,1,0)+IF('Set de base'!B29=TRUE,1,0)+IF('Set de base'!B46=TRUE,1,0)+IF('Set de base'!B61=TRUE,1,0))/4 -> 0
A25: Franco Colapinto | B25: 3 | C25: =IF('Set de base'!B11=TRUE,1,0)+IF('Set de base'!B45=TRUE,1,0)+IF('Set de base'!B52=TRUE,1,0) -> 0 | D25: =(IF('Set de base'!B11=TRUE,1,0)+IF('Set de base'!B45=TRUE,1,0)+IF('Set de base'!B52=TRUE,1,0))/3 -> 0
A26: Gabriel Bortoleto | B26: 3 | C26: =IF('Set de base'!B12=TRUE,1,0)+IF('Set de base'!B48=TRUE,1,0)+IF('Set de base'!B53=TRUE,1,0) -> 0 | D26: =(IF('Set de base'!B12=TRUE,1,0)+IF('Set de base'!B48=TRUE,1,0)+IF('Set de base'!B53=TRUE,1,0))/3 -> 0
A27: Gabriele Minì | B27: 1 | C27: =IF('Set de base'!B67=TRUE,1,0) -> 0 | D27: =(IF('Set de base'!B67=TRUE,1,0))/1 -> 0
A28: George Russell | B28: 3 | C28: =IF('Set de base'!B13=TRUE,1,0)+IF('Set de base'!B30=TRUE,1,0)+IF('Set de base'!B41=TRUE,1,0) -> 0 | D28: =(IF('Set de base'!B13=TRUE,1,0)+IF('Set de base'!B30=TRUE,1,0)+IF('Set de base'!B41=TRUE,1,0))/3 -> 0
A29: Isack Hadjar | B29: 3 | C29: =IF('Set de base'!B14=TRUE,1,0)+IF('Set de base'!B49=TRUE,1,0)+IF('Set de base'!B54=TRUE,1,0) -> 0 | D29: =(IF('Set de base'!B14=TRUE,1,0)+IF('Set de base'!B49=TRUE,1,0)+IF('Set de base'!B54=TRUE,1,0))/3 -> 0
A30: Josep María Martí | B30: 1 | C30: =IF('Set de base'!B68=TRUE,1,0) -> 0 | D30: =(IF('Set de base'!B68=TRUE,1,0))/1 -> 0
A31: Kimi Antonelli | B31: 4 | C31: =IF('Set de base'!B15=TRUE,1,0)+IF('Set de base'!B41=TRUE,1,0)+IF('Set de base'!B55=TRUE,1,0)+IF('Set de base'!B62=TRUE,1,0) -> 0 | D31: =(IF('Set de base'!B15=TRUE,1,0)+IF('Set de base'!B41=TRUE,1,0)+IF('Set de base'!B55=TRUE,1,0)+IF('Set de base'!B62=TRUE,1,0))/4 -> 0
A32: Lance Stroll | B32: 2 | C32: =IF('Set de base'!B16=TRUE,1,0)+IF('Set de base'!B46=TRUE,1,0) -> 0 | D32: =(IF('Set de base'!B16=TRUE,1,0)+IF('Set de base'!B46=TRUE,1,0))/2 -> 0
A33: Lando Norris | B33: 3 | C33: =IF('Set de base'!B17=TRUE,1,0)+IF('Set de base'!B31=TRUE,1,0)+IF('Set de base'!B40=TRUE,1,0) -> 0 | D33: =(IF('Set de base'!B17=TRUE,1,0)+IF('Set de base'!B31=TRUE,1,0)+IF('Set de base'!B40=TRUE,1,0))/3 -> 0
A34: Leonardo Fornaroli | B34: 1 | C34: =IF('Set de base'!B69=TRUE,1,0) -> 0 | D34: =(IF('Set de base'!B69=TRUE,1,0))/1 -> 0
A35: Lewis Hamilton | B35: 3 | C35: =IF('Set de base'!B18=TRUE,1,0)+IF('Set de base'!B32=TRUE,1,0)+IF('Set de base'!B43=TRUE,1,0) -> 0 | D35: =(IF('Set de base'!B18=TRUE,1,0)+IF('Set de base'!B32=TRUE,1,0)+IF('Set de base'!B43=TRUE,1,0))/3 -> 0
A36: Liam Lawson | B36: 4 | C36: =IF('Set de base'!B19=TRUE,1,0)+IF('Set de base'!B33=TRUE,1,0)+IF('Set de base'!B49=TRUE,1,0)+IF('Set de base'!B56=TRUE,1,0) -> 0 | D36: =(IF('Set de base'!B19=TRUE,1,0)+IF('Set de base'!B33=TRUE,1,0)+IF('Set de base'!B49=TRUE,1,0)+IF('Set de base'!B56=TRUE,1,0))/4 -> 0
A37: Max Verstappen | B37: 4 | C37: =IF('Set de base'!B20=TRUE,1,0)+IF('Set de base'!B34=TRUE,1,0)+IF('Set de base'!B42=TRUE,1,0)+IF('Set de base'!B63=TRUE,1,0) -> 0 | D37: =(IF('Set de base'!B20=TRUE,1,0)+IF('Set de base'!B34=TRUE,1,0)+IF('Set de base'!B42=TRUE,1,0)+IF('Set de base'!B63=TRUE,1,0))/4 -> 0
A38: Nico Hülkenberg | B38: 3 | C38: =IF('Set de base'!B21=TRUE,1,0)+IF('Set de base'!B35=TRUE,1,0)+IF('Set de base'!B48=TRUE,1,0) -> 0 | D38: =(IF('Set de base'!B21=TRUE,1,0)+IF('Set de base'!B35=TRUE,1,0)+IF('Set de base'!B48=TRUE,1,0))/3 -> 0
A39: Oliver Bearman | B39: 4 | C39: =IF('Set de base'!B22=TRUE,1,0)+IF('Set de base'!B36=TRUE,1,0)+IF('Set de base'!B47=TRUE,1,0)+IF('Set de base'!B57=TRUE,1,0) -> 0 | D39: =(IF('Set de base'!B22=TRUE,1,0)+IF('Set de base'!B36=TRUE,1,0)+IF('Set de base'!B47=TRUE,1,0)+IF('Set de base'!B57=TRUE,1,0))/4 -> 0
A40: Oscar Piastri | B40: 2 | C40: =IF('Set de base'!B23=TRUE,1,0)+IF('Set de base'!B40=TRUE,1,0) -> 0 | D40: =(IF('Set de base'!B23=TRUE,1,0)+IF('Set de base'!B40=TRUE,1,0))/2 -> 0
A41: Pierre Gasly | B41: 3 | C41: =IF('Set de base'!B24=TRUE,1,0)+IF('Set de base'!B37=TRUE,1,0)+IF('Set de base'!B45=TRUE,1,0) -> 0 | D41: =(IF('Set de base'!B24=TRUE,1,0)+IF('Set de base'!B37=TRUE,1,0)+IF('Set de base'!B45=TRUE,1,0))/3 -> 0
A42: Richard Verschoor | B42: 1 | C42: =IF('Set de base'!B70=TRUE,1,0) -> 0 | D42: =(IF('Set de base'!B70=TRUE,1,0))/1 -> 0
A43: Victor Martins | B43: 1 | C43: =IF('Set de base'!B71=TRUE,1,0) -> 0 | D43: =(IF('Set de base'!B71=TRUE,1,0))/1 -> 0
A44: Yuki Tsunoda | B44: 2 | C44: =IF('Set de base'!B25=TRUE,1,0)+IF('Set de base'!B42=TRUE,1,0) -> 0 | D44: =(IF('Set de base'!B25=TRUE,1,0)+IF('Set de base'!B42=TRUE,1,0))/2 -> 0

Sheet Set de base
A1: Topps Lights Out F1 2025 — Set de base
A2: Suivi de collection — checklist complète
A3: Cochez les cartes possédées. Utilisez les boutons − / + à gauche pour replier ou déplier chaque subset.
A4: Carte | B4: Standard | C4: Blue /99 | D4: Green /75 | E4: Purple /49 | F4: Orange /25 | G4: Black /10 | H4: Red /5 | I4: Gold Framed /1 | J4: Progression
A5: LIGHTS OUT · 20 cartes | J5: =COUNTIF(B6:I25,TRUE)/160 -> 0
A6: Alex Albon | B6: FALSE | C6: FALSE | D6: FALSE | E6: FALSE | F6: FALSE | G6: FALSE | H6: FALSE | I6: FALSE | J6: =COUNTIF(B6:I6,TRUE)/8 -> 0
A7: Carlos Sainz | B7: FALSE | C7: FALSE | D7: FALSE | E7: FALSE | F7: FALSE | G7: FALSE | H7: FALSE | I7: FALSE | J7: =COUNTIF(B7:I7,TRUE)/8 -> 0
A8: Charles Leclerc | B8: FALSE | C8: FALSE | D8: FALSE | E8: FALSE | F8: FALSE | G8: FALSE | H8: FALSE | I8: FALSE | J8: =COUNTIF(B8:I8,TRUE)/8 -> 0
A9: Esteban Ocon | B9: FALSE | C9: FALSE | D9: FALSE | E9: FALSE | F9: FALSE | G9: FALSE | H9: FALSE | I9: FALSE | J9: =COUNTIF(B9:I9,TRUE)/8 -> 0
A10: Fernando Alonso | B10: FALSE | C10: FALSE | D10: FALSE | E10: FALSE | F10: FALSE | G10: FALSE | H10: FALSE | I10: FALSE | J10: =COUNTIF(B10:I10,TRUE)/8 -> 0
A11: Franco Colapinto | B11: FALSE | C11: FALSE | D11: FALSE | E11: FALSE | F11: FALSE | G11: FALSE | H11: FALSE | I11: FALSE | J11: =COUNTIF(B11:I11,TRUE)/8 -> 0
A12: Gabriel Bortoleto (RC) | B12: FALSE | C12: FALSE | D12: FALSE | E12: FALSE | F12: FALSE | G12: FALSE | H12: FALSE | I12: FALSE | J12: =COUNTIF(B12:I12,TRUE)/8 -> 0
A13: George Russell | B13: FALSE | C13: FALSE | D13: FALSE | E13: FALSE | F13: FALSE | G13: FALSE | H13: FALSE | I13: FALSE | J13: =COUNTIF(B13:I13,TRUE)/8 -> 0
A14: Isack Hadjar (RC) | B14: FALSE | C14: FALSE | D14: FALSE | E14: FALSE | F14: FALSE | G14: FALSE | H14: FALSE | I14: FALSE | J14: =COUNTIF(B14:I14,TRUE)/8 -> 0
A15: Kimi Antonelli (RC) | B15: FALSE | C15: FALSE | D15: FALSE | E15: FALSE | F15: FALSE | G15: FALSE | H15: FALSE | I15: FALSE | J15: =COUNTIF(B15:I15,TRUE)/8 -> 0
A16: Lance Stroll | B16: FALSE | C16: FALSE | D16: FALSE | E16: FALSE | F16: FALSE | G16: FALSE | H16: FALSE | I16: FALSE | J16: =COUNTIF(B16:I16,TRUE)/8 -> 0
A17: Lando Norris | B17: FALSE | C17: FALSE | D17: FALSE | E17: FALSE | F17: FALSE | G17: FALSE | H17: FALSE | I17: FALSE | J17: =COUNTIF(B17:I17,TRUE)/8 -> 0
... A25: Yuki Tsunoda | B25: FALSE | C25: FALSE | D25: FALSE | E25: FALSE | F25: FALSE | G25: FALSE | H25: FALSE | I25: FALSE | J25: =COUNTIF(B25:I25,TRUE)/8 -> 0
A27: NERO · 10 cartes | J27: =COUNTIF(B28:I37,TRUE)/80 -> 0
A28: Carlos Sainz | B28: FALSE | C28: FALSE | D28: FALSE | E28: FALSE | F28: FALSE | G28: FALSE | H28: FALSE | I28: FALSE | J28: =COUNTIF(B28:I28,TRUE)/8 -> 0
A29: Fernando Alonso | B29: FALSE | C29: FALSE | D29: FALSE | E29: FALSE | F29: FALSE | G29: FALSE | H29: FALSE | I29: FALSE | J29: =COUNTIF(B29:I29,TRUE)/8 -> 0
A30: George Russell | B30: FALSE | C30: FALSE | D30: FALSE | E30: FALSE | F30: FALSE | G30: FALSE | H30: FALSE | I30: FALSE | J30: =COUNTIF(B30:I30,TRUE)/8 -> 0
A31: Lando Norris | B31: FALSE | C31: FALSE | D31: FALSE | E31: FALSE | F31: FALSE | G31: FALSE | H31: FALSE | I31: FALSE | J31: =COUNTIF(B31:I31,TRUE)/8 -> 0
A32: Lewis Hamilton | B32: FALSE | C32: FALSE | D32: FALSE | E32: FALSE | F32: FALSE | G32: FALSE | H32: FALSE | I32: FALSE | J32: =COUNTIF(B32:I32,TRUE)/8 -> 0
A33: Liam Lawson | B33: FALSE | C33: FALSE | D33: FALSE | E33: FALSE | F33: FALSE | G33: FALSE | H33: FALSE | I33: FALSE | J33: =COUNTIF(B33:I33,TRUE)/8 -> 0
A34: Max Verstappen | B34: FALSE | C34: FALSE | D34: FALSE | E34: FALSE | F34: FALSE | G34: FALSE | H34: FALSE | I34: FALSE | J34: =COUNTIF(B34:I34,TRUE)/8 -> 0
A35: Nico Hülkenberg | B35: FALSE | C35: FALSE | D35: FALSE | E35: FALSE | F35: FALSE | G35: FALSE | H35: FALSE | I35: FALSE | J35: =COUNTIF(B35:I35,TRUE)/8 -> 0
A36: Oliver Bearman (RC) | B36: FALSE | C36: FALSE | D36: FALSE | E36: FALSE | F36: FALSE | G36: FALSE | H36: FALSE | I36: FALSE | J36: =COUNTIF(B36:I36,TRUE)/8 -> 0
A37: Pierre Gasly | B37: FALSE | C37: FALSE | D37: FALSE | E37: FALSE | F37: FALSE | G37: FALSE | H37: FALSE | I37: FALSE | J37: =COUNTIF(B37:I37,TRUE)/8 -> 0
A39: TEAM · 10 cartes | J39: =COUNTIF(B40:I49,TRUE)/80 -> 0
A40: McLaren Mastercard F1 Team — Andrea Stella / Lando Norris / Oscar Piastri | B40: FALSE | C40: FALSE | D40: FALSE | E40: FALSE | F40: FALSE | G40: FALSE | H40: FALSE | I40: FALSE | J40: =COUNTIF(B40:I40,TRUE)/8 -> 0
A41: Mercedes-AMG Petronas Formula One Team — Toto Wolff / George Russell / Kimi Antonelli (RC) | B41: FALSE | C41: FALSE | D41: FALSE | E41: FALSE | F41: FALSE | G41: FALSE | H41: FALSE | I41: FALSE | J41: =COUNTIF(B41:I41,TRUE)/8 -> 0
A42: Oracle Red Bull Racing — Laurent Mekies / Max Verstappen / Yuki Tsunoda | B42: FALSE | C42: FALSE | D42: FALSE | E42: FALSE | F42: FALSE | G42: FALSE | H42: FALSE | I42: FALSE | J42: =COUNTIF(B42:I42,TRUE)/8 -> 0
A43: Scuderia Ferrari HP — Frédéric Vasseur / Charles Leclerc / Lewis Hamilton | B43: FALSE | C43: FALSE | D43: FALSE | E43: FALSE | F43: FALSE | G43: FALSE | H43: FALSE | I43: FALSE | J43: =COUNTIF(B43:I43,TRUE)/8 -> 0
A44: Atlassian Williams F1 Team — James Vowles / Alexander Albon / Carlos Sainz | B44: FALSE | C44: FALSE | D44: FALSE | E44: FALSE | F44: FALSE | G44: FALSE | H44: FALSE | I44: FALSE | J44: =COUNTIF(B44:I44,TRUE)/8 -> 0
A45: BWT Alpine Formula One Team — Flavio Briatore / Pierre Gasly / Franco Colapinto | B45: FALSE | C45: FALSE | D45: FALSE | E45: FALSE | F45: FALSE | G45: FALSE | H45: FALSE | I45: FALSE | J45: =COUNTIF(B45:I45,TRUE)/8 -> 0
A46: Aston Martin Aramco Formula One Team — Andy Cowell / Fernando Alonso / Lance Stroll | B46: FALSE | C46: FALSE | D46: FALSE | E46: FALSE | F46: FALSE | G46: FALSE | H46: FALSE | I46: FALSE | J46: =COUNTIF(B46:I46,TRUE)/8 -> 0
A47: TGR Haas F1 Team — Ayao Komatsu / Esteban Ocon / Oliver Bearman (RC) | B47: FALSE | C47: FALSE | D47: FALSE | E47: FALSE | F47: FALSE | G47: FALSE | H47: FALSE | I47: FALSE | J47: =COUNTIF(B47:I47,TRUE)/8 -> 0
A48: Kick Sauber F1 Team — Jonathan Wheatley / Nico Hülkenberg / Gabriel Bortoleto (RC) | B48: FALSE | C48: FALSE | D48: FALSE | E48: FALSE | F48: FALSE | G48: FALSE | H48: FALSE | I48: FALSE | J48: =COUNTIF(B48:I48,TRUE)/8 -> 0
A49: Visa Cash App Racing Bulls Formula One Team — Alan Permane / Liam Lawson / Isack Hadjar (RC) | B49: FALSE | C49: FALSE | D49: FALSE | E49: FALSE | F49: FALSE | G49: FALSE | H49: FALSE | I49: FALSE | J49: =COUNTIF(B49:I49,TRUE)/8 -> 0
A51: BRIGHT FUTURE · 6 cartes | J51: =COUNTIF(B52:I57,TRUE)/48 -> 0
A52: Franco Colapinto | B52: FALSE | C52: FALSE | D52: FALSE | E52: FALSE | F52: FALSE | G52: FALSE | H52: FALSE | I52: FALSE | J52: =COUNTIF(B52:I52,TRUE)/8 -> 0
A53: Gabriel Bortoleto (RC) | B53: FALSE | C53: FALSE | D53: FALSE | E53: FALSE | F53: FALSE | G53: FALSE | H53: FALSE | I53: FALSE | J53: =COUNTIF(B53:I53,TRUE)/8 -> 0
A54: Isack Hadjar (RC) | B54: FALSE | C54: FALSE | D54: FALSE | E54: FALSE | F54: FALSE | G54: FALSE | H54: FALSE | I54: FALSE | J54: =COUNTIF(B54:I54,TRUE)/8 -> 0
A55: Kimi Antonelli (RC) | B55: FALSE | C55: FALSE | D55: FALSE | E55: FALSE | F55: FALSE | G55: FALSE | H55: FALSE | I55: FALSE | J55: =COUNTIF(B55:I55,TRUE)/8 -> 0
A56: Liam Lawson | B56: FALSE | C56: FALSE | D56: FALSE | E56: FALSE | F56: FALSE | G56: FALSE | H56: FALSE | I56: FALSE | J56: =COUNTIF(B56:I56,TRUE)/8 -> 0
A57: Oliver Bearman (RC) | B57: FALSE | C57: FALSE | D57: FALSE | E57: FALSE | F57: FALSE | G57: FALSE | H57: FALSE | I57: FALSE | J57: =COUNTIF(B57:I57,TRUE)/8 -> 0
A59: RECORDS · 4 cartes | J59: =COUNTIF(B60:I63,TRUE)/32 -> 0
A60: Charles Leclerc | B60: FALSE | C60: FALSE | D60: FALSE | E60: FALSE | F60: FALSE | G60: FALSE | H60: FALSE | I60: FALSE | J60: =COUNTIF(B60:I60,TRUE)/8 -> 0
A61: Fernando Alonso | B61: FALSE | C61: FALSE | D61: FALSE | E61: FALSE | F61: FALSE | G61: FALSE | H61: FALSE | I61: FALSE | J61: =COUNTIF(B61:I61,TRUE)/8 -> 0
A62: Kimi Antonelli (RC) | B62: FALSE | C62: FALSE | D62: FALSE | E62: FALSE | F62: FALSE | G62: FALSE | H62: FALSE | I62: FALSE | J62: =COUNTIF(B62:I62,TRUE)/8 -> 0
A63: Max Verstappen | B63: FALSE | C63: FALSE | D63: FALSE | E63: FALSE | F63: FALSE | G63: FALSE | H63: FALSE | I63: FALSE | J63: =COUNTIF(B63:I63,TRUE)/8 -> 0
A65: NEXT GEN · 6 cartes | J65: =COUNTIF(B66:I71,TRUE)/48 -> 0
A66: Alexander Dunne | B66: FALSE | C66: FALSE | D66: FALSE | E66: FALSE | F66: FALSE | G66: FALSE | H66: FALSE | I66: FALSE | J66: =COUNTIF(B66:I66,TRUE)/8 -> 0
A67: Gabriele Minì | B67: FALSE | C67: FALSE | D67: FALSE | E67: FALSE | F67: FALSE | G67: FALSE | H67: FALSE | I67: FALSE | J67: =COUNTIF(B67:I67,TRUE)/8 -> 0
A68: Josep María Martí | B68: FALSE | C68: FALSE | D68: FALSE | E68: FALSE | F68: FALSE | G68: FALSE | H68: FALSE | I68: FALSE | J68: =COUNTIF(B68:I68,TRUE)/8 -> 0
A69: Leonardo Fornaroli | B69: FALSE | C69: FALSE | D69: FALSE | E69: FALSE | F69: FALSE | G69: FALSE | H69: FALSE | I69: FALSE | J69: =COUNTIF(B69:I69,TRUE)/8 -> 0
A70: Richard Verschoor | B70: FALSE | C70: FALSE | D70: FALSE | E70: FALSE | F70: FALSE | G70: FALSE | H70: FALSE | I70: FALSE | J70: =COUNTIF(B70:I70,TRUE)/8 -> 0
A71: Victor Martins | B71: FALSE | C71: FALSE | D71: FALSE | E71: FALSE | F71: FALSE | G71: FALSE | H71: FALSE | I71: FALSE | J71: =COUNTIF(B71:I71,TRUE)/8 -> 0

Sheet Autographes
A1: Topps Lights Out F1 2025 — Autographes
A2: Suivi de collection — checklist complète
A3: Cochez les cartes possédées. Utilisez les boutons − / + à gauche pour replier ou déplier chaque subset.
A4: Carte | B4: Standard | C4: Blue /99 | D4: Green /75 | E4: Purple /49 | F4: Orange /25 | G4: Black /10 | H4: Red /5 | I4: Gold Framed /1 | J4: Progression
A5: LIGHTS OUT · 12 cartes | J5: =COUNTIF(B6:I17,TRUE)/96 -> 0
A6: Esteban Ocon | B6: FALSE | C6: FALSE | D6: FALSE | E6: FALSE | F6: FALSE | G6: FALSE | H6: FALSE | I6: FALSE | J6: =COUNTIF(B6:I6,TRUE)/8 -> 0
A7: Franco Colapinto | B7: FALSE | C7: FALSE | D7: FALSE | E7: FALSE | F7: FALSE | G7: FALSE | H7: FALSE | I7: FALSE | J7: =COUNTIF(B7:I7,TRUE)/8 -> 0
A8: George Russell | B8: FALSE | C8: FALSE | D8: FALSE | E8: FALSE | F8: FALSE | G8: FALSE | H8: FALSE | I8: FALSE | J8: =COUNTIF(B8:I8,TRUE)/8 -> 0
A9: Isack Hadjar (RC) | B9: FALSE | C9: FALSE | D9: FALSE | E9: FALSE | F9: FALSE | G9: FALSE | H9: FALSE | I9: FALSE | J9: =COUNTIF(B9:I9,TRUE)/8 -> 0
A10: Kimi Antonelli (RC) | B10: FALSE | C10: FALSE | D10: FALSE | E10: FALSE | F10: FALSE | G10: FALSE | H10: FALSE | I10: FALSE | J10: =COUNTIF(B10:I10,TRUE)/8 -> 0
A11: Lance Stroll | B11: FALSE | C11: FALSE | D11: FALSE | E11: FALSE | F11: FALSE | G11: FALSE | H11: FALSE | I11: FALSE | J11: =COUNTIF(B11:I11,TRUE)/8 -> 0
A12: Lando Norris | B12: FALSE | C12: FALSE | D12: FALSE | E12: FALSE | F12: FALSE | G12: FALSE | H12: FALSE | I12: FALSE | J12: =COUNTIF(B12:I12,TRUE)/8 -> 0
A13: Lewis Hamilton | B13: FALSE | C13: FALSE | D13: FALSE | E13: FALSE | F13: FALSE | G13: FALSE | H13: FALSE | I13: FALSE | J13: =COUNTIF(B13:I13,TRUE)/8 -> 0
A14: Oliver Bearman (RC) | B14: FALSE | C14: FALSE | D14: FALSE | E14: FALSE | F14: FALSE | G14: FALSE | H14: FALSE | I14: FALSE | J14: =COUNTIF(B14:I14,TRUE)/8 -> 0
A15: Oscar Piastri | B15: FALSE | C15: FALSE | D15: FALSE | E15: FALSE | F15: FALSE | G15: FALSE | H15: FALSE | I15: FALSE | J15: =COUNTIF(B15:I15,TRUE)/8 -> 0
A16: Pierre Gasly | B16: FALSE | C16: FALSE | D16: FALSE | E16: FALSE | F16: FALSE | G16: FALSE | H16: FALSE | I16: FALSE | J16: =COUNTIF(B16:I16,TRUE)/8 -> 0
A17: Yuki Tsunoda | B17: FALSE | C17: FALSE | D17: FALSE | E17: FALSE | F17: FALSE | G17: FALSE | H17: FALSE | I17: FALSE | J17: =COUNTIF(B17:I17,TRUE)/8 -> 0
A19: NERO · 5 cartes | J19: =COUNTIF(B20:I24,TRUE)/40 -> 0
A20: George Russell | B20: FALSE | C20: FALSE | D20: FALSE | E20: FALSE | F20: FALSE | G20: FALSE | H20: FALSE | I20: FALSE | J20: =COUNTIF(B20:I20,TRUE)/8 -> 0
A21: Lando Norris | B21: FALSE | C21: FALSE | D21: FALSE | E21: FALSE | F21: FALSE | G21: FALSE | H21: FALSE | I21: FALSE | J21: =COUNTIF(B21:I21,TRUE)/8 -> 0
A22: Lewis Hamilton | B22: FALSE | C22: FALSE | D22: FALSE | E22: FALSE | F22: FALSE | G22: FALSE | H22: FALSE | I22: FALSE | J22: =COUNTIF(B22:I22,TRUE)/8 -> 0
A23: Oliver Bearman (RC) | B23: FALSE | C23: FALSE | D23: FALSE | E23: FALSE | F23: FALSE | G23: FALSE | H23: FALSE | I23: FALSE | J23: =COUNTIF(B23:I23,TRUE)/8 -> 0
A24: Pierre Gasly | B24: FALSE | C24: FALSE | D24: FALSE | E24: FALSE | F24: FALSE | G24: FALSE | H24: FALSE | I24: FALSE | J24: =COUNTIF(B24:I24,TRUE)/8 -> 0
A26: BRIGHT FUTURE · 3 cartes | J26: =COUNTIF(B27:I29,TRUE)/24 -> 0
A27: Isack Hadjar (RC) | B27: FALSE | C27: FALSE | D27: FALSE | E27: FALSE | F27: FALSE | G27: FALSE | H27: FALSE | I27: FALSE | J27: =COUNTIF(B27:I27,TRUE)/8 -> 0
A28: Kimi Antonelli (RC) | B28: FALSE | C28: FALSE | D28: FALSE | E28: FALSE | F28: FALSE | G28: FALSE | H28: FALSE | I28: FALSE | J28: =COUNTIF(B28:I28,TRUE)/8 -> 0
A29: Oliver Bearman (RC) | B29: FALSE | C29: FALSE | D29: FALSE | E29: FALSE | F29: FALSE | G29: FALSE | H29: FALSE | I29: FALSE | J29: =COUNTIF(B29:I29,TRUE)/8 -> 0
A31: NEXT GEN · 6 cartes | J31: =COUNTIF(B32:I37,TRUE)/48 -> 0
A32: Alexander Dunne | B32: FALSE | C32: FALSE | D32: FALSE | E32: FALSE | F32: FALSE | G32: FALSE | H32: FALSE | I32: FALSE | J32: =COUNTIF(B32:I32,TRUE)/8 -> 0
A33: Gabriele Minì | B33: FALSE | C33: FALSE | D33: FALSE | E33: FALSE | F33: FALSE | G33: FALSE | H33: FALSE | I33: FALSE | J33: =COUNTIF(B33:I33,TRUE)/8 -> 0
A34: Josep María Martí | B34: FALSE | C34: FALSE | D34: FALSE | E34: FALSE | F34: FALSE | G34: FALSE | H34: FALSE | I34: FALSE | J34: =COUNTIF(B34:I34,TRUE)/8 -> 0
A35: Leonardo Fornaroli | B35: FALSE | C35: FALSE | D35: FALSE | E35: FALSE | F35: FALSE | G35: FALSE | H35: FALSE | I35: FALSE | J35: =COUNTIF(B35:I35,TRUE)/8 -> 0
A36: Richard Verschoor | B36: FALSE | C36: FALSE | D36: FALSE | E36: FALSE | F36: FALSE | G36: FALSE | H36: FALSE | I36: FALSE | J36: =COUNTIF(B36:I36,TRUE)/8 -> 0
A37: Victor Martins | B37: FALSE | C37: FALSE | D37: FALSE | E37: FALSE | F37: FALSE | G37: FALSE | H37: FALSE | I37: FALSE | J37: =COUNTIF(B37:I37,TRUE)/8 -> 0
