Workbook

Sheet Aperçu
A1: Topps Lights Out F1 2022
A2: Tracker de collection — checklist complète
A4: SET DE BASE (versions Standard) | C4: CARTES STANDARDS (tous les onglets) | E4: PARALLÈLES (variantes) | G4: COLLECTION TOTALE
A5: =(COUNTIF('Set de base'!B6:B75,TRUE))/60 -> 0 | C5: =(COUNTIF('Set de base'!B6:B75,TRUE))/60 -> 0 | E5: =(COUNTIF('Set de base'!C6:K75,TRUE))/540 -> 0 | G5: =(COUNTIF('Set de base'!B6:K75,TRUE))/600 -> 0
A7: =(COUNTIF('Set de base'!B6:B75,TRUE))&" / 60" -> 0 / 60 | C7: =(COUNTIF('Set de base'!B6:B75,TRUE))&" / 60" -> 0 / 60 | E7: =(COUNTIF('Set de base'!C6:K75,TRUE))&" / 540" -> 0 / 540 | G7: =(COUNTIF('Set de base'!B6:K75,TRUE))&" / 600" -> 0 / 600
A8: Set de base = versions Standard de l’onglet « Set de base » • Cartes Standards = version principale non parallèle lorsqu’elle existe, tous onglets confondus.
A10: Progression par onglet
A11: Onglet | B11: Versions | C11: Possédées | D11: Progression
A12: Set de base | B12: 600 | C12: =COUNTIF('Set de base'!B6:K75,TRUE) -> 0 | D12: =(COUNTIF('Set de base'!B6:K75,TRUE))/600 -> 0
A15: Cartes de base par pilote
A16: Pilote | B16: Cartes de base | C16: Possédées | D16: Progression
A17: Alexander Albon | B17: 1 | C17: =IF('Set de base'!B24=TRUE,1,0) -> 0 | D17: =(IF('Set de base'!B24=TRUE,1,0))/1 -> 0
A18: Ayumu Iwasa | B18: 1 | C18: =IF('Set de base'!B33=TRUE,1,0) -> 0 | D18: =(IF('Set de base'!B33=TRUE,1,0))/1 -> 0
A19: Carlos Sainz | B19: 3 | C19: =IF('Set de base'!B9=TRUE,1,0)+IF('Set de base'!B43=TRUE,1,0)+IF('Set de base'!B69=TRUE,1,0) -> 0 | D19: =(IF('Set de base'!B9=TRUE,1,0)+IF('Set de base'!B43=TRUE,1,0)+IF('Set de base'!B69=TRUE,1,0))/3 -> 0
A20: Charles Leclerc | B20: 2 | C20: =IF('Set de base'!B8=TRUE,1,0)+IF('Set de base'!B42=TRUE,1,0) -> 0 | D20: =(IF('Set de base'!B8=TRUE,1,0)+IF('Set de base'!B42=TRUE,1,0))/2 -> 0
A21: Daniel Ricciardo | B21: 1 | C21: =IF('Set de base'!B13=TRUE,1,0) -> 0 | D21: =(IF('Set de base'!B13=TRUE,1,0))/1 -> 0
A22: Dennis Hauger | B22: 1 | C22: =IF('Set de base'!B35=TRUE,1,0) -> 0 | D22: =(IF('Set de base'!B35=TRUE,1,0))/1 -> 0
A23: Enzo Fittipaldi | B23: 1 | C23: =IF('Set de base'!B31=TRUE,1,0) -> 0 | D23: =(IF('Set de base'!B31=TRUE,1,0))/1 -> 0
A24: Esteban Ocon | B24: 1 | C24: =IF('Set de base'!B14=TRUE,1,0) -> 0 | D24: =(IF('Set de base'!B14=TRUE,1,0))/1 -> 0
A25: Felipe Drugovich | B25: 1 | C25: =IF('Set de base'!B26=TRUE,1,0) -> 0 | D25: =(IF('Set de base'!B26=TRUE,1,0))/1 -> 0
A26: Fernando Alonso | B26: 3 | C26: =IF('Set de base'!B15=TRUE,1,0)+IF('Set de base'!B45=TRUE,1,0)+IF('Set de base'!B66=TRUE,1,0) -> 0 | D26: =(IF('Set de base'!B15=TRUE,1,0)+IF('Set de base'!B45=TRUE,1,0)+IF('Set de base'!B66=TRUE,1,0))/3 -> 0
A27: Frederik Vesti | B27: 1 | C27: =IF('Set de base'!B28=TRUE,1,0) -> 0 | D27: =(IF('Set de base'!B28=TRUE,1,0))/1 -> 0
A28: George Russell | B28: 3 | C28: =IF('Set de base'!B11=TRUE,1,0)+IF('Set de base'!B41=TRUE,1,0)+IF('Set de base'!B70=TRUE,1,0) -> 0 | D28: =(IF('Set de base'!B11=TRUE,1,0)+IF('Set de base'!B41=TRUE,1,0)+IF('Set de base'!B70=TRUE,1,0))/3 -> 0
A29: Jack Doohan | B29: 1 | C29: =IF('Set de base'!B34=TRUE,1,0) -> 0 | D29: =(IF('Set de base'!B34=TRUE,1,0))/1 -> 0
A30: Jehan Daruvala | B30: 1 | C30: =IF('Set de base'!B32=TRUE,1,0) -> 0 | D30: =(IF('Set de base'!B32=TRUE,1,0))/1 -> 0
A31: Kevin Magnussen | B31: 2 | C31: =IF('Set de base'!B18=TRUE,1,0)+IF('Set de base'!B72=TRUE,1,0) -> 0 | D31: =(IF('Set de base'!B18=TRUE,1,0)+IF('Set de base'!B72=TRUE,1,0))/2 -> 0
A32: Lance Stroll | B32: 1 | C32: =IF('Set de base'!B23=TRUE,1,0) -> 0 | D32: =(IF('Set de base'!B23=TRUE,1,0))/1 -> 0
A33: Lando Norris | B33: 2 | C33: =IF('Set de base'!B12=TRUE,1,0)+IF('Set de base'!B44=TRUE,1,0) -> 0 | D33: =(IF('Set de base'!B12=TRUE,1,0)+IF('Set de base'!B44=TRUE,1,0))/2 -> 0
A34: Lewis Hamilton | B34: 3 | C34: =IF('Set de base'!B10=TRUE,1,0)+IF('Set de base'!B40=TRUE,1,0)+IF('Set de base'!B65=TRUE,1,0) -> 0 | D34: =(IF('Set de base'!B10=TRUE,1,0)+IF('Set de base'!B40=TRUE,1,0)+IF('Set de base'!B65=TRUE,1,0))/3 -> 0
A35: Liam Lawson | B35: 1 | C35: =IF('Set de base'!B30=TRUE,1,0) -> 0 | D35: =(IF('Set de base'!B30=TRUE,1,0))/1 -> 0
A36: Logan Sargeant | B36: 1 | C36: =IF('Set de base'!B29=TRUE,1,0) -> 0 | D36: =(IF('Set de base'!B29=TRUE,1,0))/1 -> 0
A37: Max Verstappen | B37: 3 | C37: =IF('Set de base'!B6=TRUE,1,0)+IF('Set de base'!B38=TRUE,1,0)+IF('Set de base'!B67=TRUE,1,0) -> 0 | D37: =(IF('Set de base'!B6=TRUE,1,0)+IF('Set de base'!B38=TRUE,1,0)+IF('Set de base'!B67=TRUE,1,0))/3 -> 0
A38: Mick Schumacher | B38: 2 | C38: =IF('Set de base'!B19=TRUE,1,0)+IF('Set de base'!B68=TRUE,1,0) -> 0 | D38: =(IF('Set de base'!B19=TRUE,1,0)+IF('Set de base'!B68=TRUE,1,0))/2 -> 0
A39: Nicholas Latifi | B39: 1 | C39: =IF('Set de base'!B25=TRUE,1,0) -> 0 | D39: =(IF('Set de base'!B25=TRUE,1,0))/1 -> 0
A40: Pierre Gasly | B40: 1 | C40: =IF('Set de base'!B20=TRUE,1,0) -> 0 | D40: =(IF('Set de base'!B20=TRUE,1,0))/1 -> 0
A41: Sebastian Vettel | B41: 3 | C41: =IF('Set de base'!B22=TRUE,1,0)+IF('Set de base'!B46=TRUE,1,0)+IF('Set de base'!B75=TRUE,1,0) -> 0 | D41: =(IF('Set de base'!B22=TRUE,1,0)+IF('Set de base'!B46=TRUE,1,0)+IF('Set de base'!B75=TRUE,1,0))/3 -> 0
A42: Sergio Pérez | B42: 3 | C42: =IF('Set de base'!B7=TRUE,1,0)+IF('Set de base'!B39=TRUE,1,0)+IF('Set de base'!B71=TRUE,1,0) -> 0 | D42: =(IF('Set de base'!B7=TRUE,1,0)+IF('Set de base'!B39=TRUE,1,0)+IF('Set de base'!B71=TRUE,1,0))/3 -> 0
A43: Théo Pourchaire | B43: 1 | C43: =IF('Set de base'!B27=TRUE,1,0) -> 0 | D43: =(IF('Set de base'!B27=TRUE,1,0))/1 -> 0
A44: Valtteri Bottas | B44: 1 | C44: =IF('Set de base'!B16=TRUE,1,0) -> 0 | D44: =(IF('Set de base'!B16=TRUE,1,0))/1 -> 0
A45: Yuki Tsunoda | B45: 1 | C45: =IF('Set de base'!B21=TRUE,1,0) -> 0 | D45: =(IF('Set de base'!B21=TRUE,1,0))/1 -> 0
...

Sheet Set de base
A1: Topps Lights Out F1 2022 — Set de base
A2: Suivi de collection — checklist complète
A3: Cochez les cartes possédées. Utilisez les boutons − / + à gauche pour replier ou déplier chaque subset.
A4: Carte | B4: Standard | C4: Pink /150 | D4: Teal /99 | E4: Bronze /75 | F4: Green /49 | G4: Blue /25 | H4: Purple /15 | I4: Red /10 | J4: Rainbow Foil /5 | K4: Gold Frame /1 | L4: Progression
A5: LIGHTS OUT · 30 cartes | L5: =COUNTIF(B6:K35,TRUE)/300 -> 0
A6: Max Verstappen | B6: FALSE | C6: FALSE | D6: FALSE | E6: FALSE | F6: FALSE | G6: FALSE | H6: FALSE | I6: FALSE | J6: FALSE | K6: FALSE | L6: =COUNTIF(B6:K6,TRUE)/10 -> 0
A7: Sergio Pérez | B7: FALSE | C7: FALSE | D7: FALSE | E7: FALSE | F7: FALSE | G7: FALSE | H7: FALSE | I7: FALSE | J7: FALSE | K7: FALSE | L7: =COUNTIF(B7:K7,TRUE)/10 -> 0
A8: Charles Leclerc | B8: FALSE | C8: FALSE | D8: FALSE | E8: FALSE | F8: FALSE | G8: FALSE | H8: FALSE | I8: FALSE | J8: FALSE | K8: FALSE | L8: =COUNTIF(B8:K8,TRUE)/10 -> 0
A9: Carlos Sainz | B9: FALSE | C9: FALSE | D9: FALSE | E9: FALSE | F9: FALSE | G9: FALSE | H9: FALSE | I9: FALSE | J9: FALSE | K9: FALSE | L9: =COUNTIF(B9:K9,TRUE)/10 -> 0
A10: Lewis Hamilton | B10: FALSE | C10: FALSE | D10: FALSE | E10: FALSE | F10: FALSE | G10: FALSE | H10: FALSE | I10: FALSE | J10: FALSE | K10: FALSE | L10: =COUNTIF(B10:K10,TRUE)/10 -> 0
A11: George Russell | B11: FALSE | C11: FALSE | D11: FALSE | E11: FALSE | F11: FALSE | G11: FALSE | H11: FALSE | I11: FALSE | J11: FALSE | K11: FALSE | L11: =COUNTIF(B11:K11,TRUE)/10 -> 0
A12: Lando Norris | B12: FALSE | C12: FALSE | D12: FALSE | E12: FALSE | F12: FALSE | G12: FALSE | H12: FALSE | I12: FALSE | J12: FALSE | K12: FALSE | L12: =COUNTIF(B12:K12,TRUE)/10 -> 0
A13: Daniel Ricciardo | B13: FALSE | C13: FALSE | D13: FALSE | E13: FALSE | F13: FALSE | G13: FALSE | H13: FALSE | I13: FALSE | J13: FALSE | K13: FALSE | L13: =COUNTIF(B13:K13,TRUE)/10 -> 0
A14: Esteban Ocon | B14: FALSE | C14: FALSE | D14: FALSE | E14: FALSE | F14: FALSE | G14: FALSE | H14: FALSE | I14: FALSE | J14: FALSE | K14: FALSE | L14: =COUNTIF(B14:K14,TRUE)/10 -> 0
A15: Fernando Alonso | B15: FALSE | C15: FALSE | D15: FALSE | E15: FALSE | F15: FALSE | G15: FALSE | H15: FALSE | I15: FALSE | J15: FALSE | K15: FALSE | L15: =COUNTIF(B15:K15,TRUE)/10 -> 0
A16: Valtteri Bottas | B16: FALSE | C16: FALSE | D16: FALSE | E16: FALSE | F16: FALSE | G16: FALSE | H16: FALSE | I16: FALSE | J16: FALSE | K16: FALSE | L16: =COUNTIF(B16:K16,TRUE)/10 -> 0
A17: Zhou Guanyu (RC) | B17: FALSE | C17: FALSE | D17: FALSE | E17: FALSE | F17: FALSE | G17: FALSE | H17: FALSE | I17: FALSE | J17: FALSE | K17: FALSE | L17: =COUNTIF(B17:K17,TRUE)/10 -> 0
... A35: Dennis Hauger | B35: FALSE | C35: FALSE | D35: FALSE | E35: FALSE | F35: FALSE | G35: FALSE | H35: FALSE | I35: FALSE | J35: FALSE | K35: FALSE | L35: =COUNTIF(B35:K35,TRUE)/10 -> 0
A37: NERO · 10 cartes | L37: =COUNTIF(B38:K47,TRUE)/100 -> 0
A38: Max Verstappen | B38: FALSE | C38: FALSE | D38: FALSE | E38: FALSE | F38: FALSE | G38: FALSE | H38: FALSE | I38: FALSE | J38: FALSE | K38: FALSE | L38: =COUNTIF(B38:K38,TRUE)/10 -> 0
A39: Sergio Pérez | B39: FALSE | C39: FALSE | D39: FALSE | E39: FALSE | F39: FALSE | G39: FALSE | H39: FALSE | I39: FALSE | J39: FALSE | K39: FALSE | L39: =COUNTIF(B39:K39,TRUE)/10 -> 0
A40: Lewis Hamilton | B40: FALSE | C40: FALSE | D40: FALSE | E40: FALSE | F40: FALSE | G40: FALSE | H40: FALSE | I40: FALSE | J40: FALSE | K40: FALSE | L40: =COUNTIF(B40:K40,TRUE)/10 -> 0
A41: George Russell | B41: FALSE | C41: FALSE | D41: FALSE | E41: FALSE | F41: FALSE | G41: FALSE | H41: FALSE | I41: FALSE | J41: FALSE | K41: FALSE | L41: =COUNTIF(B41:K41,TRUE)/10 -> 0
A42: Charles Leclerc | B42: FALSE | C42: FALSE | D42: FALSE | E42: FALSE | F42: FALSE | G42: FALSE | H42: FALSE | I42: FALSE | J42: FALSE | K42: FALSE | L42: =COUNTIF(B42:K42,TRUE)/10 -> 0
A43: Carlos Sainz | B43: FALSE | C43: FALSE | D43: FALSE | E43: FALSE | F43: FALSE | G43: FALSE | H43: FALSE | I43: FALSE | J43: FALSE | K43: FALSE | L43: =COUNTIF(B43:K43,TRUE)/10 -> 0
A44: Lando Norris | B44: FALSE | C44: FALSE | D44: FALSE | E44: FALSE | F44: FALSE | G44: FALSE | H44: FALSE | I44: FALSE | J44: FALSE | K44: FALSE | L44: =COUNTIF(B44:K44,TRUE)/10 -> 0
A45: Fernando Alonso | B45: FALSE | C45: FALSE | D45: FALSE | E45: FALSE | F45: FALSE | G45: FALSE | H45: FALSE | I45: FALSE | J45: FALSE | K45: FALSE | L45: =COUNTIF(B45:K45,TRUE)/10 -> 0
A46: Sebastian Vettel | B46: FALSE | C46: FALSE | D46: FALSE | E46: FALSE | F46: FALSE | G46: FALSE | H46: FALSE | I46: FALSE | J46: FALSE | K46: FALSE | L46: =COUNTIF(B46:K46,TRUE)/10 -> 0
A47: Zhou Guanyu (RC) | B47: FALSE | C47: FALSE | D47: FALSE | E47: FALSE | F47: FALSE | G47: FALSE | H47: FALSE | I47: FALSE | J47: FALSE | K47: FALSE | L47: =COUNTIF(B47:K47,TRUE)/10 -> 0
A49: POWERTRAIN · 10 cartes | L49: =COUNTIF(B50:K59,TRUE)/100 -> 0
A50: Mercedes-AMG Petronas Formula One Team | B50: FALSE | C50: FALSE | D50: FALSE | E50: FALSE | F50: FALSE | G50: FALSE | H50: FALSE | I50: FALSE | J50: FALSE | K50: FALSE | L50: =COUNTIF(B50:K50,TRUE)/10 -> 0
A51: Scuderia Ferrari | B51: FALSE | C51: FALSE | D51: FALSE | E51: FALSE | F51: FALSE | G51: FALSE | H51: FALSE | I51: FALSE | J51: FALSE | K51: FALSE | L51: =COUNTIF(B51:K51,TRUE)/10 -> 0
A52: Scuderia AlphaTauri | B52: FALSE | C52: FALSE | D52: FALSE | E52: FALSE | F52: FALSE | G52: FALSE | H52: FALSE | I52: FALSE | J52: FALSE | K52: FALSE | L52: =COUNTIF(B52:K52,TRUE)/10 -> 0
A53: McLaren F1 Team | B53: FALSE | C53: FALSE | D53: FALSE | E53: FALSE | F53: FALSE | G53: FALSE | H53: FALSE | I53: FALSE | J53: FALSE | K53: FALSE | L53: =COUNTIF(B53:K53,TRUE)/10 -> 0
A54: Red Bull Racing Honda | B54: FALSE | C54: FALSE | D54: FALSE | E54: FALSE | F54: FALSE | G54: FALSE | H54: FALSE | I54: FALSE | J54: FALSE | K54: FALSE | L54: =COUNTIF(B54:K54,TRUE)/10 -> 0
A55: Williams Racing | B55: FALSE | C55: FALSE | D55: FALSE | E55: FALSE | F55: FALSE | G55: FALSE | H55: FALSE | I55: FALSE | J55: FALSE | K55: FALSE | L55: =COUNTIF(B55:K55,TRUE)/10 -> 0
A56: Alpine F1 Team | B56: FALSE | C56: FALSE | D56: FALSE | E56: FALSE | F56: FALSE | G56: FALSE | H56: FALSE | I56: FALSE | J56: FALSE | K56: FALSE | L56: =COUNTIF(B56:K56,TRUE)/10 -> 0
A57: Aston Martin Cognizant Formula One Team | B57: FALSE | C57: FALSE | D57: FALSE | E57: FALSE | F57: FALSE | G57: FALSE | H57: FALSE | I57: FALSE | J57: FALSE | K57: FALSE | L57: =COUNTIF(B57:K57,TRUE)/10 -> 0
A58: Alfa Romeo Racing ORLEN | B58: FALSE | C58: FALSE | D58: FALSE | E58: FALSE | F58: FALSE | G58: FALSE | H58: FALSE | I58: FALSE | J58: FALSE | K58: FALSE | L58: =COUNTIF(B58:K58,TRUE)/10 -> 0
A59: Uralkali Haas F1 Team | B59: FALSE | C59: FALSE | D59: FALSE | E59: FALSE | F59: FALSE | G59: FALSE | H59: FALSE | I59: FALSE | J59: FALSE | K59: FALSE | L59: =COUNTIF(B59:K59,TRUE)/10 -> 0
...
