Workbook

Sheet Aperçu
A1: Topps Lights Out F1 2021
A2: Tracker de collection — checklist complète
A4: SET DE BASE (versions Standard) | C4: CARTES STANDARDS (tous les onglets) | E4: PARALLÈLES (variantes) | G4: COLLECTION TOTALE
A5: =(COUNTIF('Set de base'!B6:B53,TRUE))/40 -> 0 | C5: =(COUNTIF('Set de base'!B6:B53,TRUE))/40 -> 0 | E5: =(COUNTIF('Set de base'!C6:I53,TRUE))/280 -> 0 | G5: =(COUNTIF('Set de base'!B6:I53,TRUE))/320 -> 0
A7: =(COUNTIF('Set de base'!B6:B53,TRUE))&" / 40" -> 0 / 40 | C7: =(COUNTIF('Set de base'!B6:B53,TRUE))&" / 40" -> 0 / 40 | E7: =(COUNTIF('Set de base'!C6:I53,TRUE))&" / 280" -> 0 / 280 | G7: =(COUNTIF('Set de base'!B6:I53,TRUE))&" / 320" -> 0 / 320
A8: Set de base = versions Standard de l’onglet « Set de base » • Cartes Standards = version principale non parallèle lorsqu’elle existe, tous onglets confondus.
A10: Progression par onglet
A11: Onglet | B11: Versions | C11: Possédées | D11: Progression
A12: Set de base | B12: 320 | C12: =COUNTIF('Set de base'!B6:I53,TRUE) -> 0 | D12: =(COUNTIF('Set de base'!B6:I53,TRUE))/320 -> 0
A15: Cartes de base par pilote
A16: Pilote | B16: Cartes de base | C16: Possédées | D16: Progression
A17: Antonio Giovinazzi | B17: 1 | C17: =IF('Set de base'!B21=TRUE,1,0) -> 0 | D17: =(IF('Set de base'!B21=TRUE,1,0))/1 -> 0
A18: Carlos Sainz | B18: 1 | C18: =IF('Set de base'!B17=TRUE,1,0) -> 0 | D18: =(IF('Set de base'!B17=TRUE,1,0))/1 -> 0
A19: Charles Leclerc | B19: 1 | C19: =IF('Set de base'!B16=TRUE,1,0) -> 0 | D19: =(IF('Set de base'!B16=TRUE,1,0))/1 -> 0
A20: Daniel Ricciardo | B20: 1 | C20: =IF('Set de base'!B10=TRUE,1,0) -> 0 | D20: =(IF('Set de base'!B10=TRUE,1,0))/1 -> 0
A21: Esteban Ocon | B21: 1 | C21: =IF('Set de base'!B15=TRUE,1,0) -> 0 | D21: =(IF('Set de base'!B15=TRUE,1,0))/1 -> 0
A22: Fernando Alonso | B22: 2 | C22: =IF('Set de base'!B14=TRUE,1,0)+IF('Set de base'!B36=TRUE,1,0) -> 0 | D22: =(IF('Set de base'!B14=TRUE,1,0)+IF('Set de base'!B36=TRUE,1,0))/2 -> 0
A23: George Russell | B23: 1 | C23: =IF('Set de base'!B25=TRUE,1,0) -> 0 | D23: =(IF('Set de base'!B25=TRUE,1,0))/1 -> 0
A24: Kimi Räikkönen | B24: 3 | C24: =IF('Set de base'!B20=TRUE,1,0)+IF('Set de base'!B33=TRUE,1,0)+IF('Set de base'!B40=TRUE,1,0) -> 0 | D24: =(IF('Set de base'!B20=TRUE,1,0)+IF('Set de base'!B33=TRUE,1,0)+IF('Set de base'!B40=TRUE,1,0))/3 -> 0
A25: Lance Stroll | B25: 1 | C25: =IF('Set de base'!B13=TRUE,1,0) -> 0 | D25: =(IF('Set de base'!B13=TRUE,1,0))/1 -> 0
A26: Lando Norris | B26: 1 | C26: =IF('Set de base'!B11=TRUE,1,0) -> 0 | D26: =(IF('Set de base'!B11=TRUE,1,0))/1 -> 0
A27: Lewis Hamilton | B27: 3 | C27: =IF('Set de base'!B6=TRUE,1,0)+IF('Set de base'!B35=TRUE,1,0)+IF('Set de base'!B39=TRUE,1,0) -> 0 | D27: =(IF('Set de base'!B6=TRUE,1,0)+IF('Set de base'!B35=TRUE,1,0)+IF('Set de base'!B39=TRUE,1,0))/3 -> 0
A28: Max Verstappen | B28: 1 | C28: =IF('Set de base'!B9=TRUE,1,0) -> 0 | D28: =(IF('Set de base'!B9=TRUE,1,0))/1 -> 0
A29: Mick Schumacher | B29: 2 | C29: =IF('Set de base'!B23=TRUE,1,0)+IF('Set de base'!B29=TRUE,1,0) -> 0 | D29: =(IF('Set de base'!B23=TRUE,1,0)+IF('Set de base'!B29=TRUE,1,0))/2 -> 0
A30: Nicholas Latifi | B30: 1 | C30: =IF('Set de base'!B24=TRUE,1,0) -> 0 | D30: =(IF('Set de base'!B24=TRUE,1,0))/1 -> 0
A31: Nikita Mazepin | B31: 2 | C31: =IF('Set de base'!B22=TRUE,1,0)+IF('Set de base'!B28=TRUE,1,0) -> 0 | D31: =(IF('Set de base'!B22=TRUE,1,0)+IF('Set de base'!B28=TRUE,1,0))/2 -> 0
A32: Pierre Gasly | B32: 1 | C32: =IF('Set de base'!B18=TRUE,1,0) -> 0 | D32: =(IF('Set de base'!B18=TRUE,1,0))/1 -> 0
A33: Sebastian Vettel | B33: 2 | C33: =IF('Set de base'!B12=TRUE,1,0)+IF('Set de base'!B34=TRUE,1,0) -> 0 | D33: =(IF('Set de base'!B12=TRUE,1,0)+IF('Set de base'!B34=TRUE,1,0))/2 -> 0
A34: Sergio Pérez | B34: 1 | C34: =IF('Set de base'!B8=TRUE,1,0) -> 0 | D34: =(IF('Set de base'!B8=TRUE,1,0))/1 -> 0
A35: Valtteri Bottas | B35: 1 | C35: =IF('Set de base'!B7=TRUE,1,0) -> 0 | D35: =(IF('Set de base'!B7=TRUE,1,0))/1 -> 0
A36: Yuki Tsunoda | B36: 2 | C36: =IF('Set de base'!B19=TRUE,1,0)+IF('Set de base'!B30=TRUE,1,0) -> 0 | D36: =(IF('Set de base'!B19=TRUE,1,0)+IF('Set de base'!B30=TRUE,1,0))/2 -> 0

Sheet Set de base
A1: Topps Lights Out F1 2021 — Set de base
A2: Suivi de collection — checklist complète
A3: Cochez les cartes possédées. Utilisez les boutons − / + à gauche pour replier ou déplier chaque subset.
A4: Carte | B4: Standard | C4: Blue /99 | D4: Green /75 | E4: Aqua /50 | F4: Purple /25 | G4: Red /10 | H4: Rainbow Foil /5 | I4: Gold Frame /1 | J4: Progression
A5: LIGHTS OUT · 20 cartes | J5: =COUNTIF(B6:I25,TRUE)/160 -> 0
A6: Lewis Hamilton | B6: FALSE | C6: FALSE | D6: FALSE | E6: FALSE | F6: FALSE | G6: FALSE | H6: FALSE | I6: FALSE | J6: =COUNTIF(B6:I6,TRUE)/8 -> 0
A7: Valtteri Bottas | B7: FALSE | C7: FALSE | D7: FALSE | E7: FALSE | F7: FALSE | G7: FALSE | H7: FALSE | I7: FALSE | J7: =COUNTIF(B7:I7,TRUE)/8 -> 0
A8: Sergio Pérez | B8: FALSE | C8: FALSE | D8: FALSE | E8: FALSE | F8: FALSE | G8: FALSE | H8: FALSE | I8: FALSE | J8: =COUNTIF(B8:I8,TRUE)/8 -> 0
A9: Max Verstappen | B9: FALSE | C9: FALSE | D9: FALSE | E9: FALSE | F9: FALSE | G9: FALSE | H9: FALSE | I9: FALSE | J9: =COUNTIF(B9:I9,TRUE)/8 -> 0
A10: Daniel Ricciardo | B10: FALSE | C10: FALSE | D10: FALSE | E10: FALSE | F10: FALSE | G10: FALSE | H10: FALSE | I10: FALSE | J10: =COUNTIF(B10:I10,TRUE)/8 -> 0
A11: Lando Norris | B11: FALSE | C11: FALSE | D11: FALSE | E11: FALSE | F11: FALSE | G11: FALSE | H11: FALSE | I11: FALSE | J11: =COUNTIF(B11:I11,TRUE)/8 -> 0
A12: Sebastian Vettel | B12: FALSE | C12: FALSE | D12: FALSE | E12: FALSE | F12: FALSE | G12: FALSE | H12: FALSE | I12: FALSE | J12: =COUNTIF(B12:I12,TRUE)/8 -> 0
A13: Lance Stroll | B13: FALSE | C13: FALSE | D13: FALSE | E13: FALSE | F13: FALSE | G13: FALSE | H13: FALSE | I13: FALSE | J13: =COUNTIF(B13:I13,TRUE)/8 -> 0
A14: Fernando Alonso | B14: FALSE | C14: FALSE | D14: FALSE | E14: FALSE | F14: FALSE | G14: FALSE | H14: FALSE | I14: FALSE | J14: =COUNTIF(B14:I14,TRUE)/8 -> 0
A15: Esteban Ocon | B15: FALSE | C15: FALSE | D15: FALSE | E15: FALSE | F15: FALSE | G15: FALSE | H15: FALSE | I15: FALSE | J15: =COUNTIF(B15:I15,TRUE)/8 -> 0
A16: Charles Leclerc | B16: FALSE | C16: FALSE | D16: FALSE | E16: FALSE | F16: FALSE | G16: FALSE | H16: FALSE | I16: FALSE | J16: =COUNTIF(B16:I16,TRUE)/8 -> 0
A17: Carlos Sainz | B17: FALSE | C17: FALSE | D17: FALSE | E17: FALSE | F17: FALSE | G17: FALSE | H17: FALSE | I17: FALSE | J17: =COUNTIF(B17:I17,TRUE)/8 -> 0
... A25: George Russell | B25: FALSE | C25: FALSE | D25: FALSE | E25: FALSE | F25: FALSE | G25: FALSE | H25: FALSE | I25: FALSE | J25: =COUNTIF(B25:I25,TRUE)/8 -> 0
A27: ROOKIE RACE · 3 cartes | J27: =COUNTIF(B28:I30,TRUE)/24 -> 0
A28: Nikita Mazepin (RC) | B28: FALSE | C28: FALSE | D28: FALSE | E28: FALSE | F28: FALSE | G28: FALSE | H28: FALSE | I28: FALSE | J28: =COUNTIF(B28:I28,TRUE)/8 -> 0
A29: Mick Schumacher (RC) | B29: FALSE | C29: FALSE | D29: FALSE | E29: FALSE | F29: FALSE | G29: FALSE | H29: FALSE | I29: FALSE | J29: =COUNTIF(B29:I29,TRUE)/8 -> 0
A30: Yuki Tsunoda (RC) | B30: FALSE | C30: FALSE | D30: FALSE | E30: FALSE | F30: FALSE | G30: FALSE | H30: FALSE | I30: FALSE | J30: =COUNTIF(B30:I30,TRUE)/8 -> 0
A32: FIA FORMULA 1 DRIVERS’ WORLD CHAMPION · 4 cartes | J32: =COUNTIF(B33:I36,TRUE)/32 -> 0
A33: Kimi Räikkönen | B33: FALSE | C33: FALSE | D33: FALSE | E33: FALSE | F33: FALSE | G33: FALSE | H33: FALSE | I33: FALSE | J33: =COUNTIF(B33:I33,TRUE)/8 -> 0
A34: Sebastian Vettel | B34: FALSE | C34: FALSE | D34: FALSE | E34: FALSE | F34: FALSE | G34: FALSE | H34: FALSE | I34: FALSE | J34: =COUNTIF(B34:I34,TRUE)/8 -> 0
A35: Lewis Hamilton | B35: FALSE | C35: FALSE | D35: FALSE | E35: FALSE | F35: FALSE | G35: FALSE | H35: FALSE | I35: FALSE | J35: =COUNTIF(B35:I35,TRUE)/8 -> 0
A36: Fernando Alonso | B36: FALSE | C36: FALSE | D36: FALSE | E36: FALSE | F36: FALSE | G36: FALSE | H36: FALSE | I36: FALSE | J36: =COUNTIF(B36:I36,TRUE)/8 -> 0
A38: RECORD BREAKERS · 3 cartes | J38: =COUNTIF(B39:I41,TRUE)/24 -> 0
A39: Lewis Hamilton | B39: FALSE | C39: FALSE | D39: FALSE | E39: FALSE | F39: FALSE | G39: FALSE | H39: FALSE | I39: FALSE | J39: =COUNTIF(B39:I39,TRUE)/8 -> 0
A40: Kimi Räikkönen | B40: FALSE | C40: FALSE | D40: FALSE | E40: FALSE | F40: FALSE | G40: FALSE | H40: FALSE | I40: FALSE | J40: =COUNTIF(B40:I40,TRUE)/8 -> 0
A41: Alpine F1 Team | B41: FALSE | C41: FALSE | D41: FALSE | E41: FALSE | F41: FALSE | G41: FALSE | H41: FALSE | I41: FALSE | J41: =COUNTIF(B41:I41,TRUE)/8 -> 0
A43: POWERTRAIN · 10 cartes | J43: =COUNTIF(B44:I53,TRUE)/80 -> 0
A44: Mercedes-AMG Petronas Formula One Team | B44: FALSE | C44: FALSE | D44: FALSE | E44: FALSE | F44: FALSE | G44: FALSE | H44: FALSE | I44: FALSE | J44: =COUNTIF(B44:I44,TRUE)/8 -> 0
A45: Scuderia Ferrari | B45: FALSE | C45: FALSE | D45: FALSE | E45: FALSE | F45: FALSE | G45: FALSE | H45: FALSE | I45: FALSE | J45: =COUNTIF(B45:I45,TRUE)/8 -> 0
A46: Scuderia AlphaTauri | B46: FALSE | C46: FALSE | D46: FALSE | E46: FALSE | F46: FALSE | G46: FALSE | H46: FALSE | I46: FALSE | J46: =COUNTIF(B46:I46,TRUE)/8 -> 0
A47: McLaren F1 Team | B47: FALSE | C47: FALSE | D47: FALSE | E47: FALSE | F47: FALSE | G47: FALSE | H47: FALSE | I47: FALSE | J47: =COUNTIF(B47:I47,TRUE)/8 -> 0
A48: Red Bull Racing Honda | B48: FALSE | C48: FALSE | D48: FALSE | E48: FALSE | F48: FALSE | G48: FALSE | H48: FALSE | I48: FALSE | J48: =COUNTIF(B48:I48,TRUE)/8 -> 0
A49: Williams Racing | B49: FALSE | C49: FALSE | D49: FALSE | E49: FALSE | F49: FALSE | G49: FALSE | H49: FALSE | I49: FALSE | J49: =COUNTIF(B49:I49,TRUE)/8 -> 0
A50: Alpine F1 Team | B50: FALSE | C50: FALSE | D50: FALSE | E50: FALSE | F50: FALSE | G50: FALSE | H50: FALSE | I50: FALSE | J50: =COUNTIF(B50:I50,TRUE)/8 -> 0
A51: Aston Martin Cognizant Formula One Team | B51: FALSE | C51: FALSE | D51: FALSE | E51: FALSE | F51: FALSE | G51: FALSE | H51: FALSE | I51: FALSE | J51: =COUNTIF(B51:I51,TRUE)/8 -> 0
A52: Alfa Romeo Racing ORLEN | B52: FALSE | C52: FALSE | D52: FALSE | E52: FALSE | F52: FALSE | G52: FALSE | H52: FALSE | I52: FALSE | J52: =COUNTIF(B52:I52,TRUE)/8 -> 0
A53: Uralkali Haas F1 Team | B53: FALSE | C53: FALSE | D53: FALSE | E53: FALSE | F53: FALSE | G53: FALSE | H53: FALSE | I53: FALSE | J53: =COUNTIF(B53:I53,TRUE)/8 -> 0
