Workbook

Sheet Aperçu
A1: Topps Eccellenza F1 2023
A2: Tracker de collection — checklist complète
A4: SET DE BASE (versions Standard) | C4: CARTES STANDARDS (tous les onglets) | E4: PARALLÈLES (variantes) | G4: COLLECTION TOTALE
A5: =(COUNTIF('Set de base'!B6:B76,TRUE))/59 -> 0 | C5: =(COUNTIF('Set de base'!B6:B76,TRUE)+COUNTIF('Reliques'!B6:B19,TRUE)+COUNTIF('Autographes'!B6:B8,TRUE))/73 -> 0 | E5: =(COUNTIF('Set de base'!C6:I76,TRUE)+COUNTIF('Reliques'!C6:I19,TRUE)+COUNTIF('Autographes'!C6:F8,TRUE))/523 -> 0 | G5: =(COUNTIF('Set de base'!B6:I76,TRUE)+COUNTIF('Reliques'!B6:I19,TRUE)+COUNTIF('Autographes'!B6:F8,TRUE))/596 -> 0
A7: =(COUNTIF('Set de base'!B6:B76,TRUE))&" / 59" -> 0 / 59 | C7: =(COUNTIF('Set de base'!B6:B76,TRUE)+COUNTIF('Reliques'!B6:B19,TRUE)+COUNTIF('Autographes'!B6:B8,TRUE))&" / 73" -> 0 / 73 | E7: =(COUNTIF('Set de base'!C6:I76,TRUE)+COUNTIF('Reliques'!C6:I19,TRUE)+COUNTIF('Autographes'!C6:F8,TRUE))&" / 523" -> 0 / 523 | G7: =(COUNTIF('Set de base'!B6:I76,TRUE)+COUNTIF('Reliques'!B6:I19,TRUE)+COUNTIF('Autographes'!B6:F8,TRUE))&" / 596" -> 0 / 596
A8: Set de base = versions Standard de l’onglet « Set de base » • Cartes Standards = version principale non parallèle lorsqu’elle existe, tous onglets confondus.
A10: Progression par onglet
A11: Onglet | B11: Versions | C11: Possédées | D11: Progression
A12: Set de base | B12: 472 | C12: =COUNTIF('Set de base'!B6:I76,TRUE) -> 0 | D12: =(COUNTIF('Set de base'!B6:I76,TRUE))/472 -> 0
A13: Reliques | B13: 112 | C13: =COUNTIF('Reliques'!B6:I19,TRUE) -> 0 | D13: =(COUNTIF('Reliques'!B6:I19,TRUE))/112 -> 0
A14: Autographes | B14: 12 | C14: =COUNTIF('Autographes'!B6:F8,TRUE) -> 0 | D14: =(COUNTIF('Autographes'!B6:F8,TRUE))/12 -> 0
A17: Cartes de base par pilote
A18: Pilote | B18: Cartes de base | C18: Possédées | D18: Progression
A19: Alain Prost | B19: 1 | C19: =IF('Set de base'!B75=TRUE,1,0) -> 0 | D19: =(IF('Set de base'!B75=TRUE,1,0))/1 -> 0
A20: Alexander Albon | B20: 2 | C20: =IF('Set de base'!B24=TRUE,1,0)+IF('Set de base'!B41=TRUE,1,0) -> 0 | D20: =(IF('Set de base'!B24=TRUE,1,0)+IF('Set de base'!B41=TRUE,1,0))/2 -> 0
A21: Carlos Sainz | B21: 3 | C21: =IF('Set de base'!B21=TRUE,1,0)+IF('Set de base'!B44=TRUE,1,0)+IF('Set de base'!B53=TRUE,1,0) -> 0 | D21: =(IF('Set de base'!B21=TRUE,1,0)+IF('Set de base'!B44=TRUE,1,0)+IF('Set de base'!B53=TRUE,1,0))/3 -> 0
A22: Charles Leclerc | B22: 3 | C22: =IF('Set de base'!B20=TRUE,1,0)+IF('Set de base'!B43=TRUE,1,0)+IF('Set de base'!B52=TRUE,1,0) -> 0 | D22: =(IF('Set de base'!B20=TRUE,1,0)+IF('Set de base'!B43=TRUE,1,0)+IF('Set de base'!B52=TRUE,1,0))/3 -> 0
A23: David Coulthard | B23: 1 | C23: =IF('Set de base'!B74=TRUE,1,0) -> 0 | D23: =(IF('Set de base'!B74=TRUE,1,0))/1 -> 0
A24: Esteban Ocon | B24: 2 | C24: =IF('Set de base'!B11=TRUE,1,0)+IF('Set de base'!B38=TRUE,1,0) -> 0 | D24: =(IF('Set de base'!B11=TRUE,1,0)+IF('Set de base'!B38=TRUE,1,0))/2 -> 0
A25: Fernando Alonso | B25: 3 | C25: =IF('Set de base'!B16=TRUE,1,0)+IF('Set de base'!B30=TRUE,1,0)+IF('Set de base'!B39=TRUE,1,0) -> 0 | D25: =(IF('Set de base'!B16=TRUE,1,0)+IF('Set de base'!B30=TRUE,1,0)+IF('Set de base'!B39=TRUE,1,0))/3 -> 0
A26: George Russell | B26: 2 | C26: =IF('Set de base'!B9=TRUE,1,0)+IF('Set de base'!B50=TRUE,1,0) -> 0 | D26: =(IF('Set de base'!B9=TRUE,1,0)+IF('Set de base'!B50=TRUE,1,0))/2 -> 0
A27: Kevin Magnussen | B27: 2 | C27: =IF('Set de base'!B12=TRUE,1,0)+IF('Set de base'!B36=TRUE,1,0) -> 0 | D27: =(IF('Set de base'!B12=TRUE,1,0)+IF('Set de base'!B36=TRUE,1,0))/2 -> 0
A28: Lance Stroll | B28: 2 | C28: =IF('Set de base'!B17=TRUE,1,0)+IF('Set de base'!B35=TRUE,1,0) -> 0 | D28: =(IF('Set de base'!B17=TRUE,1,0)+IF('Set de base'!B35=TRUE,1,0))/2 -> 0
A29: Lando Norris | B29: 2 | C29: =IF('Set de base'!B14=TRUE,1,0)+IF('Set de base'!B49=TRUE,1,0) -> 0 | D29: =(IF('Set de base'!B14=TRUE,1,0)+IF('Set de base'!B49=TRUE,1,0))/2 -> 0
A30: Lewis Hamilton | B30: 3 | C30: =IF('Set de base'!B8=TRUE,1,0)+IF('Set de base'!B29=TRUE,1,0)+IF('Set de base'!B48=TRUE,1,0) -> 0 | D30: =(IF('Set de base'!B8=TRUE,1,0)+IF('Set de base'!B29=TRUE,1,0)+IF('Set de base'!B48=TRUE,1,0))/3 -> 0
A31: Logan Sargeant | B31: 2 | C31: =IF('Set de base'!B25=TRUE,1,0)+IF('Set de base'!B68=TRUE,1,0) -> 0 | D31: =(IF('Set de base'!B25=TRUE,1,0)+IF('Set de base'!B68=TRUE,1,0))/2 -> 0
A32: Max Verstappen | B32: 3 | C32: =IF('Set de base'!B6=TRUE,1,0)+IF('Set de base'!B28=TRUE,1,0)+IF('Set de base'!B47=TRUE,1,0) -> 0 | D32: =(IF('Set de base'!B6=TRUE,1,0)+IF('Set de base'!B28=TRUE,1,0)+IF('Set de base'!B47=TRUE,1,0))/3 -> 0
A33: Michael Schumacher | B33: 1 | C33: =IF('Set de base'!B76=TRUE,1,0) -> 0 | D33: =(IF('Set de base'!B76=TRUE,1,0))/1 -> 0
A34: Nico Hülkenberg | B34: 1 | C34: =IF('Set de base'!B13=TRUE,1,0) -> 0 | D34: =(IF('Set de base'!B13=TRUE,1,0))/1 -> 0
A35: Nigel Mansell | B35: 1 | C35: =IF('Set de base'!B73=TRUE,1,0) -> 0 | D35: =(IF('Set de base'!B73=TRUE,1,0))/1 -> 0
A36: Nyck de Vries | B36: 2 | C36: =IF('Set de base'!B19=TRUE,1,0)+IF('Set de base'!B69=TRUE,1,0) -> 0 | D36: =(IF('Set de base'!B19=TRUE,1,0)+IF('Set de base'!B69=TRUE,1,0))/2 -> 0
A37: Oscar Piastri | B37: 2 | C37: =IF('Set de base'!B15=TRUE,1,0)+IF('Set de base'!B70=TRUE,1,0) -> 0 | D37: =(IF('Set de base'!B15=TRUE,1,0)+IF('Set de base'!B70=TRUE,1,0))/2 -> 0
A38: Pierre Gasly | B38: 2 | C38: =IF('Set de base'!B10=TRUE,1,0)+IF('Set de base'!B37=TRUE,1,0) -> 0 | D38: =(IF('Set de base'!B10=TRUE,1,0)+IF('Set de base'!B37=TRUE,1,0))/2 -> 0
A39: Sergio Pérez | B39: 3 | C39: =IF('Set de base'!B7=TRUE,1,0)+IF('Set de base'!B42=TRUE,1,0)+IF('Set de base'!B51=TRUE,1,0) -> 0 | D39: =(IF('Set de base'!B7=TRUE,1,0)+IF('Set de base'!B42=TRUE,1,0)+IF('Set de base'!B51=TRUE,1,0))/3 -> 0
A40: Valtteri Bottas | B40: 2 | C40: =IF('Set de base'!B22=TRUE,1,0)+IF('Set de base'!B33=TRUE,1,0) -> 0 | D40: =(IF('Set de base'!B22=TRUE,1,0)+IF('Set de base'!B33=TRUE,1,0))/2 -> 0
A41: Yuki Tsunoda | B41: 2 | C41: =IF('Set de base'!B18=TRUE,1,0)+IF('Set de base'!B34=TRUE,1,0) -> 0 | D41: =(IF('Set de base'!B18=TRUE,1,0)+IF('Set de base'!B34=TRUE,1,0))/2 -> 0
A42: Zhou Guanyu | B42: 2 | C42: =IF('Set de base'!B23=TRUE,1,0)+IF('Set de base'!B40=TRUE,1,0) -> 0 | D42: =(IF('Set de base'!B23=TRUE,1,0)+IF('Set de base'!B40=TRUE,1,0))/2 -> 0

Sheet Set de base
A1: Topps Eccellenza F1 2023 — Set de base
A2: Suivi de collection — checklist complète
A3: Cochez les cartes possédées. Utilisez les boutons − / + à gauche pour replier ou déplier chaque subset.
A4: Carte | B4: Standard | C4: Green /99 | D4: Gray /75 | E4: Blue /49 | F4: Purple /25 | G4: Red /10 | H4: Gradient /5 | I4: Gold /1 | J4: Progression
A5: ECCELLENZA · 20 cartes | J5: =COUNTIF(B6:I25,TRUE)/160 -> 0
A6: Max Verstappen | B6: FALSE | C6: FALSE | D6: FALSE | E6: FALSE | F6: FALSE | G6: FALSE | H6: FALSE | I6: FALSE | J6: =COUNTIF(B6:I6,TRUE)/8 -> 0
A7: Sergio Pérez | B7: FALSE | C7: FALSE | D7: FALSE | E7: FALSE | F7: FALSE | G7: FALSE | H7: FALSE | I7: FALSE | J7: =COUNTIF(B7:I7,TRUE)/8 -> 0
A8: Lewis Hamilton | B8: FALSE | C8: FALSE | D8: FALSE | E8: FALSE | F8: FALSE | G8: FALSE | H8: FALSE | I8: FALSE | J8: =COUNTIF(B8:I8,TRUE)/8 -> 0
A9: George Russell | B9: FALSE | C9: FALSE | D9: FALSE | E9: FALSE | F9: FALSE | G9: FALSE | H9: FALSE | I9: FALSE | J9: =COUNTIF(B9:I9,TRUE)/8 -> 0
A10: Pierre Gasly | B10: FALSE | C10: FALSE | D10: FALSE | E10: FALSE | F10: FALSE | G10: FALSE | H10: FALSE | I10: FALSE | J10: =COUNTIF(B10:I10,TRUE)/8 -> 0
A11: Esteban Ocon | B11: FALSE | C11: FALSE | D11: FALSE | E11: FALSE | F11: FALSE | G11: FALSE | H11: FALSE | I11: FALSE | J11: =COUNTIF(B11:I11,TRUE)/8 -> 0
A12: Kevin Magnussen | B12: FALSE | C12: FALSE | D12: FALSE | E12: FALSE | F12: FALSE | G12: FALSE | H12: FALSE | I12: FALSE | J12: =COUNTIF(B12:I12,TRUE)/8 -> 0
A13: Nico Hülkenberg | B13: FALSE | C13: FALSE | D13: FALSE | E13: FALSE | F13: FALSE | G13: FALSE | H13: FALSE | I13: FALSE | J13: =COUNTIF(B13:I13,TRUE)/8 -> 0
A14: Lando Norris | B14: FALSE | C14: FALSE | D14: FALSE | E14: FALSE | F14: FALSE | G14: FALSE | H14: FALSE | I14: FALSE | J14: =COUNTIF(B14:I14,TRUE)/8 -> 0
A15: Oscar Piastri (RC) | B15: FALSE | C15: FALSE | D15: FALSE | E15: FALSE | F15: FALSE | G15: FALSE | H15: FALSE | I15: FALSE | J15: =COUNTIF(B15:I15,TRUE)/8 -> 0
A16: Fernando Alonso | B16: FALSE | C16: FALSE | D16: FALSE | E16: FALSE | F16: FALSE | G16: FALSE | H16: FALSE | I16: FALSE | J16: =COUNTIF(B16:I16,TRUE)/8 -> 0
A17: Lance Stroll | B17: FALSE | C17: FALSE | D17: FALSE | E17: FALSE | F17: FALSE | G17: FALSE | H17: FALSE | I17: FALSE | J17: =COUNTIF(B17:I17,TRUE)/8 -> 0
... A25: Logan Sargeant | B25: FALSE | C25: FALSE | D25: FALSE | E25: FALSE | F25: FALSE | G25: FALSE | H25: FALSE | I25: FALSE | J25: =COUNTIF(B25:I25,TRUE)/8 -> 0
A27: SUPREMO · 3 cartes | J27: =COUNTIF(B28:I30,TRUE)/24 -> 0
A28: Max Verstappen | B28: FALSE | C28: FALSE | D28: FALSE | E28: FALSE | F28: FALSE | G28: FALSE | H28: FALSE | I28: FALSE | J28: =COUNTIF(B28:I28,TRUE)/8 -> 0
A29: Lewis Hamilton | B29: FALSE | C29: FALSE | D29: FALSE | E29: FALSE | F29: FALSE | G29: FALSE | H29: FALSE | I29: FALSE | J29: =COUNTIF(B29:I29,TRUE)/8 -> 0
A30: Fernando Alonso | B30: FALSE | C30: FALSE | D30: FALSE | E30: FALSE | F30: FALSE | G30: FALSE | H30: FALSE | I30: FALSE | J30: =COUNTIF(B30:I30,TRUE)/8 -> 0
A32: LA PASSIONE · 12 cartes | J32: =COUNTIF(B33:I44,TRUE)/96 -> 0
A33: Valtteri Bottas | B33: FALSE | C33: FALSE | D33: FALSE | E33: FALSE | F33: FALSE | G33: FALSE | H33: FALSE | I33: FALSE | J33: =COUNTIF(B33:I33,TRUE)/8 -> 0
A34: Yuki Tsunoda | B34: FALSE | C34: FALSE | D34: FALSE | E34: FALSE | F34: FALSE | G34: FALSE | H34: FALSE | I34: FALSE | J34: =COUNTIF(B34:I34,TRUE)/8 -> 0
A35: Lance Stroll | B35: FALSE | C35: FALSE | D35: FALSE | E35: FALSE | F35: FALSE | G35: FALSE | H35: FALSE | I35: FALSE | J35: =COUNTIF(B35:I35,TRUE)/8 -> 0
A36: Kevin Magnussen | B36: FALSE | C36: FALSE | D36: FALSE | E36: FALSE | F36: FALSE | G36: FALSE | H36: FALSE | I36: FALSE | J36: =COUNTIF(B36:I36,TRUE)/8 -> 0
A37: Pierre Gasly | B37: FALSE | C37: FALSE | D37: FALSE | E37: FALSE | F37: FALSE | G37: FALSE | H37: FALSE | I37: FALSE | J37: =COUNTIF(B37:I37,TRUE)/8 -> 0
A38: Esteban Ocon | B38: FALSE | C38: FALSE | D38: FALSE | E38: FALSE | F38: FALSE | G38: FALSE | H38: FALSE | I38: FALSE | J38: =COUNTIF(B38:I38,TRUE)/8 -> 0
A39: Fernando Alonso | B39: FALSE | C39: FALSE | D39: FALSE | E39: FALSE | F39: FALSE | G39: FALSE | H39: FALSE | I39: FALSE | J39: =COUNTIF(B39:I39,TRUE)/8 -> 0
A40: Zhou Guanyu | B40: FALSE | C40: FALSE | D40: FALSE | E40: FALSE | F40: FALSE | G40: FALSE | H40: FALSE | I40: FALSE | J40: =COUNTIF(B40:I40,TRUE)/8 -> 0
A41: Alexander Albon | B41: FALSE | C41: FALSE | D41: FALSE | E41: FALSE | F41: FALSE | G41: FALSE | H41: FALSE | I41: FALSE | J41: =COUNTIF(B41:I41,TRUE)/8 -> 0
A42: Sergio Pérez | B42: FALSE | C42: FALSE | D42: FALSE | E42: FALSE | F42: FALSE | G42: FALSE | H42: FALSE | I42: FALSE | J42: =COUNTIF(B42:I42,TRUE)/8 -> 0
A43: Charles Leclerc | B43: FALSE | C43: FALSE | D43: FALSE | E43: FALSE | F43: FALSE | G43: FALSE | H43: FALSE | I43: FALSE | J43: =COUNTIF(B43:I43,TRUE)/8 -> 0
A44: Carlos Sainz | B44: FALSE | C44: FALSE | D44: FALSE | E44: FALSE | F44: FALSE | G44: FALSE | H44: FALSE | I44: FALSE | J44: =COUNTIF(B44:I44,TRUE)/8 -> 0
A46: TRIONFO · 7 cartes | J46: =COUNTIF(B47:I53,TRUE)/56 -> 0
A47: Max Verstappen | B47: FALSE | C47: FALSE | D47: FALSE | E47: FALSE | F47: FALSE | G47: FALSE | H47: FALSE | I47: FALSE | J47: =COUNTIF(B47:I47,TRUE)/8 -> 0
A48: Lewis Hamilton | B48: FALSE | C48: FALSE | D48: FALSE | E48: FALSE | F48: FALSE | G48: FALSE | H48: FALSE | I48: FALSE | J48: =COUNTIF(B48:I48,TRUE)/8 -> 0
A49: Lando Norris | B49: FALSE | C49: FALSE | D49: FALSE | E49: FALSE | F49: FALSE | G49: FALSE | H49: FALSE | I49: FALSE | J49: =COUNTIF(B49:I49,TRUE)/8 -> 0
A50: George Russell | B50: FALSE | C50: FALSE | D50: FALSE | E50: FALSE | F50: FALSE | G50: FALSE | H50: FALSE | I50: FALSE | J50: =COUNTIF(B50:I50,TRUE)/8 -> 0
...

Sheet Reliques
A1: Topps Eccellenza F1 2023 — Reliques
A2: Suivi de collection — checklist complète
A3: Cochez les cartes possédées. Utilisez les boutons − / + à gauche pour replier ou déplier chaque subset.
A4: Carte | B4: Standard | C4: Green /99 | D4: Gray /75 | E4: Blue /49 | F4: Purple /25 | G4: Red /10 | H4: Gradient /5 | I4: Gold /1 | J4: Progression
A5: RELIQUIA · 14 cartes | J5: =COUNTIF(B6:I19,TRUE)/112 -> 0
A6: Alex Albon | B6: FALSE | C6: FALSE | D6: FALSE | E6: FALSE | F6: FALSE | G6: FALSE | H6: FALSE | I6: FALSE | J6: =COUNTIF(B6:I6,TRUE)/8 -> 0
A7: Carlos Sainz | B7: FALSE | C7: FALSE | D7: FALSE | E7: FALSE | F7: FALSE | G7: FALSE | H7: FALSE | I7: FALSE | J7: =COUNTIF(B7:I7,TRUE)/8 -> 0
A8: Charles Leclerc | B8: FALSE | C8: FALSE | D8: FALSE | E8: FALSE | F8: FALSE | G8: FALSE | H8: FALSE | I8: FALSE | J8: =COUNTIF(B8:I8,TRUE)/8 -> 0
A9: Esteban Ocon | B9: FALSE | C9: FALSE | D9: FALSE | E9: FALSE | F9: FALSE | G9: FALSE | H9: FALSE | I9: FALSE | J9: =COUNTIF(B9:I9,TRUE)/8 -> 0
A10: George Russell | B10: FALSE | C10: FALSE | D10: FALSE | E10: FALSE | F10: FALSE | G10: FALSE | H10: FALSE | I10: FALSE | J10: =COUNTIF(B10:I10,TRUE)/8 -> 0
A11: Kevin Magnussen | B11: FALSE | C11: FALSE | D11: FALSE | E11: FALSE | F11: FALSE | G11: FALSE | H11: FALSE | I11: FALSE | J11: =COUNTIF(B11:I11,TRUE)/8 -> 0
A12: Lance Stroll | B12: FALSE | C12: FALSE | D12: FALSE | E12: FALSE | F12: FALSE | G12: FALSE | H12: FALSE | I12: FALSE | J12: =COUNTIF(B12:I12,TRUE)/8 -> 0
A13: Lando Norris | B13: FALSE | C13: FALSE | D13: FALSE | E13: FALSE | F13: FALSE | G13: FALSE | H13: FALSE | I13: FALSE | J13: =COUNTIF(B13:I13,TRUE)/8 -> 0
A14: Lewis Hamilton | B14: FALSE | C14: FALSE | D14: FALSE | E14: FALSE | F14: FALSE | G14: FALSE | H14: FALSE | I14: FALSE | J14: =COUNTIF(B14:I14,TRUE)/8 -> 0
A15: Max Verstappen | B15: FALSE | C15: FALSE | D15: FALSE | E15: FALSE | F15: FALSE | G15: FALSE | H15: FALSE | I15: FALSE | J15: =COUNTIF(B15:I15,TRUE)/8 -> 0
A16: Sergio Pérez | B16: FALSE | C16: FALSE | D16: FALSE | E16: FALSE | F16: FALSE | G16: FALSE | H16: FALSE | I16: FALSE | J16: =COUNTIF(B16:I16,TRUE)/8 -> 0
A17: Valtteri Bottas | B17: FALSE | C17: FALSE | D17: FALSE | E17: FALSE | F17: FALSE | G17: FALSE | H17: FALSE | I17: FALSE | J17: =COUNTIF(B17:I17,TRUE)/8 -> 0
... A19: Zhou Guanyu | B19: FALSE | C19: FALSE | D19: FALSE | E19: FALSE | F19: FALSE | G19: FALSE | H19: FALSE | I19: FALSE | J19: =COUNTIF(B19:I19,TRUE)/8 -> 0

Sheet Autographes
A1: Topps Eccellenza F1 2023 — Autographes
A2: Suivi de collection — checklist complète
A3: Cochez les cartes possédées. Utilisez les boutons − / + à gauche pour replier ou déplier chaque subset.
A4: Carte | B4: Standard | C4: Purple /25 | D4: Red /10 | E4: Gradient /5 | F4: Gold /1 | G4: Progression
A5: VETERANO · 3 cartes | G5: =COUNTIF(B6:F8,TRUE)/12 -> 0
A6: Nigel Mansell | C6: FALSE | D6: FALSE | E6: FALSE | F6: FALSE | G6: =COUNTIF(B6:F6,TRUE)/4 -> 0
A7: David Coulthard | C7: FALSE | D7: FALSE | E7: FALSE | F7: FALSE | G7: =COUNTIF(B7:F7,TRUE)/4 -> 0
A8: Alain Prost | C8: FALSE | D8: FALSE | E8: FALSE | F8: FALSE | G8: =COUNTIF(B8:F8,TRUE)/4 -> 0
