Workbook

Sheet Aperçu
A1: Topps Chrome F1 Logofractor 2025
A2: Tracker de collection — checklist complète
A4: SET DE BASE (versions Standard) | C4: CARTES STANDARDS (tous les onglets) | E4: PARALLÈLES (variantes) | G4: COLLECTION TOTALE
A5: =(COUNTIF('Set de base'!B6:B109,TRUE))/104 -> 0 | C5: =(COUNTIF('Set de base'!B6:B109,TRUE)+COUNTIF('Inserts'!B6:B64,TRUE)+COUNTIF('Autographes'!B6:B71,TRUE))/221 -> 0 | E5: =(COUNTIF('Set de base'!C6:H109,TRUE)+COUNTIF('Inserts'!C6:AK64,TRUE)+COUNTIF('Autographes'!C6:C71,TRUE))/1047 -> 0 | G5: =(COUNTIF('Set de base'!B6:H109,TRUE)+COUNTIF('Inserts'!B6:AK64,TRUE)+COUNTIF('Autographes'!B6:C71,TRUE))/1268 -> 0
A7: =(COUNTIF('Set de base'!B6:B109,TRUE))&" / 104" -> 0 / 104 | C7: =(COUNTIF('Set de base'!B6:B109,TRUE)+COUNTIF('Inserts'!B6:B64,TRUE)+COUNTIF('Autographes'!B6:B71,TRUE))&" / 221" -> 0 / 221 | E7: =(COUNTIF('Set de base'!C6:H109,TRUE)+COUNTIF('Inserts'!C6:AK64,TRUE)+COUNTIF('Autographes'!C6:C71,TRUE))&" / 1047" -> 0 / 1047 | G7: =(COUNTIF('Set de base'!B6:H109,TRUE)+COUNTIF('Inserts'!B6:AK64,TRUE)+COUNTIF('Autographes'!B6:C71,TRUE))&" / 1268" -> 0 / 1268
A8: Set de base = versions Standard de l’onglet « Set de base » • Cartes Standards = version principale non parallèle lorsqu’elle existe, tous onglets confondus.
A10: Progression par onglet
A11: Onglet | B11: Versions | C11: Possédées | D11: Progression
A12: Set de base | B12: 728 | C12: =COUNTIF('Set de base'!B6:H109,TRUE) -> 0 | D12: =(COUNTIF('Set de base'!B6:H109,TRUE))/728 -> 0
A13: Inserts | B13: 408 | C13: =COUNTIF('Inserts'!B6:AK64,TRUE) -> 0 | D13: =(COUNTIF('Inserts'!B6:AK64,TRUE))/408 -> 0
A14: Autographes | B14: 132 | C14: =COUNTIF('Autographes'!B6:C71,TRUE) -> 0 | D14: =(COUNTIF('Autographes'!B6:C71,TRUE))/132 -> 0
A17: Cartes de base par pilote
A18: Pilote | B18: Cartes de base | C18: Possédées | D18: Progression
A19: Alain Prost | B19: 1 | C19: =IF('Set de base'!B85=TRUE,1,0) -> 0 | D19: =(IF('Set de base'!B85=TRUE,1,0))/1 -> 0
A20: Alessandro Giusti | B20: 1 | C20: =IF('Set de base'!B54=TRUE,1,0) -> 0 | D20: =(IF('Set de base'!B54=TRUE,1,0))/1 -> 0
A21: Alex Albon | B21: 1 | C21: =IF('Set de base'!B22=TRUE,1,0) -> 0 | D21: =(IF('Set de base'!B22=TRUE,1,0))/1 -> 0
A22: Alexander Dunne | B22: 1 | C22: =IF('Set de base'!B40=TRUE,1,0) -> 0 | D22: =(IF('Set de base'!B40=TRUE,1,0))/1 -> 0
A23: Amaury Cordeel | B23: 1 | C23: =IF('Set de base'!B41=TRUE,1,0) -> 0 | D23: =(IF('Set de base'!B41=TRUE,1,0))/1 -> 0
A24: Arvid Lindblad | B24: 1 | C24: =IF('Set de base'!B28=TRUE,1,0) -> 0 | D24: =(IF('Set de base'!B28=TRUE,1,0))/1 -> 0
A25: Ayrton Senna | B25: 1 | C25: =IF('Set de base'!B98=TRUE,1,0) -> 0 | D25: =(IF('Set de base'!B98=TRUE,1,0))/1 -> 0
A26: Brando Badoer | B26: 1 | C26: =IF('Set de base'!B47=TRUE,1,0) -> 0 | D26: =(IF('Set de base'!B47=TRUE,1,0))/1 -> 0
A27: Bruno del Pino | B27: 1 | C27: =IF('Set de base'!B53=TRUE,1,0) -> 0 | D27: =(IF('Set de base'!B53=TRUE,1,0))/1 -> 0
A28: Callum Voisin | B28: 1 | C28: =IF('Set de base'!B70=TRUE,1,0) -> 0 | D28: =(IF('Set de base'!B70=TRUE,1,0))/1 -> 0
A29: Carlos Sainz | B29: 1 | C29: =IF('Set de base'!B23=TRUE,1,0) -> 0 | D29: =(IF('Set de base'!B23=TRUE,1,0))/1 -> 0
A30: Charles Leclerc | B30: 1 | C30: =IF('Set de base'!B8=TRUE,1,0) -> 0 | D30: =(IF('Set de base'!B8=TRUE,1,0))/1 -> 0
A31: Charlie Wurz | B31: 1 | C31: =IF('Set de base'!B51=TRUE,1,0) -> 0 | D31: =(IF('Set de base'!B51=TRUE,1,0))/1 -> 0
A32: Christian Ho | B32: 1 | C32: =IF('Set de base'!B75=TRUE,1,0) -> 0 | D32: =(IF('Set de base'!B75=TRUE,1,0))/1 -> 0
A33: Cian Shields | B33: 1 | C33: =IF('Set de base'!B43=TRUE,1,0) -> 0 | D33: =(IF('Set de base'!B43=TRUE,1,0))/1 -> 0
A34: Damon Hill | B34: 1 | C34: =IF('Set de base'!B86=TRUE,1,0) -> 0 | D34: =(IF('Set de base'!B86=TRUE,1,0))/1 -> 0
A35: David Coulthard | B35: 1 | C35: =IF('Set de base'!B87=TRUE,1,0) -> 0 | D35: =(IF('Set de base'!B87=TRUE,1,0))/1 -> 0
A36: Dino Beganovic | B36: 1 | C36: =IF('Set de base'!B32=TRUE,1,0) -> 0 | D36: =(IF('Set de base'!B32=TRUE,1,0))/1 -> 0
A37: Emerson Fittipaldi | B37: 1 | C37: =IF('Set de base'!B88=TRUE,1,0) -> 0 | D37: =(IF('Set de base'!B88=TRUE,1,0))/1 -> 0
A38: Esteban Ocon | B38: 1 | C38: =IF('Set de base'!B18=TRUE,1,0) -> 0 | D38: =(IF('Set de base'!B18=TRUE,1,0))/1 -> 0
A39: Fernando Alonso | B39: 1 | C39: =IF('Set de base'!B14=TRUE,1,0) -> 0 | D39: =(IF('Set de base'!B14=TRUE,1,0))/1 -> 0
A40: Franco Colapinto | B40: 1 | C40: =IF('Set de base'!B20=TRUE,1,0) -> 0 | D40: =(IF('Set de base'!B20=TRUE,1,0))/1 -> 0
A41: Gabriel Bortoleto | B41: 1 | C41: =IF('Set de base'!B25=TRUE,1,0) -> 0 | D41: =(IF('Set de base'!B25=TRUE,1,0))/1 -> 0
A42: Gabriele Minì | B42: 1 | C42: =IF('Set de base'!B34=TRUE,1,0) -> 0 | D42: =(IF('Set de base'!B34=TRUE,1,0))/1 -> 0
A43: George Russell | B43: 1 | C43: =IF('Set de base'!B12=TRUE,1,0) -> 0 | D43: =(IF('Set de base'!B12=TRUE,1,0))/1 -> 0
A44: Gerhard Berger | B44: 1 | C44: =IF('Set de base'!B89=TRUE,1,0) -> 0 | D44: =(IF('Set de base'!B89=TRUE,1,0))/1 -> 0
A45: Gerrard Xie | B45: 1 | C45: =IF('Set de base'!B59=TRUE,1,0) -> 0 | D45: =(IF('Set de base'!B59=TRUE,1,0))/1 -> 0
A46: Isack Hadjar | B46: 1 | C46: =IF('Set de base'!B17=TRUE,1,0) -> 0 | D46: =(IF('Set de base'!B17=TRUE,1,0))/1 -> 0
A47: Ivan Domingues | B47: 1 | C47: =IF('Set de base'!B63=TRUE,1,0) -> 0 | D47: =(IF('Set de base'!B63=TRUE,1,0))/1 -> 0
A48: Jackie Stewart | B48: 1 | C48: =IF('Set de base'!B90=TRUE,1,0) -> 0 | D48: =(IF('Set de base'!B90=TRUE,1,0))/1 -> 0
A49: Jacques Villeneuve | B49: 1 | C49: =IF('Set de base'!B99=TRUE,1,0) -> 0 | D49: =(IF('Set de base'!B99=TRUE,1,0))/1 -> 0
A50: Jak Crawford | B50: 1 | C50: =IF('Set de base'!B36=TRUE,1,0) -> 0 | D50: =(IF('Set de base'!B36=TRUE,1,0))/1 -> 0
A51: James Hunt | B51: 1 | C51: =IF('Set de base'!B91=TRUE,1,0) -> 0 | D51: =(IF('Set de base'!B91=TRUE,1,0))/1 -> 0
A52: James Wharton | B52: 1 | C52: =IF('Set de base'!B64=TRUE,1,0) -> 0 | D52: =(IF('Set de base'!B64=TRUE,1,0))/1 -> 0
A53: Javier Sagrera | B53: 1 | C53: =IF('Set de base'!B67=TRUE,1,0) -> 0 | D53: =(IF('Set de base'!B67=TRUE,1,0))/1 -> 0
A54: Josep María Martí | B54: 1 | C54: =IF('Set de base'!B29=TRUE,1,0) -> 0 | D54: =(IF('Set de base'!B29=TRUE,1,0))/1 -> 0
A55: Joshua Dufek | B55: 1 | C55: =IF('Set de base'!B58=TRUE,1,0) -> 0 | D55: =(IF('Set de base'!B58=TRUE,1,0))/1 -> 0
A56: Joshua Dürksen | B56: 1 | C56: =IF('Set de base'!B42=TRUE,1,0) -> 0 | D56: =(IF('Set de base'!B42=TRUE,1,0))/1 -> 0
A57: Juan Pablo Montoya | B57: 1 | C57: =IF('Set de base'!B92=TRUE,1,0) -> 0 | D57: =(IF('Set de base'!B92=TRUE,1,0))/1 -> 0
A58: Kimi Antonelli | B58: 1 | C58: =IF('Set de base'!B13=TRUE,1,0) -> 0 | D58: =(IF('Set de base'!B13=TRUE,1,0))/1 -> 0
A59: Kimi Räikkönen | B59: 1 | C59: =IF('Set de base'!B93=TRUE,1,0) -> 0 | D59: =(IF('Set de base'!B93=TRUE,1,0))/1 -> 0
A60: Kush Maini | B60: 1 | C60: =IF('Set de base'!B37=TRUE,1,0) -> 0 | D60: =(IF('Set de base'!B37=TRUE,1,0))/1 -> 0
A61: Lance Stroll | B61: 1 | C61: =IF('Set de base'!B15=TRUE,1,0) -> 0 | D61: =(IF('Set de base'!B15=TRUE,1,0))/1 -> 0
A62: Lando Norris | B62: 1 | C62: =IF('Set de base'!B10=TRUE,1,0) -> 0 | D62: =(IF('Set de base'!B10=TRUE,1,0))/1 -> 0
A63: Laurens van Hoepen | B63: 1 | C63: =IF('Set de base'!B66=TRUE,1,0) -> 0 | D63: =(IF('Set de base'!B66=TRUE,1,0))/1 -> 0
A64: Leonardo Fornaroli | B64: 1 | C64: =IF('Set de base'!B26=TRUE,1,0) -> 0 | D64: =(IF('Set de base'!B26=TRUE,1,0))/1 -> 0
A65: Lewis Hamilton | B65: 1 | C65: =IF('Set de base'!B9=TRUE,1,0) -> 0 | D65: =(IF('Set de base'!B9=TRUE,1,0))/1 -> 0
A66: Liam Lawson | B66: 1 | C66: =IF('Set de base'!B16=TRUE,1,0) -> 0 | D66: =(IF('Set de base'!B16=TRUE,1,0))/1 -> 0
A67: Louis Sharp | B67: 1 | C67: =IF('Set de base'!B71=TRUE,1,0) -> 0 | D67: =(IF('Set de base'!B71=TRUE,1,0))/1 -> 0
A68: Luke Browning | B68: 1 | C68: =IF('Set de base'!B33=TRUE,1,0) -> 0 | D68: =(IF('Set de base'!B33=TRUE,1,0))/1 -> 0
A69: Mari Boya | B69: 1 | C69: =IF('Set de base'!B57=TRUE,1,0) -> 0 | D69: =(IF('Set de base'!B57=TRUE,1,0))/1 -> 0
A70: Mario Andretti | B70: 1 | C70: =IF('Set de base'!B97=TRUE,1,0) -> 0 | D70: =(IF('Set de base'!B97=TRUE,1,0))/1 -> 0
A71: Martinius Stenshorne | B71: 1 | C71: =IF('Set de base'!B60=TRUE,1,0) -> 0 | D71: =(IF('Set de base'!B60=TRUE,1,0))/1 -> 0
A72: Matías Zagazeta | B72: 1 | C72: =IF('Set de base'!B73=TRUE,1,0) -> 0 | D72: =(IF('Set de base'!B73=TRUE,1,0))/1 -> 0
A73: Max Esterson | B73: 1 | C73: =IF('Set de base'!B44=TRUE,1,0) -> 0 | D73: =(IF('Set de base'!B44=TRUE,1,0))/1 -> 0
A74: Max Verstappen | B74: 1 | C74: =IF('Set de base'!B6=TRUE,1,0) -> 0 | D74: =(IF('Set de base'!B6=TRUE,1,0))/1 -> 0
A75: Michael Schumacher | B75: 1 | C75: =IF('Set de base'!B94=TRUE,1,0) -> 0 | D75: =(IF('Set de base'!B94=TRUE,1,0))/1 -> 0
A76: Mika Häkkinen | B76: 1 | C76: =IF('Set de base'!B95=TRUE,1,0) -> 0 | D76: =(IF('Set de base'!B95=TRUE,1,0))/1 -> 0
A77: Nico Hülkenberg | B77: 1 | C77: =IF('Set de base'!B24=TRUE,1,0) -> 0 | D77: =(IF('Set de base'!B24=TRUE,1,0))/1 -> 0
A78: Nicola Lacorte | B78: 1 | C78: =IF('Set de base'!B74=TRUE,1,0) -> 0 | D78: =(IF('Set de base'!B74=TRUE,1,0))/1 -> 0
A79: Nicola Marinangeli | B79: 1 | C79: =IF('Set de base'!B68=TRUE,1,0) -> 0 | D79: =(IF('Set de base'!B68=TRUE,1,0))/1 -> 0
A80: Nigel Mansell | B80: 1 | C80: =IF('Set de base'!B96=TRUE,1,0) -> 0 | D80: =(IF('Set de base'!B96=TRUE,1,0))/1 -> 0
A81: Nikita Bedrin | B81: 1 | C81: =IF('Set de base'!B69=TRUE,1,0) -> 0 | D81: =(IF('Set de base'!B69=TRUE,1,0))/1 -> 0
A82: Nikola Tsolov | B82: 1 | C82: =IF('Set de base'!B55=TRUE,1,0) -> 0 | D82: =(IF('Set de base'!B55=TRUE,1,0))/1 -> 0
A83: Noah Strømsted | B83: 1 | C83: =IF('Set de base'!B49=TRUE,1,0) -> 0 | D83: =(IF('Set de base'!B49=TRUE,1,0))/1 -> 0
A84: Noel León | B84: 1 | C84: =IF('Set de base'!B46=TRUE,1,0) -> 0 | D84: =(IF('Set de base'!B46=TRUE,1,0))/1 -> 0
A85: Oliver Bearman | B85: 1 | C85: =IF('Set de base'!B19=TRUE,1,0) -> 0 | D85: =(IF('Set de base'!B19=TRUE,1,0))/1 -> 0
A86: Oliver Goethe | B86: 1 | C86: =IF('Set de base'!B31=TRUE,1,0) -> 0 | D86: =(IF('Set de base'!B31=TRUE,1,0))/1 -> 0
A87: Oscar Piastri | B87: 1 | C87: =IF('Set de base'!B11=TRUE,1,0) -> 0 | D87: =(IF('Set de base'!B11=TRUE,1,0))/1 -> 0
A88: Pierre Gasly | B88: 1 | C88: =IF('Set de base'!B21=TRUE,1,0) -> 0 | D88: =(IF('Set de base'!B21=TRUE,1,0))/1 -> 0
A89: Rafael Câmara | B89: 1 | C89: =IF('Set de base'!B50=TRUE,1,0) -> 0 | D89: =(IF('Set de base'!B50=TRUE,1,0))/1 -> 0
A90: Richard Verschoor | B90: 1 | C90: =IF('Set de base'!B30=TRUE,1,0) -> 0 | D90: =(IF('Set de base'!B30=TRUE,1,0))/1 -> 0
A91: Ritomo Miyata | B91: 1 | C91: =IF('Set de base'!B38=TRUE,1,0) -> 0 | D91: =(IF('Set de base'!B38=TRUE,1,0))/1 -> 0
A92: Roman Bilinski | B92: 1 | C92: =IF('Set de base'!B72=TRUE,1,0) -> 0 | D92: =(IF('Set de base'!B72=TRUE,1,0))/1 -> 0
A93: Roman Staněk | B93: 1 | C93: =IF('Set de base'!B27=TRUE,1,0) -> 0 | D93: =(IF('Set de base'!B27=TRUE,1,0))/1 -> 0
A94: Sami Meguetounif | B94: 1 | C94: =IF('Set de base'!B45=TRUE,1,0) -> 0 | D94: =(IF('Set de base'!B45=TRUE,1,0))/1 -> 0
A95: Santiago Ramos | B95: 1 | C95: =IF('Set de base'!B62=TRUE,1,0) -> 0 | D95: =(IF('Set de base'!B62=TRUE,1,0))/1 -> 0
A96: Sebastián Montoya | B96: 1 | C96: =IF('Set de base'!B35=TRUE,1,0) -> 0 | D96: =(IF('Set de base'!B35=TRUE,1,0))/1 -> 0
A97: Tasanapol Inthraphuvasak | B97: 1 | C97: =IF('Set de base'!B56=TRUE,1,0) -> 0 | D97: =(IF('Set de base'!B56=TRUE,1,0))/1 -> 0
A98: Théophile Naël | B98: 1 | C98: =IF('Set de base'!B61=TRUE,1,0) -> 0 | D98: =(IF('Set de base'!B61=TRUE,1,0))/1 -> 0
A99: Tim Tramnitz | B99: 1 | C99: =IF('Set de base'!B52=TRUE,1,0) -> 0 | D99: =(IF('Set de base'!B52=TRUE,1,0))/1 -> 0
A100: Tuukka Taponen | B100: 1 | C100: =IF('Set de base'!B65=TRUE,1,0) -> 0 | D100: =(IF('Set de base'!B65=TRUE,1,0))/1 -> 0
A101: Ugo Ugochukwu | B101: 1 | C101: =IF('Set de base'!B48=TRUE,1,0) -> 0 | D101: =(IF('Set de base'!B48=TRUE,1,0))/1 -> 0
A102: Victor Martins | B102: 1 | C102: =IF('Set de base'!B39=TRUE,1,0) -> 0 | D102: =(IF('Set de base'!B39=TRUE,1,0))/1 -> 0
A103: Yuki Tsunoda | B103: 1 | C103: =IF('Set de base'!B7=TRUE,1,0) -> 0 | D103: =(IF('Set de base'!B7=TRUE,1,0))/1 -> 0

Sheet Set de base
A1: Topps Chrome F1 Logofractor 2025 — Set de base
A2: Suivi de collection — checklist complète
A3: Cochez les cartes possédées. Utilisez les boutons − / + à gauche pour replier ou déplier chaque subset.
A4: Carte | B4: Standard | C4: Base Yellow Logofractor Parallel | D4: Base Gold Logofractor Parallel | E4: Base Orange Logofractor Parallel | F4: Base Black Logofractor Parallel | G4: Base Red Logofractor Parallel | H4: Base Rose Gold Logofractor Parallel | I4: Progression
A5: SET DE BASE · 104 cartes | I5: =COUNTIF(B6:H109,TRUE)/728 -> 0
A6: Max Verstappen | B6: FALSE | C6: FALSE | D6: FALSE | E6: FALSE | F6: FALSE | G6: FALSE | H6: FALSE | I6: =COUNTIF(B6:H6,TRUE)/7 -> 0
A7: Yuki Tsunoda | B7: FALSE | C7: FALSE | D7: FALSE | E7: FALSE | F7: FALSE | G7: FALSE | H7: FALSE | I7: =COUNTIF(B7:H7,TRUE)/7 -> 0
A8: Charles Leclerc | B8: FALSE | C8: FALSE | D8: FALSE | E8: FALSE | F8: FALSE | G8: FALSE | H8: FALSE | I8: =COUNTIF(B8:H8,TRUE)/7 -> 0
A9: Lewis Hamilton | B9: FALSE | C9: FALSE | D9: FALSE | E9: FALSE | F9: FALSE | G9: FALSE | H9: FALSE | I9: =COUNTIF(B9:H9,TRUE)/7 -> 0
A10: Lando Norris | B10: FALSE | C10: FALSE | D10: FALSE | E10: FALSE | F10: FALSE | G10: FALSE | H10: FALSE | I10: =COUNTIF(B10:H10,TRUE)/7 -> 0
A11: Oscar Piastri | B11: FALSE | C11: FALSE | D11: FALSE | E11: FALSE | F11: FALSE | G11: FALSE | H11: FALSE | I11: =COUNTIF(B11:H11,TRUE)/7 -> 0
A12: George Russell | B12: FALSE | C12: FALSE | D12: FALSE | E12: FALSE | F12: FALSE | G12: FALSE | H12: FALSE | I12: =COUNTIF(B12:H12,TRUE)/7 -> 0
A13: Kimi Antonelli (RC) | B13: FALSE | C13: FALSE | D13: FALSE | E13: FALSE | F13: FALSE | G13: FALSE | H13: FALSE | I13: =COUNTIF(B13:H13,TRUE)/7 -> 0
A14: Fernando Alonso | B14: FALSE | C14: FALSE | D14: FALSE | E14: FALSE | F14: FALSE | G14: FALSE | H14: FALSE | I14: =COUNTIF(B14:H14,TRUE)/7 -> 0
A15: Lance Stroll | B15: FALSE | C15: FALSE | D15: FALSE | E15: FALSE | F15: FALSE | G15: FALSE | H15: FALSE | I15: =COUNTIF(B15:H15,TRUE)/7 -> 0
A16: Liam Lawson (RC) | B16: FALSE | C16: FALSE | D16: FALSE | E16: FALSE | F16: FALSE | G16: FALSE | H16: FALSE | I16: =COUNTIF(B16:H16,TRUE)/7 -> 0
A17: Isack Hadjar (RC) | B17: FALSE | C17: FALSE | D17: FALSE | E17: FALSE | F17: FALSE | G17: FALSE | H17: FALSE | I17: =COUNTIF(B17:H17,TRUE)/7 -> 0
... A109: Sauber | B109: FALSE | C109: FALSE | D109: FALSE | E109: FALSE | F109: FALSE | G109: FALSE | H109: FALSE | I109: =COUNTIF(B109:H109,TRUE)/7 -> 0

Sheet Inserts
A1: Topps Chrome F1 Logofractor 2025 — Inserts
A2: Suivi de collection — checklist complète
A3: Cochez les cartes possédées. Utilisez les boutons − / + à gauche pour replier ou déplier chaque subset.
A4: Carte | B4: Standard | C4: 1975 Speed Wheels Logofractor | D4: 1975 Speed Wheels Yellow Logofractor Parallel | E4: 1975 Speed Wheels Gold Logofractor Parallel | F4: 1975 Speed Wheels Orange Logofractor Parallel | G4: 1975 Speed Wheels Black Logofractor Parallel | H4: 1975 Speed Wheels Red Logofractor Parallel | I4: 1975 Speed Wheels Rose Gold Logofractor Parallel | J4: Ace of Trades Logofractor | K4: Ace of Trades Yellow Logofractor Parallel | L4: Ace of Trades Gold Logofractor Parallel | M4: Ace of Trades Orange Logofractor Parallel | N4: Ace of Trades Black Logofractor Parallel | O4: Ace of Trades Red Logofractor Parallel | P4: Ace of Trades Rose Gold Logofractor Parallel | Q4: Speed Demons Logofractor | R4: Speed Demons Yellow Logofractor Parallel | S4: Speed Demons Gold Logofractor Parallel | T4: Speed Demons Orange Logofractor Parallel | U4: Speed Demons Black Logofractor Parallel | V4: Speed Demons Red Logofractor Parallel | W4: Speed Demons Rose Gold Logofractor Parallel | X4: Helmet Collection Logofractor | Y4: Helmet Collection Yellow Logofractor Parallel | Z4: Helmet Collection Gold Logofractor Parallel | AA4: Helmet Collection Orange Logofractor Parallel | AB4: Helmet Collection Black Logofractor Parallel | AC4: Helmet Collection Red Logofractor Parallel | AD4: Helmet Collection Rose Gold Logofractor Parallel | AE4: Floor It Logofractor | AF4: Floor It Yellow Logofractor Parallel | AG4: Floor It Gold Logofractor Parallel | AH4: Floor It Orange Logofractor Parallel | AI4: Floor It Black Logofractor Parallel | AJ4: Floor It Red Logofractor Parallel | AK4: Floor It Rose Gold Logofractor Parallel | AL4: Progression
A5: 1975 SPEED WHEELS · 10 cartes | AL5: =COUNTIF(B6:AK15,TRUE)/80 -> 0
A6: Yuki Tsunoda | B6: FALSE | C6: FALSE | D6: FALSE | E6: FALSE | F6: FALSE | G6: FALSE | H6: FALSE | I6: FALSE | AL6: =COUNTIF(B6:AK6,TRUE)/8 -> 0
A7: Charles Leclerc | B7: FALSE | C7: FALSE | D7: FALSE | E7: FALSE | F7: FALSE | G7: FALSE | H7: FALSE | I7: FALSE | AL7: =COUNTIF(B7:AK7,TRUE)/8 -> 0
A8: Lando Norris | B8: FALSE | C8: FALSE | D8: FALSE | E8: FALSE | F8: FALSE | G8: FALSE | H8: FALSE | I8: FALSE | AL8: =COUNTIF(B8:AK8,TRUE)/8 -> 0
A9: George Russell | B9: FALSE | C9: FALSE | D9: FALSE | E9: FALSE | F9: FALSE | G9: FALSE | H9: FALSE | I9: FALSE | AL9: =COUNTIF(B9:AK9,TRUE)/8 -> 0
A10: Lance Stroll | B10: FALSE | C10: FALSE | D10: FALSE | E10: FALSE | F10: FALSE | G10: FALSE | H10: FALSE | I10: FALSE | AL10: =COUNTIF(B10:AK10,TRUE)/8 -> 0
A11: Isack Hadjar (RC) | B11: FALSE | C11: FALSE | D11: FALSE | E11: FALSE | F11: FALSE | G11: FALSE | H11: FALSE | I11: FALSE | AL11: =COUNTIF(B11:AK11,TRUE)/8 -> 0
A12: Esteban Ocon | B12: FALSE | C12: FALSE | D12: FALSE | E12: FALSE | F12: FALSE | G12: FALSE | H12: FALSE | I12: FALSE | AL12: =COUNTIF(B12:AK12,TRUE)/8 -> 0
A13: Pierre Gasly | B13: FALSE | C13: FALSE | D13: FALSE | E13: FALSE | F13: FALSE | G13: FALSE | H13: FALSE | I13: FALSE | AL13: =COUNTIF(B13:AK13,TRUE)/8 -> 0
A14: Carlos Sainz | B14: FALSE | C14: FALSE | D14: FALSE | E14: FALSE | F14: FALSE | G14: FALSE | H14: FALSE | I14: FALSE | AL14: =COUNTIF(B14:AK14,TRUE)/8 -> 0
A15: Gabriel Bortoleto (RC) | B15: FALSE | C15: FALSE | D15: FALSE | E15: FALSE | F15: FALSE | G15: FALSE | H15: FALSE | I15: FALSE | AL15: =COUNTIF(B15:AK15,TRUE)/8 -> 0
A17: ACE OF TRADES · 10 cartes | AL17: =COUNTIF(B18:AK27,TRUE)/80 -> 0
A18: George Russell | B18: FALSE | J18: FALSE | K18: FALSE | L18: FALSE | M18: FALSE | N18: FALSE | O18: FALSE | P18: FALSE | AL18: =COUNTIF(B18:AK18,TRUE)/8 -> 0
A19: Charles Leclerc | B19: FALSE | J19: FALSE | K19: FALSE | L19: FALSE | M19: FALSE | N19: FALSE | O19: FALSE | P19: FALSE | AL19: =COUNTIF(B19:AK19,TRUE)/8 -> 0
A20: Max Verstappen | B20: FALSE | J20: FALSE | K20: FALSE | L20: FALSE | M20: FALSE | N20: FALSE | O20: FALSE | P20: FALSE | AL20: =COUNTIF(B20:AK20,TRUE)/8 -> 0
A21: Lando Norris | B21: FALSE | J21: FALSE | K21: FALSE | L21: FALSE | M21: FALSE | N21: FALSE | O21: FALSE | P21: FALSE | AL21: =COUNTIF(B21:AK21,TRUE)/8 -> 0
A22: Liam Lawson (RC) | B22: FALSE | J22: FALSE | K22: FALSE | L22: FALSE | M22: FALSE | N22: FALSE | O22: FALSE | P22: FALSE | AL22: =COUNTIF(B22:AK22,TRUE)/8 -> 0
A23: Fernando Alonso | B23: FALSE | J23: FALSE | K23: FALSE | L23: FALSE | M23: FALSE | N23: FALSE | O23: FALSE | P23: FALSE | AL23: =COUNTIF(B23:AK23,TRUE)/8 -> 0
A24: Carlos Sainz | B24: FALSE | J24: FALSE | K24: FALSE | L24: FALSE | M24: FALSE | N24: FALSE | O24: FALSE | P24: FALSE | AL24: =COUNTIF(B24:AK24,TRUE)/8 -> 0
A25: Esteban Ocon | B25: FALSE | J25: FALSE | K25: FALSE | L25: FALSE | M25: FALSE | N25: FALSE | O25: FALSE | P25: FALSE | AL25: =COUNTIF(B25:AK25,TRUE)/8 -> 0
A26: Pierre Gasly | B26: FALSE | J26: FALSE | K26: FALSE | L26: FALSE | M26: FALSE | N26: FALSE | O26: FALSE | P26: FALSE | AL26: =COUNTIF(B26:AK26,TRUE)/8 -> 0
A27: Nico Hülkenberg | B27: FALSE | J27: FALSE | K27: FALSE | L27: FALSE | M27: FALSE | N27: FALSE | O27: FALSE | P27: FALSE | AL27: =COUNTIF(B27:AK27,TRUE)/8 -> 0
A29: SPEED DEMONS · 11 cartes | AL29: =COUNTIF(B30:AK40,TRUE)/88 -> 0
A30: Kimi Antonelli (RC) | B30: FALSE | Q30: FALSE | R30: FALSE | S30: FALSE | T30: FALSE | U30: FALSE | V30: FALSE | W30: FALSE | AL30: =COUNTIF(B30:AK30,TRUE)/8 -> 0
A31: Lewis Hamilton | B31: FALSE | Q31: FALSE | R31: FALSE | S31: FALSE | T31: FALSE | U31: FALSE | V31: FALSE | W31: FALSE | AL31: =COUNTIF(B31:AK31,TRUE)/8 -> 0
A32: Yuki Tsunoda | B32: FALSE | Q32: FALSE | R32: FALSE | S32: FALSE | T32: FALSE | U32: FALSE | V32: FALSE | W32: FALSE | AL32: =COUNTIF(B32:AK32,TRUE)/8 -> 0
A33: Oscar Piastri | B33: FALSE | Q33: FALSE | R33: FALSE | S33: FALSE | T33: FALSE | U33: FALSE | V33: FALSE | W33: FALSE | AL33: =COUNTIF(B33:AK33,TRUE)/8 -> 0
A34: Isack Hadjar (RC) | B34: FALSE | Q34: FALSE | R34: FALSE | S34: FALSE | T34: FALSE | U34: FALSE | V34: FALSE | W34: FALSE | AL34: =COUNTIF(B34:AK34,TRUE)/8 -> 0
A35: Lance Stroll | B35: FALSE | Q35: FALSE | R35: FALSE | S35: FALSE | T35: FALSE | U35: FALSE | V35: FALSE | W35: FALSE | AL35: =COUNTIF(B35:AK35,TRUE)/8 -> 0
A36: Alex Albon | B36: FALSE | Q36: FALSE | R36: FALSE | S36: FALSE | T36: FALSE | U36: FALSE | V36: FALSE | W36: FALSE | AL36: =COUNTIF(B36:AK36,TRUE)/8 -> 0
A37: Oliver Bearman (RC) | B37: FALSE | Q37: FALSE | R37: FALSE | S37: FALSE | T37: FALSE | U37: FALSE | V37: FALSE | W37: FALSE | AL37: =COUNTIF(B37:AK37,TRUE)/8 -> 0
A38: Franco Colapinto | B38: FALSE | Q38: FALSE | R38: FALSE | S38: FALSE | T38: FALSE | U38: FALSE | V38: FALSE | W38: FALSE | AL38: =COUNTIF(B38:AK38,TRUE)/8 -> 0
A39: Gabriel Bortoleto (RC) | B39: FALSE | Q39: FALSE | R39: FALSE | S39: FALSE | T39: FALSE | U39: FALSE | V39: FALSE | W39: FALSE | AL39: =COUNTIF(B39:AK39,TRUE)/8 -> 0
A40: Kimi Räikkönen | B40: FALSE | Q40: FALSE | R40: FALSE | S40: FALSE | T40: FALSE | U40: FALSE | V40: FALSE | W40: FALSE | AL40: =COUNTIF(B40:AK40,TRUE)/8 -> 0
A42: HELMET COLLECTION · 10 cartes | AL42: =COUNTIF(B43:AK52,TRUE)/80 -> 0
A43: Kimi Antonelli (RC) | B43: FALSE | X43: FALSE | Y43: FALSE | Z43: FALSE | AA43: FALSE | AB43: FALSE | AC43: FALSE | AD43: FALSE | AL43: =COUNTIF(B43:AK43,TRUE)/8 -> 0
A44: Lewis Hamilton | B44: FALSE | X44: FALSE | Y44: FALSE | Z44: FALSE | AA44: FALSE | AB44: FALSE | AC44: FALSE | AD44: FALSE | AL44: =COUNTIF(B44:AK44,TRUE)/8 -> 0
A45: Yuki Tsunoda | B45: FALSE | X45: FALSE | Y45: FALSE | Z45: FALSE | AA45: FALSE | AB45: FALSE | AC45: FALSE | AD45: FALSE | AL45: =COUNTIF(B45:AK45,TRUE)/8 -> 0
A46: Lando Norris | B46: FALSE | X46: FALSE | Y46: FALSE | Z46: FALSE | AA46: FALSE | AB46: FALSE | AC46: FALSE | AD46: FALSE | AL46: =COUNTIF(B46:AK46,TRUE)/8 -> 0
A47: Isack Hadjar (RC) | B47: FALSE | X47: FALSE | Y47: FALSE | Z47: FALSE | AA47: FALSE | AB47: FALSE | AC47: FALSE | AD47: FALSE | AL47: =COUNTIF(B47:AK47,TRUE)/8 -> 0
A48: Fernando Alonso | B48: FALSE | X48: FALSE | Y48: FALSE | Z48: FALSE | AA48: FALSE | AB48: FALSE | AC48: FALSE | AD48: FALSE | AL48: =COUNTIF(B48:AK48,TRUE)/8 -> 0
A49: Carlos Sainz | B49: FALSE | X49: FALSE | Y49: FALSE | Z49: FALSE | AA49: FALSE | AB49: FALSE | AC49: FALSE | AD49: FALSE | AL49: =COUNTIF(B49:AK49,TRUE)/8 -> 0
A50: Oliver Bearman (RC) | B50: FALSE | X50: FALSE | Y50: FALSE | Z50: FALSE | AA50: FALSE | AB50: FALSE | AC50: FALSE | AD50: FALSE | AL50: =COUNTIF(B50:AK50,TRUE)/8 -> 0
A51: Franco Colapinto | B51: FALSE | X51: FALSE | Y51: FALSE | Z51: FALSE | AA51: FALSE | AB51: FALSE | AC51: FALSE | AD51: FALSE | AL51: =COUNTIF(B51:AK51,TRUE)/8 -> 0
A52: Gabriel Bortoleto (RC) | B52: FALSE | X52: FALSE | Y52: FALSE | Z52: FALSE | AA52: FALSE | AB52: FALSE | AC52: FALSE | AD52: FALSE | AL52: =COUNTIF(B52:AK52,TRUE)/8 -> 0
A54: FLOOR IT · 10 cartes | AL54: =COUNTIF(B55:AK64,TRUE)/80 -> 0
A55: Alain Prost | B55: FALSE | AE55: FALSE | AF55: FALSE | AG55: FALSE | AH55: FALSE | AI55: FALSE | AJ55: FALSE | AK55: FALSE | AL55: =COUNTIF(B55:AK55,TRUE)/8 -> 0
A56: Damon Hill | B56: FALSE | AE56: FALSE | AF56: FALSE | AG56: FALSE | AH56: FALSE | AI56: FALSE | AJ56: FALSE | AK56: FALSE | AL56: =COUNTIF(B56:AK56,TRUE)/8 -> 0
A57: Gerhard Berger | B57: FALSE | AE57: FALSE | AF57: FALSE | AG57: FALSE | AH57: FALSE | AI57: FALSE | AJ57: FALSE | AK57: FALSE | AL57: =COUNTIF(B57:AK57,TRUE)/8 -> 0
A58: Jackie Stewart | B58: FALSE | AE58: FALSE | AF58: FALSE | AG58: FALSE | AH58: FALSE | AI58: FALSE | AJ58: FALSE | AK58: FALSE | AL58: =COUNTIF(B58:AK58,TRUE)/8 -> 0
A59: James Hunt | B59: FALSE | AE59: FALSE | AF59: FALSE | AG59: FALSE | AH59: FALSE | AI59: FALSE | AJ59: FALSE | AK59: FALSE | AL59: =COUNTIF(B59:AK59,TRUE)/8 -> 0
A60: Kimi Räikkönen | B60: FALSE | AE60: FALSE | AF60: FALSE | AG60: FALSE | AH60: FALSE | AI60: FALSE | AJ60: FALSE | AK60: FALSE | AL60: =COUNTIF(B60:AK60,TRUE)/8 -> 0
A61: Michael Schumacher | B61: FALSE | AE61: FALSE | AF61: FALSE | AG61: FALSE | AH61: FALSE | AI61: FALSE | AJ61: FALSE | AK61: FALSE | AL61: =COUNTIF(B61:AK61,TRUE)/8 -> 0
A62: Mika Häkkinen | B62: FALSE | AE62: FALSE | AF62: FALSE | AG62: FALSE | AH62: FALSE | AI62: FALSE | AJ62: FALSE | AK62: FALSE | AL62: =COUNTIF(B62:AK62,TRUE)/8 -> 0
A63: Nigel Mansell | B63: FALSE | AE63: FALSE | AF63: FALSE | AG63: FALSE | AH63: FALSE | AI63: FALSE | AJ63: FALSE | AK63: FALSE | AL63: =COUNTIF(B63:AK63,TRUE)/8 -> 0
A64: Ayrton Senna | B64: FALSE | AE64: FALSE | AF64: FALSE | AG64: FALSE | AH64: FALSE | AI64: FALSE | AJ64: FALSE | AK64: FALSE | AL64: =COUNTIF(B64:AK64,TRUE)/8 -> 0

Sheet Autographes
A1: Topps Chrome F1 Logofractor 2025 — Autographes
A2: Suivi de collection — checklist complète
A3: Cochez les cartes possédées. Utilisez les boutons − / + à gauche pour replier ou déplier chaque subset.
A4: Carte | B4: Standard | C4: Chrome Autographs Black & Red Logofractor Parallel | D4: Progression
A5: AUTOGRAPHES SET DE BASE · 66 cartes | D5: =COUNTIF(B6:C71,TRUE)/132 -> 0
A6: Max Verstappen | B6: FALSE | C6: FALSE | D6: =COUNTIF(B6:C6,TRUE)/2 -> 0
A7: Yuki Tsunoda | B7: FALSE | C7: FALSE | D7: =COUNTIF(B7:C7,TRUE)/2 -> 0
A8: Lewis Hamilton | B8: FALSE | C8: FALSE | D8: =COUNTIF(B8:C8,TRUE)/2 -> 0
A9: Lando Norris | B9: FALSE | C9: FALSE | D9: =COUNTIF(B9:C9,TRUE)/2 -> 0
A10: Oscar Piastri | B10: FALSE | C10: FALSE | D10: =COUNTIF(B10:C10,TRUE)/2 -> 0
A11: George Russell | B11: FALSE | C11: FALSE | D11: =COUNTIF(B11:C11,TRUE)/2 -> 0
A12: Kimi Antonelli (RC) | B12: FALSE | C12: FALSE | D12: =COUNTIF(B12:C12,TRUE)/2 -> 0
A13: Fernando Alonso | B13: FALSE | C13: FALSE | D13: =COUNTIF(B13:C13,TRUE)/2 -> 0
A14: Lance Stroll | B14: FALSE | C14: FALSE | D14: =COUNTIF(B14:C14,TRUE)/2 -> 0
A15: Liam Lawson (RC) | B15: FALSE | C15: FALSE | D15: =COUNTIF(B15:C15,TRUE)/2 -> 0
A16: Isack Hadjar (RC) | B16: FALSE | C16: FALSE | D16: =COUNTIF(B16:C16,TRUE)/2 -> 0
A17: Esteban Ocon | B17: FALSE | C17: FALSE | D17: =COUNTIF(B17:C17,TRUE)/2 -> 0
... A71: Jonathan Wheatley | B71: FALSE | C71: FALSE | D71: =COUNTIF(B71:C71,TRUE)/2 -> 0
