Workbook

Sheet Aperçu
A1: Topps Chrome F1 Logofractor 2024
A2: Tracker de collection — checklist complète
A4: SET DE BASE (versions Standard) | C4: CARTES STANDARDS (tous les onglets) | E4: PARALLÈLES (variantes) | G4: COLLECTION TOTALE
A5: =(COUNTIF('Set de base'!B6:B82,TRUE))/77 -> 0 | C5: =(COUNTIF('Set de base'!B6:B82,TRUE)+COUNTIF('Inserts'!B6:B113,TRUE))/177 -> 0 | E5: =(COUNTIF('Set de base'!C6:AD82,TRUE)+COUNTIF('Inserts'!C6:G113,TRUE))/2656 -> 0 | G5: =(COUNTIF('Set de base'!B6:AD82,TRUE)+COUNTIF('Inserts'!B6:G113,TRUE))/2833 -> 0
A7: =(COUNTIF('Set de base'!B6:B82,TRUE))&" / 77" -> 0 / 77 | C7: =(COUNTIF('Set de base'!B6:B82,TRUE)+COUNTIF('Inserts'!B6:B113,TRUE))&" / 177" -> 0 / 177 | E7: =(COUNTIF('Set de base'!C6:AD82,TRUE)+COUNTIF('Inserts'!C6:G113,TRUE))&" / 2656" -> 0 / 2656 | G7: =(COUNTIF('Set de base'!B6:AD82,TRUE)+COUNTIF('Inserts'!B6:G113,TRUE))&" / 2833" -> 0 / 2833
A8: Set de base = versions Standard de l’onglet « Set de base » • Cartes Standards = version principale non parallèle lorsqu’elle existe, tous onglets confondus.
A10: Progression par onglet
A11: Onglet | B11: Versions | C11: Possédées | D11: Progression
A12: Set de base | B12: 2233 | C12: =COUNTIF('Set de base'!B6:AD82,TRUE) -> 0 | D12: =(COUNTIF('Set de base'!B6:AD82,TRUE))/2233 -> 0
A13: Inserts | B13: 600 | C13: =COUNTIF('Inserts'!B6:G113,TRUE) -> 0 | D13: =(COUNTIF('Inserts'!B6:G113,TRUE))/600 -> 0
A16: Cartes de base par pilote
A17: Pilote | B17: Cartes de base | C17: Possédées | D17: Progression
A18: Alain Prost | B18: 1 | C18: =IF('Set de base'!B81=TRUE,1,0) -> 0 | D18: =(IF('Set de base'!B81=TRUE,1,0))/1 -> 0
A19: Alexander Albon | B19: 1 | C19: =IF('Set de base'!B24=TRUE,1,0) -> 0 | D19: =(IF('Set de base'!B24=TRUE,1,0))/1 -> 0
A20: Alexander Dunne | B20: 1 | C20: =IF('Set de base'!B56=TRUE,1,0) -> 0 | D20: =(IF('Set de base'!B56=TRUE,1,0))/1 -> 0
A21: Amaury Cordeel | B21: 1 | C21: =IF('Set de base'!B37=TRUE,1,0) -> 0 | D21: =(IF('Set de base'!B37=TRUE,1,0))/1 -> 0
A22: Arvid Lindblad | B22: 1 | C22: =IF('Set de base'!B50=TRUE,1,0) -> 0 | D22: =(IF('Set de base'!B50=TRUE,1,0))/1 -> 0
A23: Ayrton Senna | B23: 1 | C23: =IF('Set de base'!B79=TRUE,1,0) -> 0 | D23: =(IF('Set de base'!B79=TRUE,1,0))/1 -> 0
A24: Callum Voisin | B24: 1 | C24: =IF('Set de base'!B75=TRUE,1,0) -> 0 | D24: =(IF('Set de base'!B75=TRUE,1,0))/1 -> 0
A25: Carlos Sainz | B25: 1 | C25: =IF('Set de base'!B9=TRUE,1,0) -> 0 | D25: =(IF('Set de base'!B9=TRUE,1,0))/1 -> 0
A26: Charles Leclerc | B26: 1 | C26: =IF('Set de base'!B8=TRUE,1,0) -> 0 | D26: =(IF('Set de base'!B8=TRUE,1,0))/1 -> 0
A27: Charlie Wurz | B27: 1 | C27: =IF('Set de base'!B63=TRUE,1,0) -> 0 | D27: =(IF('Set de base'!B63=TRUE,1,0))/1 -> 0
A28: Christian Mansell | B28: 1 | C28: =IF('Set de base'!B69=TRUE,1,0) -> 0 | D28: =(IF('Set de base'!B69=TRUE,1,0))/1 -> 0
A29: Cian Shields | B29: 1 | C29: =IF('Set de base'!B62=TRUE,1,0) -> 0 | D29: =(IF('Set de base'!B62=TRUE,1,0))/1 -> 0
A30: Daniel Ricciardo | B30: 1 | C30: =IF('Set de base'!B23=TRUE,1,0) -> 0 | D30: =(IF('Set de base'!B23=TRUE,1,0))/1 -> 0
A31: David Coulthard | B31: 1 | C31: =IF('Set de base'!B82=TRUE,1,0) -> 0 | D31: =(IF('Set de base'!B82=TRUE,1,0))/1 -> 0
A32: Dennis Hauger | B32: 1 | C32: =IF('Set de base'!B28=TRUE,1,0) -> 0 | D32: =(IF('Set de base'!B28=TRUE,1,0))/1 -> 0
A33: Dino Beganovic | B33: 1 | C33: =IF('Set de base'!B48=TRUE,1,0) -> 0 | D33: =(IF('Set de base'!B48=TRUE,1,0))/1 -> 0
A34: Enzo Fittipaldi | B34: 1 | C34: =IF('Set de base'!B44=TRUE,1,0) -> 0 | D34: =(IF('Set de base'!B44=TRUE,1,0))/1 -> 0
A35: Esteban Ocon | B35: 1 | C35: =IF('Set de base'!B14=TRUE,1,0) -> 0 | D35: =(IF('Set de base'!B14=TRUE,1,0))/1 -> 0
A36: Fernando Alonso | B36: 1 | C36: =IF('Set de base'!B16=TRUE,1,0) -> 0 | D36: =(IF('Set de base'!B16=TRUE,1,0))/1 -> 0
A37: Franco Colapinto | B37: 1 | C37: =IF('Set de base'!B29=TRUE,1,0) -> 0 | D37: =(IF('Set de base'!B29=TRUE,1,0))/1 -> 0
A38: Gabriel Bortoleto | B38: 1 | C38: =IF('Set de base'!B33=TRUE,1,0) -> 0 | D38: =(IF('Set de base'!B33=TRUE,1,0))/1 -> 0
A39: Gabriele Minì | B39: 1 | C39: =IF('Set de base'!B49=TRUE,1,0) -> 0 | D39: =(IF('Set de base'!B49=TRUE,1,0))/1 -> 0
A40: George Russell | B40: 1 | C40: =IF('Set de base'!B10=TRUE,1,0) -> 0 | D40: =(IF('Set de base'!B10=TRUE,1,0))/1 -> 0
A41: Isack Hadjar | B41: 1 | C41: =IF('Set de base'!B46=TRUE,1,0) -> 0 | D41: =(IF('Set de base'!B46=TRUE,1,0))/1 -> 0
A42: Jak Crawford | B42: 1 | C42: =IF('Set de base'!B38=TRUE,1,0) -> 0 | D42: =(IF('Set de base'!B38=TRUE,1,0))/1 -> 0
A43: Josep María Martí | B43: 1 | C43: =IF('Set de base'!B47=TRUE,1,0) -> 0 | D43: =(IF('Set de base'!B47=TRUE,1,0))/1 -> 0
A44: Joseph Loake | B44: 1 | C44: =IF('Set de base'!B76=TRUE,1,0) -> 0 | D44: =(IF('Set de base'!B76=TRUE,1,0))/1 -> 0
A45: Joshua Dufek | B45: 1 | C45: =IF('Set de base'!B74=TRUE,1,0) -> 0 | D45: =(IF('Set de base'!B74=TRUE,1,0))/1 -> 0
A46: Joshua Dürksen | B46: 1 | C46: =IF('Set de base'!B40=TRUE,1,0) -> 0 | D46: =(IF('Set de base'!B40=TRUE,1,0))/1 -> 0
A47: Juan Manuel Correa | B47: 1 | C47: =IF('Set de base'!B39=TRUE,1,0) -> 0 | D47: =(IF('Set de base'!B39=TRUE,1,0))/1 -> 0
A48: Kacper Sztuka | B48: 1 | C48: =IF('Set de base'!B55=TRUE,1,0) -> 0 | D48: =(IF('Set de base'!B55=TRUE,1,0))/1 -> 0
A49: Kevin Magnussen | B49: 1 | C49: =IF('Set de base'!B21=TRUE,1,0) -> 0 | D49: =(IF('Set de base'!B21=TRUE,1,0))/1 -> 0
A50: Kimi Antonelli | B50: 1 | C50: =IF('Set de base'!B27=TRUE,1,0) -> 0 | D50: =(IF('Set de base'!B27=TRUE,1,0))/1 -> 0
A51: Kush Maini | B51: 1 | C51: =IF('Set de base'!B32=TRUE,1,0) -> 0 | D51: =(IF('Set de base'!B32=TRUE,1,0))/1 -> 0
A52: Lance Stroll | B52: 1 | C52: =IF('Set de base'!B17=TRUE,1,0) -> 0 | D52: =(IF('Set de base'!B17=TRUE,1,0))/1 -> 0
A53: Lando Norris | B53: 1 | C53: =IF('Set de base'!B12=TRUE,1,0) -> 0 | D53: =(IF('Set de base'!B12=TRUE,1,0))/1 -> 0
A54: Laurens van Hoepen | B54: 1 | C54: =IF('Set de base'!B70=TRUE,1,0) -> 0 | D54: =(IF('Set de base'!B70=TRUE,1,0))/1 -> 0
A55: Leonardo Fornaroli | B55: 1 | C55: =IF('Set de base'!B51=TRUE,1,0) -> 0 | D55: =(IF('Set de base'!B51=TRUE,1,0))/1 -> 0
A56: Lewis Hamilton | B56: 1 | C56: =IF('Set de base'!B11=TRUE,1,0) -> 0 | D56: =(IF('Set de base'!B11=TRUE,1,0))/1 -> 0
A57: Logan Sargeant | B57: 1 | C57: =IF('Set de base'!B25=TRUE,1,0) -> 0 | D57: =(IF('Set de base'!B25=TRUE,1,0))/1 -> 0
A58: Luke Browning | B58: 1 | C58: =IF('Set de base'!B60=TRUE,1,0) -> 0 | D58: =(IF('Set de base'!B60=TRUE,1,0))/1 -> 0
A59: Mari Boya | B59: 1 | C59: =IF('Set de base'!B59=TRUE,1,0) -> 0 | D59: =(IF('Set de base'!B59=TRUE,1,0))/1 -> 0
A60: Martinius Stenshorne | B60: 1 | C60: =IF('Set de base'!B61=TRUE,1,0) -> 0 | D60: =(IF('Set de base'!B61=TRUE,1,0))/1 -> 0
A61: Matías Zagazeta | B61: 1 | C61: =IF('Set de base'!B65=TRUE,1,0) -> 0 | D61: =(IF('Set de base'!B65=TRUE,1,0))/1 -> 0
A62: Max Esterson | B62: 1 | C62: =IF('Set de base'!B64=TRUE,1,0) -> 0 | D62: =(IF('Set de base'!B64=TRUE,1,0))/1 -> 0
A63: Max Verstappen | B63: 1 | C63: =IF('Set de base'!B6=TRUE,1,0) -> 0 | D63: =(IF('Set de base'!B6=TRUE,1,0))/1 -> 0
A64: Michael Schumacher | B64: 1 | C64: =IF('Set de base'!B78=TRUE,1,0) -> 0 | D64: =(IF('Set de base'!B78=TRUE,1,0))/1 -> 0
A65: Nico Hülkenberg | B65: 1 | C65: =IF('Set de base'!B20=TRUE,1,0) -> 0 | D65: =(IF('Set de base'!B20=TRUE,1,0))/1 -> 0
A66: Nigel Mansell | B66: 1 | C66: =IF('Set de base'!B80=TRUE,1,0) -> 0 | D66: =(IF('Set de base'!B80=TRUE,1,0))/1 -> 0
A67: Nikita Bedrin | B67: 1 | C67: =IF('Set de base'!B73=TRUE,1,0) -> 0 | D67: =(IF('Set de base'!B73=TRUE,1,0))/1 -> 0
A68: Nikola Tsolov | B68: 1 | C68: =IF('Set de base'!B71=TRUE,1,0) -> 0 | D68: =(IF('Set de base'!B71=TRUE,1,0))/1 -> 0
A69: Noel León | B69: 1 | C69: =IF('Set de base'!B66=TRUE,1,0) -> 0 | D69: =(IF('Set de base'!B66=TRUE,1,0))/1 -> 0
A70: Oliver Bearman | B70: 1 | C70: =IF('Set de base'!B26=TRUE,1,0) -> 0 | D70: =(IF('Set de base'!B26=TRUE,1,0))/1 -> 0
A71: Oliver Goethe | B71: 1 | C71: =IF('Set de base'!B57=TRUE,1,0) -> 0 | D71: =(IF('Set de base'!B57=TRUE,1,0))/1 -> 0
A72: Oscar Piastri | B72: 1 | C72: =IF('Set de base'!B13=TRUE,1,0) -> 0 | D72: =(IF('Set de base'!B13=TRUE,1,0))/1 -> 0
A73: Paul Aron | B73: 1 | C73: =IF('Set de base'!B36=TRUE,1,0) -> 0 | D73: =(IF('Set de base'!B36=TRUE,1,0))/1 -> 0
A74: Pierre Gasly | B74: 1 | C74: =IF('Set de base'!B15=TRUE,1,0) -> 0 | D74: =(IF('Set de base'!B15=TRUE,1,0))/1 -> 0
A75: Piotr Wiśnicki | B75: 1 | C75: =IF('Set de base'!B77=TRUE,1,0) -> 0 | D75: =(IF('Set de base'!B77=TRUE,1,0))/1 -> 0
A76: Rafael Villagómez | B76: 1 | C76: =IF('Set de base'!B45=TRUE,1,0) -> 0 | D76: =(IF('Set de base'!B45=TRUE,1,0))/1 -> 0
A77: Richard Verschoor | B77: 1 | C77: =IF('Set de base'!B42=TRUE,1,0) -> 0 | D77: =(IF('Set de base'!B42=TRUE,1,0))/1 -> 0
A78: Ritomo Miyata | B78: 1 | C78: =IF('Set de base'!B31=TRUE,1,0) -> 0 | D78: =(IF('Set de base'!B31=TRUE,1,0))/1 -> 0
A79: Roman Staněk | B79: 1 | C79: =IF('Set de base'!B43=TRUE,1,0) -> 0 | D79: =(IF('Set de base'!B43=TRUE,1,0))/1 -> 0
A80: Sami Meguetounif | B80: 1 | C80: =IF('Set de base'!B52=TRUE,1,0) -> 0 | D80: =(IF('Set de base'!B52=TRUE,1,0))/1 -> 0
A81: Santiago Ramos | B81: 1 | C81: =IF('Set de base'!B53=TRUE,1,0) -> 0 | D81: =(IF('Set de base'!B53=TRUE,1,0))/1 -> 0
A82: Sebastián Montoya | B82: 1 | C82: =IF('Set de base'!B58=TRUE,1,0) -> 0 | D82: =(IF('Set de base'!B58=TRUE,1,0))/1 -> 0
A83: Sergio Pérez | B83: 1 | C83: =IF('Set de base'!B7=TRUE,1,0) -> 0 | D83: =(IF('Set de base'!B7=TRUE,1,0))/1 -> 0
A84: Sophia Flörsch | B84: 1 | C84: =IF('Set de base'!B67=TRUE,1,0) -> 0 | D84: =(IF('Set de base'!B67=TRUE,1,0))/1 -> 0
A85: Tasanapol Inthraphuvasak | B85: 1 | C85: =IF('Set de base'!B72=TRUE,1,0) -> 0 | D85: =(IF('Set de base'!B72=TRUE,1,0))/1 -> 0
A86: Taylor Barnard | B86: 1 | C86: =IF('Set de base'!B41=TRUE,1,0) -> 0 | D86: =(IF('Set de base'!B41=TRUE,1,0))/1 -> 0
A87: Tim Tramnitz | B87: 1 | C87: =IF('Set de base'!B54=TRUE,1,0) -> 0 | D87: =(IF('Set de base'!B54=TRUE,1,0))/1 -> 0
A88: Tommy Smith | B88: 1 | C88: =IF('Set de base'!B68=TRUE,1,0) -> 0 | D88: =(IF('Set de base'!B68=TRUE,1,0))/1 -> 0
A89: Valtteri Bottas | B89: 1 | C89: =IF('Set de base'!B18=TRUE,1,0) -> 0 | D89: =(IF('Set de base'!B18=TRUE,1,0))/1 -> 0
A90: Victor Martins | B90: 1 | C90: =IF('Set de base'!B35=TRUE,1,0) -> 0 | D90: =(IF('Set de base'!B35=TRUE,1,0))/1 -> 0
A91: Yuki Tsunoda | B91: 1 | C91: =IF('Set de base'!B22=TRUE,1,0) -> 0 | D91: =(IF('Set de base'!B22=TRUE,1,0))/1 -> 0
A92: Zak O'Sullivan | B92: 1 | C92: =IF('Set de base'!B34=TRUE,1,0) -> 0 | D92: =(IF('Set de base'!B34=TRUE,1,0))/1 -> 0
A93: Zane Maloney | B93: 1 | C93: =IF('Set de base'!B30=TRUE,1,0) -> 0 | D93: =(IF('Set de base'!B30=TRUE,1,0))/1 -> 0
A94: Zhou Guanyu | B94: 1 | C94: =IF('Set de base'!B19=TRUE,1,0) -> 0 | D94: =(IF('Set de base'!B19=TRUE,1,0))/1 -> 0

Sheet Set de base
A1: Topps Chrome F1 Logofractor 2024 — Set de base
A2: Suivi de collection — checklist complète
A3: Cochez les cartes possédées. Utilisez les boutons − / + à gauche pour replier ou déplier chaque subset.
A4: Carte | B4: Standard | C4: Refractor | D4: Black & White RayWave | E4: Purple/Green Refractor | F4: Checker Flag | G4: Purple Checker Flag /199 | H4: Mini Diamonds Refractor /299 | I4: Fuchsia Lava /225 | J4: Gold/Purple Refractor | K4: Green Refractor /99 | L4: Aqua Sonar /150 | M4: Green RayWave /99 | N4: Orange/Red Refractor | O4: Pink Refractor /75 | P4: Pink RayWave /75 | Q4: Gold Refractor /50 | R4: Gold Checker Flag /50 | S4: Gold RayWave /50 | T4: Red/Green Refractor | U4: Orange Refractor /25 | V4: Orange Checker Flag /25 | W4: Orange RayWave /25 | X4: Black Refractor /10 | Y4: Red Checker Flag /5 | Z4: Red Refractor /5 | AA4: Red RayWave /5 | AB4: Black RayWave /1 | AC4: Printing plate /1 | AD4: Superfractor /1 | AE4: Progression
A5: SET DE BASE · 77 cartes | AE5: =COUNTIF(B6:AD82,TRUE)/2233 -> 0
A6: Max Verstappen | B6: FALSE | C6: FALSE | D6: FALSE | E6: FALSE | F6: FALSE | G6: FALSE | H6: FALSE | I6: FALSE | J6: FALSE | K6: FALSE | L6: FALSE | M6: FALSE | N6: FALSE | O6: FALSE | P6: FALSE | Q6: FALSE | R6: FALSE | S6: FALSE | T6: FALSE | U6: FALSE | V6: FALSE | W6: FALSE | X6: FALSE | Y6: FALSE | Z6: FALSE | AA6: FALSE | AB6: FALSE | AC6: FALSE | AD6: FALSE | AE6: =COUNTIF(B6:AD6,TRUE)/29 -> 0
A7: Sergio Pérez | B7: FALSE | C7: FALSE | D7: FALSE | E7: FALSE | F7: FALSE | G7: FALSE | H7: FALSE | I7: FALSE | J7: FALSE | K7: FALSE | L7: FALSE | M7: FALSE | N7: FALSE | O7: FALSE | P7: FALSE | Q7: FALSE | R7: FALSE | S7: FALSE | T7: FALSE | U7: FALSE | V7: FALSE | W7: FALSE | X7: FALSE | Y7: FALSE | Z7: FALSE | AA7: FALSE | AB7: FALSE | AC7: FALSE | AD7: FALSE | AE7: =COUNTIF(B7:AD7,TRUE)/29 -> 0
A8: Charles Leclerc | B8: FALSE | C8: FALSE | D8: FALSE | E8: FALSE | F8: FALSE | G8: FALSE | H8: FALSE | I8: FALSE | J8: FALSE | K8: FALSE | L8: FALSE | M8: FALSE | N8: FALSE | O8: FALSE | P8: FALSE | Q8: FALSE | R8: FALSE | S8: FALSE | T8: FALSE | U8: FALSE | V8: FALSE | W8: FALSE | X8: FALSE | Y8: FALSE | Z8: FALSE | AA8: FALSE | AB8: FALSE | AC8: FALSE | AD8: FALSE | AE8: =COUNTIF(B8:AD8,TRUE)/29 -> 0
A9: Carlos Sainz | B9: FALSE | C9: FALSE | D9: FALSE | E9: FALSE | F9: FALSE | G9: FALSE | H9: FALSE | I9: FALSE | J9: FALSE | K9: FALSE | L9: FALSE | M9: FALSE | N9: FALSE | O9: FALSE | P9: FALSE | Q9: FALSE | R9: FALSE | S9: FALSE | T9: FALSE | U9: FALSE | V9: FALSE | W9: FALSE | X9: FALSE | Y9: FALSE | Z9: FALSE | AA9: FALSE | AB9: FALSE | AC9: FALSE | AD9: FALSE | AE9: =COUNTIF(B9:AD9,TRUE)/29 -> 0
A10: George Russell | B10: FALSE | C10: FALSE | D10: FALSE | E10: FALSE | F10: FALSE | G10: FALSE | H10: FALSE | I10: FALSE | J10: FALSE | K10: FALSE | L10: FALSE | M10: FALSE | N10: FALSE | O10: FALSE | P10: FALSE | Q10: FALSE | R10: FALSE | S10: FALSE | T10: FALSE | U10: FALSE | V10: FALSE | W10: FALSE | X10: FALSE | Y10: FALSE | Z10: FALSE | AA10: FALSE | AB10: FALSE | AC10: FALSE | AD10: FALSE | AE10: =COUNTIF(B10:AD10,TRUE)/29 -> 0
A11: Lewis Hamilton | B11: FALSE | C11: FALSE | D11: FALSE | E11: FALSE | F11: FALSE | G11: FALSE | H11: FALSE | I11: FALSE | J11: FALSE | K11: FALSE | L11: FALSE | M11: FALSE | N11: FALSE | O11: FALSE | P11: FALSE | Q11: FALSE | R11: FALSE | S11: FALSE | T11: FALSE | U11: FALSE | V11: FALSE | W11: FALSE | X11: FALSE | Y11: FALSE | Z11: FALSE | AA11: FALSE | AB11: FALSE | AC11: FALSE | AD11: FALSE | AE11: =COUNTIF(B11:AD11,TRUE)/29 -> 0
A12: Lando Norris | B12: FALSE | C12: FALSE | D12: FALSE | E12: FALSE | F12: FALSE | G12: FALSE | H12: FALSE | I12: FALSE | J12: FALSE | K12: FALSE | L12: FALSE | M12: FALSE | N12: FALSE | O12: FALSE | P12: FALSE | Q12: FALSE | R12: FALSE | S12: FALSE | T12: FALSE | U12: FALSE | V12: FALSE | W12: FALSE | X12: FALSE | Y12: FALSE | Z12: FALSE | AA12: FALSE | AB12: FALSE | AC12: FALSE | AD12: FALSE | AE12: =COUNTIF(B12:AD12,TRUE)/29 -> 0
A13: Oscar Piastri | B13: FALSE | C13: FALSE | D13: FALSE | E13: FALSE | F13: FALSE | G13: FALSE | H13: FALSE | I13: FALSE | J13: FALSE | K13: FALSE | L13: FALSE | M13: FALSE | N13: FALSE | O13: FALSE | P13: FALSE | Q13: FALSE | R13: FALSE | S13: FALSE | T13: FALSE | U13: FALSE | V13: FALSE | W13: FALSE | X13: FALSE | Y13: FALSE | Z13: FALSE | AA13: FALSE | AB13: FALSE | AC13: FALSE | AD13: FALSE | AE13: =COUNTIF(B13:AD13,TRUE)/29 -> 0
A14: Esteban Ocon | B14: FALSE | C14: FALSE | D14: FALSE | E14: FALSE | F14: FALSE | G14: FALSE | H14: FALSE | I14: FALSE | J14: FALSE | K14: FALSE | L14: FALSE | M14: FALSE | N14: FALSE | O14: FALSE | P14: FALSE | Q14: FALSE | R14: FALSE | S14: FALSE | T14: FALSE | U14: FALSE | V14: FALSE | W14: FALSE | X14: FALSE | Y14: FALSE | Z14: FALSE | AA14: FALSE | AB14: FALSE | AC14: FALSE | AD14: FALSE | AE14: =COUNTIF(B14:AD14,TRUE)/29 -> 0
A15: Pierre Gasly | B15: FALSE | C15: FALSE | D15: FALSE | E15: FALSE | F15: FALSE | G15: FALSE | H15: FALSE | I15: FALSE | J15: FALSE | K15: FALSE | L15: FALSE | M15: FALSE | N15: FALSE | O15: FALSE | P15: FALSE | Q15: FALSE | R15: FALSE | S15: FALSE | T15: FALSE | U15: FALSE | V15: FALSE | W15: FALSE | X15: FALSE | Y15: FALSE | Z15: FALSE | AA15: FALSE | AB15: FALSE | AC15: FALSE | AD15: FALSE | AE15: =COUNTIF(B15:AD15,TRUE)/29 -> 0
A16: Fernando Alonso | B16: FALSE | C16: FALSE | D16: FALSE | E16: FALSE | F16: FALSE | G16: FALSE | H16: FALSE | I16: FALSE | J16: FALSE | K16: FALSE | L16: FALSE | M16: FALSE | N16: FALSE | O16: FALSE | P16: FALSE | Q16: FALSE | R16: FALSE | S16: FALSE | T16: FALSE | U16: FALSE | V16: FALSE | W16: FALSE | X16: FALSE | Y16: FALSE | Z16: FALSE | AA16: FALSE | AB16: FALSE | AC16: FALSE | AD16: FALSE | AE16: =COUNTIF(B16:AD16,TRUE)/29 -> 0
A17: Lance Stroll | B17: FALSE | C17: FALSE | D17: FALSE | E17: FALSE | F17: FALSE | G17: FALSE | H17: FALSE | I17: FALSE | J17: FALSE | K17: FALSE | L17: FALSE | M17: FALSE | N17: FALSE | O17: FALSE | P17: FALSE | Q17: FALSE | R17: FALSE | S17: FALSE | T17: FALSE | U17: FALSE | V17: FALSE | W17: FALSE | X17: FALSE | Y17: FALSE | Z17: FALSE | AA17: FALSE | AB17: FALSE | AC17: FALSE | AD17: FALSE | AE17: =COUNTIF(B17:AD17,TRUE)/29 -> 0
... A82: David Coulthard | B82: FALSE | C82: FALSE | D82: FALSE | E82: FALSE | F82: FALSE | G82: FALSE | H82: FALSE | I82: FALSE | J82: FALSE | K82: FALSE | L82: FALSE | M82: FALSE | N82: FALSE | O82: FALSE | P82: FALSE | Q82: FALSE | R82: FALSE | S82: FALSE | T82: FALSE | U82: FALSE | V82: FALSE | W82: FALSE | X82: FALSE | Y82: FALSE | Z82: FALSE | AA82: FALSE | AB82: FALSE | AC82: FALSE | AD82: FALSE | AE82: =COUNTIF(B82:AD82,TRUE)/29 -> 0

Sheet Inserts
A1: Topps Chrome F1 Logofractor 2024 — Inserts
A2: Suivi de collection — checklist complète
A3: Cochez les cartes possédées. Utilisez les boutons − / + à gauche pour replier ou déplier chaque subset.
A4: Carte | B4: Standard | C4: Gold /50 | D4: Orange /25 | E4: Black /10 | F4: Red /5 | G4: Rose Gold /1 | H4: Progression
A5: 1954 · 30 cartes | H5: =COUNTIF(B6:G35,TRUE)/180 -> 0
A6: Max Verstappen | B6: FALSE | C6: FALSE | D6: FALSE | E6: FALSE | F6: FALSE | G6: FALSE | H6: =COUNTIF(B6:G6,TRUE)/6 -> 0
A7: Sergio Pérez | B7: FALSE | C7: FALSE | D7: FALSE | E7: FALSE | F7: FALSE | G7: FALSE | H7: =COUNTIF(B7:G7,TRUE)/6 -> 0
A8: Charles Leclerc | B8: FALSE | C8: FALSE | D8: FALSE | E8: FALSE | F8: FALSE | G8: FALSE | H8: =COUNTIF(B8:G8,TRUE)/6 -> 0
A9: Carlos Sainz | B9: FALSE | C9: FALSE | D9: FALSE | E9: FALSE | F9: FALSE | G9: FALSE | H9: =COUNTIF(B9:G9,TRUE)/6 -> 0
A10: George Russell | B10: FALSE | C10: FALSE | D10: FALSE | E10: FALSE | F10: FALSE | G10: FALSE | H10: =COUNTIF(B10:G10,TRUE)/6 -> 0
A11: Lewis Hamilton | B11: FALSE | C11: FALSE | D11: FALSE | E11: FALSE | F11: FALSE | G11: FALSE | H11: =COUNTIF(B11:G11,TRUE)/6 -> 0
A12: Lando Norris | B12: FALSE | C12: FALSE | D12: FALSE | E12: FALSE | F12: FALSE | G12: FALSE | H12: =COUNTIF(B12:G12,TRUE)/6 -> 0
A13: Oscar Piastri | B13: FALSE | C13: FALSE | D13: FALSE | E13: FALSE | F13: FALSE | G13: FALSE | H13: =COUNTIF(B13:G13,TRUE)/6 -> 0
A14: Esteban Ocon | B14: FALSE | C14: FALSE | D14: FALSE | E14: FALSE | F14: FALSE | G14: FALSE | H14: =COUNTIF(B14:G14,TRUE)/6 -> 0
A15: Pierre Gasly | B15: FALSE | C15: FALSE | D15: FALSE | E15: FALSE | F15: FALSE | G15: FALSE | H15: =COUNTIF(B15:G15,TRUE)/6 -> 0
A16: Fernando Alonso | B16: FALSE | C16: FALSE | D16: FALSE | E16: FALSE | F16: FALSE | G16: FALSE | H16: =COUNTIF(B16:G16,TRUE)/6 -> 0
A17: Lance Stroll | B17: FALSE | C17: FALSE | D17: FALSE | E17: FALSE | F17: FALSE | G17: FALSE | H17: =COUNTIF(B17:G17,TRUE)/6 -> 0
... A35: Paul Aron | B35: FALSE | C35: FALSE | D35: FALSE | E35: FALSE | F35: FALSE | G35: FALSE | H35: =COUNTIF(B35:G35,TRUE)/6 -> 0
A37: CAMBER · 10 cartes | H37: =COUNTIF(B38:G47,TRUE)/60 -> 0
A38: Max Verstappen | B38: FALSE | C38: FALSE | D38: FALSE | E38: FALSE | F38: FALSE | G38: FALSE | H38: =COUNTIF(B38:G38,TRUE)/6 -> 0
A39: Carlos Sainz | B39: FALSE | C39: FALSE | D39: FALSE | E39: FALSE | F39: FALSE | G39: FALSE | H39: =COUNTIF(B39:G39,TRUE)/6 -> 0
A40: Lewis Hamilton | B40: FALSE | C40: FALSE | D40: FALSE | E40: FALSE | F40: FALSE | G40: FALSE | H40: =COUNTIF(B40:G40,TRUE)/6 -> 0
A41: Oscar Piastri | B41: FALSE | C41: FALSE | D41: FALSE | E41: FALSE | F41: FALSE | G41: FALSE | H41: =COUNTIF(B41:G41,TRUE)/6 -> 0
A42: Fernando Alonso | B42: FALSE | C42: FALSE | D42: FALSE | E42: FALSE | F42: FALSE | G42: FALSE | H42: =COUNTIF(B42:G42,TRUE)/6 -> 0
A43: Esteban Ocon | B43: FALSE | C43: FALSE | D43: FALSE | E43: FALSE | F43: FALSE | G43: FALSE | H43: =COUNTIF(B43:G43,TRUE)/6 -> 0
A44: Alexander Albon | B44: FALSE | C44: FALSE | D44: FALSE | E44: FALSE | F44: FALSE | G44: FALSE | H44: =COUNTIF(B44:G44,TRUE)/6 -> 0
A45: Zhou Guanyu | B45: FALSE | C45: FALSE | D45: FALSE | E45: FALSE | F45: FALSE | G45: FALSE | H45: =COUNTIF(B45:G45,TRUE)/6 -> 0
A46: Kevin Magnussen | B46: FALSE | C46: FALSE | D46: FALSE | E46: FALSE | F46: FALSE | G46: FALSE | H46: =COUNTIF(B46:G46,TRUE)/6 -> 0
A47: Yuki Tsunoda | B47: FALSE | C47: FALSE | D47: FALSE | E47: FALSE | F47: FALSE | G47: FALSE | H47: =COUNTIF(B47:G47,TRUE)/6 -> 0
A49: SPEED DEMONS · 25 cartes | H49: =COUNTIF(B50:G74,TRUE)/150 -> 0
A50: Max Verstappen | B50: FALSE | C50: FALSE | D50: FALSE | E50: FALSE | F50: FALSE | G50: FALSE | H50: =COUNTIF(B50:G50,TRUE)/6 -> 0
A51: Sergio Pérez | B51: FALSE | C51: FALSE | D51: FALSE | E51: FALSE | F51: FALSE | G51: FALSE | H51: =COUNTIF(B51:G51,TRUE)/6 -> 0
A52: Charles Leclerc | B52: FALSE | C52: FALSE | D52: FALSE | E52: FALSE | F52: FALSE | G52: FALSE | H52: =COUNTIF(B52:G52,TRUE)/6 -> 0
A53: Carlos Sainz | B53: FALSE | C53: FALSE | D53: FALSE | E53: FALSE | F53: FALSE | G53: FALSE | H53: =COUNTIF(B53:G53,TRUE)/6 -> 0
A54: George Russell | B54: FALSE | C54: FALSE | D54: FALSE | E54: FALSE | F54: FALSE | G54: FALSE | H54: =COUNTIF(B54:G54,TRUE)/6 -> 0
A55: Lewis Hamilton | B55: FALSE | C55: FALSE | D55: FALSE | E55: FALSE | F55: FALSE | G55: FALSE | H55: =COUNTIF(B55:G55,TRUE)/6 -> 0
A56: Lando Norris | B56: FALSE | C56: FALSE | D56: FALSE | E56: FALSE | F56: FALSE | G56: FALSE | H56: =COUNTIF(B56:G56,TRUE)/6 -> 0
A57: Oscar Piastri | B57: FALSE | C57: FALSE | D57: FALSE | E57: FALSE | F57: FALSE | G57: FALSE | H57: =COUNTIF(B57:G57,TRUE)/6 -> 0
A58: Esteban Ocon | B58: FALSE | C58: FALSE | D58: FALSE | E58: FALSE | F58: FALSE | G58: FALSE | H58: =COUNTIF(B58:G58,TRUE)/6 -> 0
A59: Pierre Gasly | B59: FALSE | C59: FALSE | D59: FALSE | E59: FALSE | F59: FALSE | G59: FALSE | H59: =COUNTIF(B59:G59,TRUE)/6 -> 0
A60: Fernando Alonso | B60: FALSE | C60: FALSE | D60: FALSE | E60: FALSE | F60: FALSE | G60: FALSE | H60: =COUNTIF(B60:G60,TRUE)/6 -> 0
A61: Lance Stroll | B61: FALSE | C61: FALSE | D61: FALSE | E61: FALSE | F61: FALSE | G61: FALSE | H61: =COUNTIF(B61:G61,TRUE)/6 -> 0
... A74: Zane Maloney | B74: FALSE | C74: FALSE | D74: FALSE | E74: FALSE | F74: FALSE | G74: FALSE | H74: =COUNTIF(B74:G74,TRUE)/6 -> 0
A76: RE-CHARGED · 20 cartes | H76: =COUNTIF(B77:G96,TRUE)/120 -> 0
A77: Max Verstappen | B77: FALSE | C77: FALSE | D77: FALSE | E77: FALSE | F77: FALSE | G77: FALSE | H77: =COUNTIF(B77:G77,TRUE)/6 -> 0
A78: Sergio Pérez | B78: FALSE | C78: FALSE | D78: FALSE | E78: FALSE | F78: FALSE | G78: FALSE | H78: =COUNTIF(B78:G78,TRUE)/6 -> 0
A79: Charles Leclerc | B79: FALSE | C79: FALSE | D79: FALSE | E79: FALSE | F79: FALSE | G79: FALSE | H79: =COUNTIF(B79:G79,TRUE)/6 -> 0
A80: Carlos Sainz | B80: FALSE | C80: FALSE | D80: FALSE | E80: FALSE | F80: FALSE | G80: FALSE | H80: =COUNTIF(B80:G80,TRUE)/6 -> 0
A81: George Russell | B81: FALSE | C81: FALSE | D81: FALSE | E81: FALSE | F81: FALSE | G81: FALSE | H81: =COUNTIF(B81:G81,TRUE)/6 -> 0
A82: Lewis Hamilton | B82: FALSE | C82: FALSE | D82: FALSE | E82: FALSE | F82: FALSE | G82: FALSE | H82: =COUNTIF(B82:G82,TRUE)/6 -> 0
A83: Lando Norris | B83: FALSE | C83: FALSE | D83: FALSE | E83: FALSE | F83: FALSE | G83: FALSE | H83: =COUNTIF(B83:G83,TRUE)/6 -> 0
A84: Oscar Piastri | B84: FALSE | C84: FALSE | D84: FALSE | E84: FALSE | F84: FALSE | G84: FALSE | H84: =COUNTIF(B84:G84,TRUE)/6 -> 0
A85: Esteban Ocon | B85: FALSE | C85: FALSE | D85: FALSE | E85: FALSE | F85: FALSE | G85: FALSE | H85: =COUNTIF(B85:G85,TRUE)/6 -> 0
A86: Pierre Gasly | B86: FALSE | C86: FALSE | D86: FALSE | E86: FALSE | F86: FALSE | G86: FALSE | H86: =COUNTIF(B86:G86,TRUE)/6 -> 0
A87: Fernando Alonso | B87: FALSE | C87: FALSE | D87: FALSE | E87: FALSE | F87: FALSE | G87: FALSE | H87: =COUNTIF(B87:G87,TRUE)/6 -> 0
A88: Lance Stroll | B88: FALSE | C88: FALSE | D88: FALSE | E88: FALSE | F88: FALSE | G88: FALSE | H88: =COUNTIF(B88:G88,TRUE)/6 -> 0
... A96: Logan Sargeant | B96: FALSE | C96: FALSE | D96: FALSE | E96: FALSE | F96: FALSE | G96: FALSE | H96: =COUNTIF(B96:G96,TRUE)/6 -> 0
A98: HELMET COLLECTION · 15 cartes | H98: =COUNTIF(B99:G113,TRUE)/90 -> 0
A99: Max Verstappen | B99: FALSE | C99: FALSE | D99: FALSE | E99: FALSE | F99: FALSE | G99: FALSE | H99: =COUNTIF(B99:G99,TRUE)/6 -> 0
A100: Sergio Pérez | B100: FALSE | C100: FALSE | D100: FALSE | E100: FALSE | F100: FALSE | G100: FALSE | H100: =COUNTIF(B100:G100,TRUE)/6 -> 0
A101: Charles Leclerc | B101: FALSE | C101: FALSE | D101: FALSE | E101: FALSE | F101: FALSE | G101: FALSE | H101: =COUNTIF(B101:G101,TRUE)/6 -> 0
A102: Carlos Sainz | B102: FALSE | C102: FALSE | D102: FALSE | E102: FALSE | F102: FALSE | G102: FALSE | H102: =COUNTIF(B102:G102,TRUE)/6 -> 0
A103: George Russell | B103: FALSE | C103: FALSE | D103: FALSE | E103: FALSE | F103: FALSE | G103: FALSE | H103: =COUNTIF(B103:G103,TRUE)/6 -> 0
A104: Lewis Hamilton | B104: FALSE | C104: FALSE | D104: FALSE | E104: FALSE | F104: FALSE | G104: FALSE | H104: =COUNTIF(B104:G104,TRUE)/6 -> 0
A105: Lando Norris | B105: FALSE | C105: FALSE | D105: FALSE | E105: FALSE | F105: FALSE | G105: FALSE | H105: =COUNTIF(B105:G105,TRUE)/6 -> 0
A106: Oscar Piastri | B106: FALSE | C106: FALSE | D106: FALSE | E106: FALSE | F106: FALSE | G106: FALSE | H106: =COUNTIF(B106:G106,TRUE)/6 -> 0
A107: Pierre Gasly | B107: FALSE | C107: FALSE | D107: FALSE | E107: FALSE | F107: FALSE | G107: FALSE | H107: =COUNTIF(B107:G107,TRUE)/6 -> 0
A108: Fernando Alonso | B108: FALSE | C108: FALSE | D108: FALSE | E108: FALSE | F108: FALSE | G108: FALSE | H108: =COUNTIF(B108:G108,TRUE)/6 -> 0
A109: Zhou Guanyu | B109: FALSE | C109: FALSE | D109: FALSE | E109: FALSE | F109: FALSE | G109: FALSE | H109: =COUNTIF(B109:G109,TRUE)/6 -> 0
A110: Kevin Magnussen | B110: FALSE | C110: FALSE | D110: FALSE | E110: FALSE | F110: FALSE | G110: FALSE | H110: =COUNTIF(B110:G110,TRUE)/6 -> 0
... A113: Logan Sargeant | B113: FALSE | C113: FALSE | D113: FALSE | E113: FALSE | F113: FALSE | G113: FALSE | H113: =COUNTIF(B113:G113,TRUE)/6 -> 0
