Workbook

Sheet Aperçu
A1: Topps Chrome F1 2026
A2: Tracker de collection — checklist complète
A4: SET DE BASE (versions Standard) | C4: CARTES STANDARDS (tous les onglets) | E4: PARALLÈLES (variantes) | G4: COLLECTION TOTALE
A5: =(COUNTIF('Set de base'!C6:C208,TRUE))/183 -> 0 | C5: =(COUNTIF('Set de base'!C6:C208,TRUE)+COUNTIF('Inserts'!C6:C274,TRUE)+COUNTIF('Autographes'!C6:C151,TRUE)+COUNTIF('Autographes & Reliques'!C6:C6,TRUE))/565 -> 0 | E5: =0 -> 0 | G5: =(COUNTIF('Set de base'!C6:C208,TRUE)+COUNTIF('Inserts'!C6:C274,TRUE)+COUNTIF('Autographes'!C6:C151,TRUE)+COUNTIF('Autographes & Reliques'!C6:C6,TRUE))/565 -> 0
A7: =(COUNTIF('Set de base'!C6:C208,TRUE))&" / 183" -> 0 / 183 | C7: =(COUNTIF('Set de base'!C6:C208,TRUE)+COUNTIF('Inserts'!C6:C274,TRUE)+COUNTIF('Autographes'!C6:C151,TRUE)+COUNTIF('Autographes & Reliques'!C6:C6,TRUE))&" / 565" -> 0 / 565 | E7: =(0)&" / 0" -> 0 / 0 | G7: =(COUNTIF('Set de base'!C6:C208,TRUE)+COUNTIF('Inserts'!C6:C274,TRUE)+COUNTIF('Autographes'!C6:C151,TRUE)+COUNTIF('Autographes & Reliques'!C6:C6,TRUE))&" / 565" -> 0 / 565
A8: Set de base = versions Standard de l’onglet « Set de base » • Cartes Standards = version principale non parallèle lorsqu’elle existe, tous onglets confondus.
A10: Progression par onglet
A11: Onglet | B11: Versions | C11: Possédées | D11: Progression
A12: Set de base | B12: 183 | C12: =COUNTIF('Set de base'!C6:C208,TRUE) -> 0 | D12: =(COUNTIF('Set de base'!C6:C208,TRUE))/183 -> 0
A13: Inserts | B13: 241 | C13: =COUNTIF('Inserts'!C6:C274,TRUE) -> 0 | D13: =(COUNTIF('Inserts'!C6:C274,TRUE))/241 -> 0
A14: Autographes | B14: 140 | C14: =COUNTIF('Autographes'!C6:C151,TRUE) -> 0 | D14: =(COUNTIF('Autographes'!C6:C151,TRUE))/140 -> 0
A15: Autographes & Reliques | B15: 1 | C15: =COUNTIF('Autographes & Reliques'!C6:C6,TRUE) -> 0 | D15: =(COUNTIF('Autographes & Reliques'!C6:C6,TRUE))/1 -> 0
A18: Cartes de base par pilote
A19: Pilote | B19: Cartes de base | C19: Possédées | D19: Progression
A20: Lando Norris | B20: 13 | C20: =IF('Set de base'!C6=TRUE,1,0)+IF('Set de base'!C83=TRUE,1,0)+IF('Set de base'!C107=TRUE,1,0)+IF('Set de base'!C114=TRUE,1,0)+IF('Set de base'!C117=TRUE,1,0)+IF('Set de base'!C118=TRUE,1,0)+IF('Set de base'!C120=TRUE,1,0)+IF('Set de base'!C126=TRUE,1,0)+IF('Set de base'!C127=TRUE,1,0)+IF('Set de base'!C133=TRUE,1,0)+IF('Set de base'!C150=TRUE,1,0)+IF('Set de base'!C151=TRUE,1,0)+IF('Set de base'!C172=TRUE,1,0) -> 0 | D20: =(IF('Set de base'!C6=TRUE,1,0)+IF('Set de base'!C83=TRUE,1,0)+IF('Set de base'!C107=TRUE,1,0)+IF('Set de base'!C114=TRUE,1,0)+IF('Set de base'!C117=TRUE,1,0)+IF('Set de base'!C118=TRUE,1,0)+IF('Set de base'!C120=TRUE,1,0)+IF('Set de base'!C126=TRUE,1,0)+IF('Set de base'!C127=TRUE,1,0)+IF('Set de base'!C133=TRUE,1,0)+IF('Set de base'!C150=TRUE,1,0)+IF('Set de base'!C151=TRUE,1,0)+IF('Set de base'!C172=TRUE,1,0))/13 -> 0
A21: Oscar Piastri | B21: 11 | C21: =IF('Set de base'!C7=TRUE,1,0)+IF('Set de base'!C84=TRUE,1,0)+IF('Set de base'!C108=TRUE,1,0)+IF('Set de base'!C110=TRUE,1,0)+IF('Set de base'!C111=TRUE,1,0)+IF('Set de base'!C112=TRUE,1,0)+IF('Set de base'!C115=TRUE,1,0)+IF('Set de base'!C119=TRUE,1,0)+IF('Set de base'!C121=TRUE,1,0)+IF('Set de base'!C134=TRUE,1,0)+IF('Set de base'!C172=TRUE,1,0) -> 0 | D21: =(IF('Set de base'!C7=TRUE,1,0)+IF('Set de base'!C84=TRUE,1,0)+IF('Set de base'!C108=TRUE,1,0)+IF('Set de base'!C110=TRUE,1,0)+IF('Set de base'!C111=TRUE,1,0)+IF('Set de base'!C112=TRUE,1,0)+IF('Set de base'!C115=TRUE,1,0)+IF('Set de base'!C119=TRUE,1,0)+IF('Set de base'!C121=TRUE,1,0)+IF('Set de base'!C134=TRUE,1,0)+IF('Set de base'!C172=TRUE,1,0))/11 -> 0
A22: George Russell | B22: 5 | C22: =IF('Set de base'!C8=TRUE,1,0)+IF('Set de base'!C85=TRUE,1,0)+IF('Set de base'!C116=TRUE,1,0)+IF('Set de base'!C124=TRUE,1,0)+IF('Set de base'!C173=TRUE,1,0) -> 0 | D22: =(IF('Set de base'!C8=TRUE,1,0)+IF('Set de base'!C85=TRUE,1,0)+IF('Set de base'!C116=TRUE,1,0)+IF('Set de base'!C124=TRUE,1,0)+IF('Set de base'!C173=TRUE,1,0))/5 -> 0
A23: Kimi Antonelli | B23: 4 | C23: =IF('Set de base'!C9=TRUE,1,0)+IF('Set de base'!C86=TRUE,1,0)+IF('Set de base'!C137=TRUE,1,0)+IF('Set de base'!C173=TRUE,1,0) -> 0 | D23: =(IF('Set de base'!C9=TRUE,1,0)+IF('Set de base'!C86=TRUE,1,0)+IF('Set de base'!C137=TRUE,1,0)+IF('Set de base'!C173=TRUE,1,0))/4 -> 0
A24: Max Verstappen | B24: 15 | C24: =IF('Set de base'!C10=TRUE,1,0)+IF('Set de base'!C87=TRUE,1,0)+IF('Set de base'!C109=TRUE,1,0)+IF('Set de base'!C113=TRUE,1,0)+IF('Set de base'!C122=TRUE,1,0)+IF('Set de base'!C123=TRUE,1,0)+IF('Set de base'!C125=TRUE,1,0)+IF('Set de base'!C128=TRUE,1,0)+IF('Set de base'!C129=TRUE,1,0)+IF('Set de base'!C130=TRUE,1,0)+IF('Set de base'!C135=TRUE,1,0)+IF('Set de base'!C142=TRUE,1,0)+IF('Set de base'!C146=TRUE,1,0)+IF('Set de base'!C147=TRUE,1,0)+IF('Set de base'!C174=TRUE,1,0) -> 0 | D24: =(IF('Set de base'!C10=TRUE,1,0)+IF('Set de base'!C87=TRUE,1,0)+IF('Set de base'!C109=TRUE,1,0)+IF('Set de base'!C113=TRUE,1,0)+IF('Set de base'!C122=TRUE,1,0)+IF('Set de base'!C123=TRUE,1,0)+IF('Set de base'!C125=TRUE,1,0)+IF('Set de base'!C128=TRUE,1,0)+IF('Set de base'!C129=TRUE,1,0)+IF('Set de base'!C130=TRUE,1,0)+IF('Set de base'!C135=TRUE,1,0)+IF('Set de base'!C142=TRUE,1,0)+IF('Set de base'!C146=TRUE,1,0)+IF('Set de base'!C147=TRUE,1,0)+IF('Set de base'!C174=TRUE,1,0))/15 -> 0
A25: Isack Hadjar | B25: 4 | C25: =IF('Set de base'!C11=TRUE,1,0)+IF('Set de base'!C88=TRUE,1,0)+IF('Set de base'!C141=TRUE,1,0)+IF('Set de base'!C174=TRUE,1,0) -> 0 | D25: =(IF('Set de base'!C11=TRUE,1,0)+IF('Set de base'!C88=TRUE,1,0)+IF('Set de base'!C141=TRUE,1,0)+IF('Set de base'!C174=TRUE,1,0))/4 -> 0
A26: Charles Leclerc | B26: 4 | C26: =IF('Set de base'!C12=TRUE,1,0)+IF('Set de base'!C89=TRUE,1,0)+IF('Set de base'!C136=TRUE,1,0)+IF('Set de base'!C175=TRUE,1,0) -> 0 | D26: =(IF('Set de base'!C12=TRUE,1,0)+IF('Set de base'!C89=TRUE,1,0)+IF('Set de base'!C136=TRUE,1,0)+IF('Set de base'!C175=TRUE,1,0))/4 -> 0
A27: Lewis Hamilton | B27: 4 | C27: =IF('Set de base'!C13=TRUE,1,0)+IF('Set de base'!C90=TRUE,1,0)+IF('Set de base'!C139=TRUE,1,0)+IF('Set de base'!C175=TRUE,1,0) -> 0 | D27: =(IF('Set de base'!C13=TRUE,1,0)+IF('Set de base'!C90=TRUE,1,0)+IF('Set de base'!C139=TRUE,1,0)+IF('Set de base'!C175=TRUE,1,0))/4 -> 0
A28: Alex Albon | B28: 3 | C28: =IF('Set de base'!C14=TRUE,1,0)+IF('Set de base'!C91=TRUE,1,0)+IF('Set de base'!C176=TRUE,1,0) -> 0 | D28: =(IF('Set de base'!C14=TRUE,1,0)+IF('Set de base'!C91=TRUE,1,0)+IF('Set de base'!C176=TRUE,1,0))/3 -> 0
A29: Carlos Sainz | B29: 4 | C29: =IF('Set de base'!C15=TRUE,1,0)+IF('Set de base'!C92=TRUE,1,0)+IF('Set de base'!C143=TRUE,1,0)+IF('Set de base'!C176=TRUE,1,0) -> 0 | D29: =(IF('Set de base'!C15=TRUE,1,0)+IF('Set de base'!C92=TRUE,1,0)+IF('Set de base'!C143=TRUE,1,0)+IF('Set de base'!C176=TRUE,1,0))/4 -> 0
A30: Liam Lawson | B30: 3 | C30: =IF('Set de base'!C16=TRUE,1,0)+IF('Set de base'!C93=TRUE,1,0)+IF('Set de base'!C177=TRUE,1,0) -> 0 | D30: =(IF('Set de base'!C16=TRUE,1,0)+IF('Set de base'!C93=TRUE,1,0)+IF('Set de base'!C177=TRUE,1,0))/3 -> 0
A31: Arvid Lindblad | B31: 3 | C31: =IF('Set de base'!C17=TRUE,1,0)+IF('Set de base'!C94=TRUE,1,0)+IF('Set de base'!C177=TRUE,1,0) -> 0 | D31: =(IF('Set de base'!C17=TRUE,1,0)+IF('Set de base'!C94=TRUE,1,0)+IF('Set de base'!C177=TRUE,1,0))/3 -> 0
A32: Fernando Alonso | B32: 4 | C32: =IF('Set de base'!C18=TRUE,1,0)+IF('Set de base'!C95=TRUE,1,0)+IF('Set de base'!C144=TRUE,1,0)+IF('Set de base'!C178=TRUE,1,0) -> 0 | D32: =(IF('Set de base'!C18=TRUE,1,0)+IF('Set de base'!C95=TRUE,1,0)+IF('Set de base'!C144=TRUE,1,0)+IF('Set de base'!C178=TRUE,1,0))/4 -> 0
A33: Lance Stroll | B33: 3 | C33: =IF('Set de base'!C19=TRUE,1,0)+IF('Set de base'!C96=TRUE,1,0)+IF('Set de base'!C178=TRUE,1,0) -> 0 | D33: =(IF('Set de base'!C19=TRUE,1,0)+IF('Set de base'!C96=TRUE,1,0)+IF('Set de base'!C178=TRUE,1,0))/3 -> 0
A34: Oliver Bearman | B34: 4 | C34: =IF('Set de base'!C20=TRUE,1,0)+IF('Set de base'!C97=TRUE,1,0)+IF('Set de base'!C145=TRUE,1,0)+IF('Set de base'!C179=TRUE,1,0) -> 0 | D34: =(IF('Set de base'!C20=TRUE,1,0)+IF('Set de base'!C97=TRUE,1,0)+IF('Set de base'!C145=TRUE,1,0)+IF('Set de base'!C179=TRUE,1,0))/4 -> 0
A35: Esteban Ocon | B35: 3 | C35: =IF('Set de base'!C21=TRUE,1,0)+IF('Set de base'!C98=TRUE,1,0)+IF('Set de base'!C179=TRUE,1,0) -> 0 | D35: =(IF('Set de base'!C21=TRUE,1,0)+IF('Set de base'!C98=TRUE,1,0)+IF('Set de base'!C179=TRUE,1,0))/3 -> 0
A36: Nico Hülkenberg | B36: 4 | C36: =IF('Set de base'!C22=TRUE,1,0)+IF('Set de base'!C99=TRUE,1,0)+IF('Set de base'!C138=TRUE,1,0)+IF('Set de base'!C180=TRUE,1,0) -> 0 | D36: =(IF('Set de base'!C22=TRUE,1,0)+IF('Set de base'!C99=TRUE,1,0)+IF('Set de base'!C138=TRUE,1,0)+IF('Set de base'!C180=TRUE,1,0))/4 -> 0
A37: Gabriel Bortoleto | B37: 4 | C37: =IF('Set de base'!C23=TRUE,1,0)+IF('Set de base'!C100=TRUE,1,0)+IF('Set de base'!C140=TRUE,1,0)+IF('Set de base'!C180=TRUE,1,0) -> 0 | D37: =(IF('Set de base'!C23=TRUE,1,0)+IF('Set de base'!C100=TRUE,1,0)+IF('Set de base'!C140=TRUE,1,0)+IF('Set de base'!C180=TRUE,1,0))/4 -> 0
A38: Pierre Gasly | B38: 3 | C38: =IF('Set de base'!C24=TRUE,1,0)+IF('Set de base'!C101=TRUE,1,0)+IF('Set de base'!C181=TRUE,1,0) -> 0 | D38: =(IF('Set de base'!C24=TRUE,1,0)+IF('Set de base'!C101=TRUE,1,0)+IF('Set de base'!C181=TRUE,1,0))/3 -> 0
A39: Franco Colapinto | B39: 3 | C39: =IF('Set de base'!C25=TRUE,1,0)+IF('Set de base'!C102=TRUE,1,0)+IF('Set de base'!C181=TRUE,1,0) -> 0 | D39: =(IF('Set de base'!C25=TRUE,1,0)+IF('Set de base'!C102=TRUE,1,0)+IF('Set de base'!C181=TRUE,1,0))/3 -> 0
A40: Sergio Pérez | B40: 3 | C40: =IF('Set de base'!C26=TRUE,1,0)+IF('Set de base'!C103=TRUE,1,0)+IF('Set de base'!C182=TRUE,1,0) -> 0 | D40: =(IF('Set de base'!C26=TRUE,1,0)+IF('Set de base'!C103=TRUE,1,0)+IF('Set de base'!C182=TRUE,1,0))/3 -> 0
A41: Valtteri Bottas | B41: 3 | C41: =IF('Set de base'!C27=TRUE,1,0)+IF('Set de base'!C104=TRUE,1,0)+IF('Set de base'!C182=TRUE,1,0) -> 0 | D41: =(IF('Set de base'!C27=TRUE,1,0)+IF('Set de base'!C104=TRUE,1,0)+IF('Set de base'!C182=TRUE,1,0))/3 -> 0
A42: Rafael Câmara | B42: 1 | C42: =IF('Set de base'!C30=TRUE,1,0) -> 0 | D42: =(IF('Set de base'!C30=TRUE,1,0))/1 -> 0
A43: Joshua Dürksen | B43: 1 | C43: =IF('Set de base'!C31=TRUE,1,0) -> 0 | D43: =(IF('Set de base'!C31=TRUE,1,0))/1 -> 0
A44: Noel León | B44: 1 | C44: =IF('Set de base'!C32=TRUE,1,0) -> 0 | D44: =(IF('Set de base'!C32=TRUE,1,0))/1 -> 0
A45: Nikola Tsolov | B45: 1 | C45: =IF('Set de base'!C33=TRUE,1,0) -> 0 | D45: =(IF('Set de base'!C33=TRUE,1,0))/1 -> 0
...

Sheet Set de base
A1: Topps Chrome F1 2026 — Set de base
A2: Suivi de collection — checklist complète
A3: Cochez les cartes possédées. Utilisez les boutons − / + à gauche pour replier ou déplier chaque subset.
A4: N° | B4: Carte | C4: Standard | D4: Progression
A5: PILOTES F1 · 22 cartes | D5: =COUNTIF(C6:C27,TRUE)/22 -> 0
A6: 1 | B6: Lando Norris | C6: FALSE | D6: =COUNTIF(C6:C6,TRUE)/1 -> 0
A7: 2 | B7: Oscar Piastri | C7: FALSE | D7: =COUNTIF(C7:C7,TRUE)/1 -> 0
A8: 3 | B8: George Russell | C8: FALSE | D8: =COUNTIF(C8:C8,TRUE)/1 -> 0
A9: 4 | B9: Kimi Antonelli | C9: FALSE | D9: =COUNTIF(C9:C9,TRUE)/1 -> 0
A10: 5 | B10: Max Verstappen | C10: FALSE | D10: =COUNTIF(C10:C10,TRUE)/1 -> 0
A11: 6 | B11: Isack Hadjar | C11: FALSE | D11: =COUNTIF(C11:C11,TRUE)/1 -> 0
A12: 7 | B12: Charles Leclerc | C12: FALSE | D12: =COUNTIF(C12:C12,TRUE)/1 -> 0
A13: 8 | B13: Lewis Hamilton | C13: FALSE | D13: =COUNTIF(C13:C13,TRUE)/1 -> 0
A14: 9 | B14: Alex Albon | C14: FALSE | D14: =COUNTIF(C14:C14,TRUE)/1 -> 0
A15: 10 | B15: Carlos Sainz | C15: FALSE | D15: =COUNTIF(C15:C15,TRUE)/1 -> 0
A16: 11 | B16: Liam Lawson | C16: FALSE | D16: =COUNTIF(C16:C16,TRUE)/1 -> 0
A17: 12 | B17: Arvid Lindblad (RC) | C17: FALSE | D17: =COUNTIF(C17:C17,TRUE)/1 -> 0
... A27: 22 | B27: Valtteri Bottas | C27: FALSE | D27: =COUNTIF(C27:C27,TRUE)/1 -> 0
A29: PILOTES F2 · 22 cartes | D29: =COUNTIF(C30:C51,TRUE)/22 -> 0
A30: 23 | B30: Rafael Câmara | C30: FALSE | D30: =COUNTIF(C30:C30,TRUE)/1 -> 0
A31: 24 | B31: Joshua Dürksen | C31: FALSE | D31: =COUNTIF(C31:C31,TRUE)/1 -> 0
A32: 25 | B32: Noel León | C32: FALSE | D32: =COUNTIF(C32:C32,TRUE)/1 -> 0
A33: 26 | B33: Nikola Tsolov | C33: FALSE | D33: =COUNTIF(C33:C33,TRUE)/1 -> 0
A34: 27 | B34: Oliver Goethe | C34: FALSE | D34: =COUNTIF(C34:C34,TRUE)/1 -> 0
A35: 28 | B35: Gabriele Minì | C35: FALSE | D35: =COUNTIF(C35:C35,TRUE)/1 -> 0
A36: 29 | B36: Colton Herta (1st) | C36: FALSE | D36: =COUNTIF(C36:C36,TRUE)/1 -> 0
A37: 30 | B37: Ritomo Miyata | C37: FALSE | D37: =COUNTIF(C37:C37,TRUE)/1 -> 0
A38: 31 | B38: Mari Boya | C38: FALSE | D38: =COUNTIF(C38:C38,TRUE)/1 -> 0
A39: 32 | B39: Sebastián Montoya | C39: FALSE | D39: =COUNTIF(C39:C39,TRUE)/1 -> 0
A40: 33 | B40: Dino Beganovic | C40: FALSE | D40: =COUNTIF(C40:C40,TRUE)/1 -> 0
A41: 34 | B41: Roman Bilinski | C41: FALSE | D41: =COUNTIF(C41:C41,TRUE)/1 -> 0
... A51: 44 | B51: Rafael Villagómez | C51: FALSE | D51: =COUNTIF(C51:C51,TRUE)/1 -> 0
A53: PILOTES F3 · 27 cartes | D53: =COUNTIF(C54:C80,TRUE)/27 -> 0
A54: 45 | B54: Théophile Naël | C54: FALSE | D54: =COUNTIF(C54:C54,TRUE)/1 -> 0
A55: 46 | B55: Ugo Ugochukwu | C55: FALSE | D55: =COUNTIF(C55:C55,TRUE)/1 -> 0
A56: 47 | B56: Matteo de Palo (1st) | C56: FALSE | D56: =COUNTIF(C56:C56,TRUE)/1 -> 0
A57: 48 | B57: Freddie Slater (1st) | C57: FALSE | D57: =COUNTIF(C57:C57,TRUE)/1 -> 0
A58: 49 | B58: Noah Strømsted | C58: FALSE | D58: =COUNTIF(C58:C58,TRUE)/1 -> 0
A59: 50 | B59: Mattia Colnaghi (1st) | C59: FALSE | D59: =COUNTIF(C59:C59,TRUE)/1 -> 0
A60: 51 | B60: Alessandro Giusti | C60: FALSE | D60: =COUNTIF(C60:C60,TRUE)/1 -> 0
...

Sheet Inserts
A1: Topps Chrome F1 2026 — Inserts
A2: Suivi de collection — checklist complète
A3: Cochez les cartes possédées. Utilisez les boutons − / + à gauche pour replier ou déplier chaque subset.
A4: N° | B4: Carte | C4: Standard | D4: Progression
A5: SPEED WHEELS · 22 cartes | D5: =COUNTIF(C6:C27,TRUE)/22 -> 0
A6: SW-1 | B6: Lando Norris | C6: FALSE | D6: =COUNTIF(C6:C6,TRUE)/1 -> 0
A7: SW-2 | B7: Oscar Piastri | C7: FALSE | D7: =COUNTIF(C7:C7,TRUE)/1 -> 0
A8: SW-3 | B8: George Russell | C8: FALSE | D8: =COUNTIF(C8:C8,TRUE)/1 -> 0
A9: SW-4 | B9: Kimi Antonelli | C9: FALSE | D9: =COUNTIF(C9:C9,TRUE)/1 -> 0
A10: SW-5 | B10: Max Verstappen | C10: FALSE | D10: =COUNTIF(C10:C10,TRUE)/1 -> 0
A11: SW-6 | B11: Isack Hadjar | C11: FALSE | D11: =COUNTIF(C11:C11,TRUE)/1 -> 0
A12: SW-7 | B12: Charles Leclerc | C12: FALSE | D12: =COUNTIF(C12:C12,TRUE)/1 -> 0
A13: SW-8 | B13: Lewis Hamilton | C13: FALSE | D13: =COUNTIF(C13:C13,TRUE)/1 -> 0
A14: SW-9 | B14: Alex Albon | C14: FALSE | D14: =COUNTIF(C14:C14,TRUE)/1 -> 0
A15: SW-10 | B15: Carlos Sainz | C15: FALSE | D15: =COUNTIF(C15:C15,TRUE)/1 -> 0
A16: SW-11 | B16: Liam Lawson | C16: FALSE | D16: =COUNTIF(C16:C16,TRUE)/1 -> 0
A17: SW-12 | B17: Arvid Lindblad (RC) | C17: FALSE | D17: =COUNTIF(C17:C17,TRUE)/1 -> 0
... A27: SW-22 | B27: Valtteri Bottas | C27: FALSE | D27: =COUNTIF(C27:C27,TRUE)/1 -> 0
A29: AUSTIN TO MEXICO CITY · 22 cartes | D29: =COUNTIF(C30:C51,TRUE)/22 -> 0
A30: ATM-1 | B30: Lando Norris | C30: FALSE | D30: =COUNTIF(C30:C30,TRUE)/1 -> 0
A31: ATM-2 | B31: Oscar Piastri | C31: FALSE | D31: =COUNTIF(C31:C31,TRUE)/1 -> 0
A32: ATM-3 | B32: George Russell | C32: FALSE | D32: =COUNTIF(C32:C32,TRUE)/1 -> 0
A33: ATM-4 | B33: Kimi Antonelli | C33: FALSE | D33: =COUNTIF(C33:C33,TRUE)/1 -> 0
A34: ATM-5 | B34: Max Verstappen | C34: FALSE | D34: =COUNTIF(C34:C34,TRUE)/1 -> 0
A35: ATM-6 | B35: Isack Hadjar | C35: FALSE | D35: =COUNTIF(C35:C35,TRUE)/1 -> 0
A36: ATM-7 | B36: Charles Leclerc | C36: FALSE | D36: =COUNTIF(C36:C36,TRUE)/1 -> 0
A37: ATM-8 | B37: Lewis Hamilton | C37: FALSE | D37: =COUNTIF(C37:C37,TRUE)/1 -> 0
A38: ATM-9 | B38: Alex Albon | C38: FALSE | D38: =COUNTIF(C38:C38,TRUE)/1 -> 0
A39: ATM-10 | B39: Carlos Sainz | C39: FALSE | D39: =COUNTIF(C39:C39,TRUE)/1 -> 0
A40: ATM-11 | B40: Liam Lawson | C40: FALSE | D40: =COUNTIF(C40:C40,TRUE)/1 -> 0
A41: ATM-12 | B41: Arvid Lindblad (RC) | C41: FALSE | D41: =COUNTIF(C41:C41,TRUE)/1 -> 0
... A51: ATM-22 | B51: Valtteri Bottas | C51: FALSE | D51: =COUNTIF(C51:C51,TRUE)/1 -> 0
A53: HELMET COLLECTION · 22 cartes | D53: =COUNTIF(C54:C75,TRUE)/22 -> 0
A54: HC-1 | B54: Lando Norris | C54: FALSE | D54: =COUNTIF(C54:C54,TRUE)/1 -> 0
A55: HC-2 | B55: Oscar Piastri | C55: FALSE | D55: =COUNTIF(C55:C55,TRUE)/1 -> 0
A56: HC-3 | B56: George Russell | C56: FALSE | D56: =COUNTIF(C56:C56,TRUE)/1 -> 0
A57: HC-4 | B57: Kimi Antonelli | C57: FALSE | D57: =COUNTIF(C57:C57,TRUE)/1 -> 0
A58: HC-5 | B58: Max Verstappen | C58: FALSE | D58: =COUNTIF(C58:C58,TRUE)/1 -> 0
A59: HC-6 | B59: Isack Hadjar | C59: FALSE | D59: =COUNTIF(C59:C59,TRUE)/1 -> 0
A60: HC-7 | B60: Charles Leclerc | C60: FALSE | D60: =COUNTIF(C60:C60,TRUE)/1 -> 0
...

Sheet Autographes
A1: Topps Chrome F1 2026 — Autographes
A2: Suivi de collection — checklist complète
A3: Cochez les cartes possédées. Utilisez les boutons − / + à gauche pour replier ou déplier chaque subset.
A4: N° | B4: Carte | C4: Standard | D4: Progression
A5: SET DE BASE · 91 cartes | D5: =COUNTIF(C6:C96,TRUE)/91 -> 0
A6: CAC-LN | B6: Lando Norris | C6: FALSE | D6: =COUNTIF(C6:C6,TRUE)/1 -> 0
A7: CAC-OP | B7: Oscar Piastri | C7: FALSE | D7: =COUNTIF(C7:C7,TRUE)/1 -> 0
A8: CAC-GR | B8: George Russell | C8: FALSE | D8: =COUNTIF(C8:C8,TRUE)/1 -> 0
A9: CAC-KA | B9: Kimi Antonelli | C9: FALSE | D9: =COUNTIF(C9:C9,TRUE)/1 -> 0
A10: CAC-MV | B10: Max Verstappen | C10: FALSE | D10: =COUNTIF(C10:C10,TRUE)/1 -> 0
A11: CAC-IH | B11: Isack Hadjar | C11: FALSE | D11: =COUNTIF(C11:C11,TRUE)/1 -> 0
A12: CAC-CL | B12: Charles Leclerc | C12: FALSE | D12: =COUNTIF(C12:C12,TRUE)/1 -> 0
A13: CAC-LH | B13: Lewis Hamilton | C13: FALSE | D13: =COUNTIF(C13:C13,TRUE)/1 -> 0
A14: CAC-AA | B14: Alex Albon | C14: FALSE | D14: =COUNTIF(C14:C14,TRUE)/1 -> 0
A15: CAC-CS | B15: Carlos Sainz | C15: FALSE | D15: =COUNTIF(C15:C15,TRUE)/1 -> 0
A16: CAC-LL | B16: Liam Lawson | C16: FALSE | D16: =COUNTIF(C16:C16,TRUE)/1 -> 0
A17: CAC-AL | B17: Arvid Lindblad (RC) | C17: FALSE | D17: =COUNTIF(C17:C17,TRUE)/1 -> 0
... A96: CAC-GF | B96: Giancarlo Fisichella | C96: FALSE | D96: =COUNTIF(C96:C96,TRUE)/1 -> 0
A98: FUTURO · 3 cartes | D98: =COUNTIF(C99:C101,TRUE)/3 -> 0
A99: FUT-1 | B99: Arvid Lindblad (RC) | C99: FALSE | D99: =COUNTIF(C99:C99,TRUE)/1 -> 0
A100: FUT-2 | B100: Rafael Câmara | C100: FALSE | D100: =COUNTIF(C100:C100,TRUE)/1 -> 0
A101: FUT-3 | B101: Ugo Ugochukwu | C101: FALSE | D101: =COUNTIF(C101:C101,TRUE)/1 -> 0
A103: VUELTA 1 · 22 cartes | D103: =COUNTIF(C104:C125,TRUE)/22 -> 0
A104: VUE-LN | B104: Lando Norris | C104: FALSE | D104: =COUNTIF(C104:C104,TRUE)/1 -> 0
A105: VUE-OP | B105: Oscar Piastri | C105: FALSE | D105: =COUNTIF(C105:C105,TRUE)/1 -> 0
A106: VUE-GR | B106: George Russell | C106: FALSE | D106: =COUNTIF(C106:C106,TRUE)/1 -> 0
A107: VUE-KA | B107: Kimi Antonelli | C107: FALSE | D107: =COUNTIF(C107:C107,TRUE)/1 -> 0
A108: VUE-MV | B108: Max Verstappen | C108: FALSE | D108: =COUNTIF(C108:C108,TRUE)/1 -> 0
A109: VUE-IH | B109: Isack Hadjar | C109: FALSE | D109: =COUNTIF(C109:C109,TRUE)/1 -> 0
A110: VUE-CL | B110: Charles Leclerc | C110: FALSE | D110: =COUNTIF(C110:C110,TRUE)/1 -> 0
A111: VUE-LH | B111: Lewis Hamilton | C111: FALSE | D111: =COUNTIF(C111:C111,TRUE)/1 -> 0
A112: VUE-AA | B112: Alex Albon | C112: FALSE | D112: =COUNTIF(C112:C112,TRUE)/1 -> 0
A113: VUE-CS | B113: Carlos Sainz | C113: FALSE | D113: =COUNTIF(C113:C113,TRUE)/1 -> 0
A114: VUE-LL | B114: Liam Lawson | C114: FALSE | D114: =COUNTIF(C114:C114,TRUE)/1 -> 0
A115: VUE-AL | B115: Arvid Lindblad (RC) | C115: FALSE | D115: =COUNTIF(C115:C115,TRUE)/1 -> 0
... A125: VUE-VB | B125: Valtteri Bottas | C125: FALSE | D125: =COUNTIF(C125:C125,TRUE)/1 -> 0
A127: PODIUM TRIPLE AUTOGRAPHS · 24 cartes | D127: =COUNTIF(C128:C151,TRUE)/24 -> 0
A128: R1-NVR | B128: Lando Norris, Max Verstappen & George Russell | C128: FALSE | D128: =COUNTIF(C128:C128,TRUE)/1 -> 0
A129: R2-PNR | B129: Oscar Piastri, Lando Norris & George Russell | C129: FALSE | D129: =COUNTIF(C129:C129,TRUE)/1 -> 0
A130: R3-VNP | B130: Max Verstappen, Lando Norris & Oscar Piastri | C130: FALSE | D130: =COUNTIF(C130:C130,TRUE)/1 -> 0
...

Sheet Autographes & Reliques
A1: Topps Chrome F1 2026 — Autographes & Reliques
A2: Suivi de collection — checklist complète
A3: Cochez les cartes possédées. Utilisez les boutons − / + à gauche pour replier ou déplier chaque subset.
A4: N° | B4: Carte | C4: Standard | D4: Progression
A5: F1 DEBUT PATCH AUTOGRAPHS · 1 carte | D5: =COUNTIF(C6:C6,TRUE)/1 -> 0
A6: DPA-AL | B6: Arvid Lindblad (RC) | C6: FALSE | D6: =COUNTIF(C6:C6,TRUE)/1 -> 0
