Workbook

Sheet Aperçu
A1: Topps Chrome F1 2026
A2: Tracker de collection — checklist complète
A4: SET DE BASE (versions Standard) | C4: CARTES STANDARDS (tous les onglets) | E4: PARALLÈLES (variantes) | G4: COLLECTION TOTALE
A5: =(COUNTIF('Set de base'!C6:C208,TRUE))/183 -> 0 | C5: =(COUNTIF('Set de base'!C6:C208,TRUE)+COUNTIF('Inserts'!C6:C274,TRUE)+COUNTIF('Autographes'!C6:C151,TRUE)+COUNTIF('Autographes & Reliques'!C6:C6,TRUE))/565 -> 0 | E5: =0 -> 0 | G5: =(COUNTIF('Set de base'!C6:C208,TRUE)+COUNTIF('Inserts'!C6:C274,TRUE)+COUNTIF('Autographes'!C6:C151,TRUE)+COUNTIF('Autographes & Reliques'!C6:C6,TRUE))/565 -> 0
A7: =(COUNTIF('Set de base'!C6:C208,TRUE))&" / 183" -> 0 / 183 | C7: =(COUNTIF('Set de base'!C6:C208,TRUE)+COUNTIF('Inserts'!C6:C274,TRUE)+COUNTIF('Autographes'!C6:C151,TRUE)+COUNTIF('Autographes & Reliques'!C6:C6,TRUE))&" / 565" -> 0 / 565 | E7: =(0)&" / 0" -> 0 / 0 | G7: =(COUNTIF('Set de base'!C6:C208,TRUE)+COUNTIF('Inserts'!C6:C274,TRUE)+COUNTIF('Autographes'!C6:C151,TRUE)+COUNTIF('Autographes & Reliques'!C6:C6,TRUE))&" / 565" -> 0 / 565
A8: Set de base = versions Standard de l’onglet « Set de base » • Cartes Standards = version principale non parallèle lorsqu’elle existe, tous onglets confondus.
A10: Progression par onglet
A11: Onglet | B11: Versions | C11: Possédées | D11: Progression
A12: Set de base | B12: 183 | C12: =COUNTIF('Set de base'!C6:C208,TRUE) -> 0 | D12: =(COUNTIF('Set de base'!C6:C208,TRUE))/183 -> 0
A13: Inserts | B13: 241 | C13: =COUNTIF('Inserts'!C6:C274,TRUE) -> 0 | D13: =(COUNTIF('Inserts'!C6:C274,TRUE))/241 -> 0
A14: Autographes | B14: 140 | C14: =COUNTIF('Autographes'!C6:C151,TRUE) -> 0 | D14: =(COUNTIF('Autographes'!C6:C151,TRUE))/140 -> 0
A15: Autographes & Reliques | B15: 1 | C15: =COUNTIF('Autographes & Reliques'!C6:C6,TRUE) -> 0 | D15: =(COUNTIF('Autographes & Reliques'!C6:C6,TRUE))/1 -> 0
A18: Cartes de base par pilote
A19: Pilote | B19: Cartes de base | C19: Possédées | D19: Progression
A20: Lando Norris | B20: 13 | C20: =IF('Set de base'!C6=TRUE,1,0)+IF('Set de base'!C83=TRUE,1,0)+IF('Set de base'!C107=TRUE,1,0)+IF('Set de base'!C114=TRUE,1,0)+IF('Set de base'!C117=TRUE,1,0)+IF('Set de base'!C118=TRUE,1,0)+IF('Set de base'!C120=TRUE,1,0)+IF('Set de base'!C126=TRUE,1,0)+IF('Set de base'!C127=TRUE,1,0)+IF('Set de base'!C133=TRUE,1,0)+IF('Set de base'!C150=TRUE,1,0)+IF('Set de base'!C151=TRUE,1,0)+IF('Set de base'!C172=TRUE,1,0) -> 0 | D20: =(IF('Set de base'!C6=TRUE,1,0)+IF('Set de base'!C83=TRUE,1,0)+IF('Set de base'!C107=TRUE,1,0)+IF('Set de base'!C114=TRUE,1,0)+IF('Set de base'!C117=TRUE,1,0)+IF('Set de base'!C118=TRUE,1,0)+IF('Set de base'!C120=TRUE,1,0)+IF('Set de base'!C126=TRUE,1,0)+IF('Set de base'!C127=TRUE,1,0)+IF('Set de base'!C133=TRUE,1,0)+IF('Set de base'!C150=TRUE,1,0)+IF('Set de base'!C151=TRUE,1,0)+IF('Set de base'!C172=TRUE,1,0))/13 -> 0
A21: Oscar Piastri | B21: 11 | C21: =IF('Set de base'!C7=TRUE,1,0)+IF('Set de base'!C84=TRUE,1,0)+IF('Set de base'!C108=TRUE,1,0)+IF('Set de base'!C110=TRUE,1,0)+IF('Set de base'!C111=TRUE,1,0)+IF('Set de base'!C112=TRUE,1,0)+IF('Set de base'!C115=TRUE,1,0)+IF('Set de base'!C119=TRUE,1,0)+IF('Set de base'!C121=TRUE,1,0)+IF('Set de base'!C134=TRUE,1,0)+IF('Set de base'!C172=TRUE,1,0) -> 0 | D21: =(IF('Set de base'!C7=TRUE,1,0)+IF('Set de base'!C84=TRUE,1,0)+IF('Set de base'!C108=TRUE,1,0)+IF('Set de base'!C110=TRUE,1,0)+IF('Set de base'!C111=TRUE,1,0)+IF('Set de base'!C112=TRUE,1,0)+IF('Set de base'!C115=TRUE,1,0)+IF('Set de base'!C119=TRUE,1,0)+IF('Set de base'!C121=TRUE,1,0)+IF('Set de base'!C134=TRUE,1,0)+IF('Set de base'!C172=TRUE,1,0))/11 -> 0
A22: George Russell | B22: 5 | C22: =IF('Set de base'!C8=TRUE,1,0)+IF('Set de base'!C85=TRUE,1,0)+IF('Set de base'!C116=TRUE,1,0)+IF('Set de base'!C124=TRUE,1,0)+IF('Set de base'!C173=TRUE,1,0) -> 0 | D22: =(IF('Set de base'!C8=TRUE,1,0)+IF('Set de base'!C85=TRUE,1,0)+IF('Set de base'!C116=TRUE,1,0)+IF('Set de base'!C124=TRUE,1,0)+IF('Set de base'!C173=TRUE,1,0))/5 -> 0
A23: Kimi Antonelli | B23: 4 | C23: =IF('Set de base'!C9=TRUE,1,0)+IF('Set de base'!C86=TRUE,1,0)+IF('Set de base'!C137=TRUE,1,0)+IF('Set de base'!C173=TRUE,1,0) -> 0 | D23: =(IF('Set de base'!C9=TRUE,1,0)+IF('Set de base'!C86=TRUE,1,0)+IF('Set de base'!C137=TRUE,1,0)+IF('Set de base'!C173=TRUE,1,0))/4 -> 0
A24: Max Verstappen | B24: 15 | C24: =IF('Set de base'!C10=TRUE,1,0)+IF('Set de base'!C87=TRUE,1,0)+IF('Set de base'!C109=TRUE,1,0)+IF('Set de base'!C113=TRUE,1,0)+IF('Set de base'!C122=TRUE,1,0)+IF('Set de base'!C123=TRUE,1,0)+IF('Set de base'!C125=TRUE,1,0)+IF('Set de base'!C128=TRUE,1,0)+IF('Set de base'!C129=TRUE,1,0)+IF('Set de base'!C130=TRUE,1,0)+IF('Set de base'!C135=TRUE,1,0)+IF('Set de base'!C142=TRUE,1,0)+IF('Set de base'!C146=TRUE,1,0)+IF('Set de base'!C147=TRUE,1,0)+IF('Set de base'!C174=TRUE,1,0) -> 0 | D24: =(IF('Set de base'!C10=TRUE,1,0)+IF('Set de base'!C87=TRUE,1,0)+IF('Set de base'!C109=TRUE,1,0)+IF('Set de base'!C113=TRUE,1,0)+IF('Set de base'!C122=TRUE,1,0)+IF('Set de base'!C123=TRUE,1,0)+IF('Set de base'!C125=TRUE,1,0)+IF('Set de base'!C128=TRUE,1,0)+IF('Set de base'!C129=TRUE,1,0)+IF('Set de base'!C130=TRUE,1,0)+IF('Set de base'!C135=TRUE,1,0)+IF('Set de base'!C142=TRUE,1,0)+IF('Set de base'!C146=TRUE,1,0)+IF('Set de base'!C147=TRUE,1,0)+IF('Set de base'!C174=TRUE,1,0))/15 -> 0
A25: Isack Hadjar | B25: 4 | C25: =IF('Set de base'!C11=TRUE,1,0)+IF('Set de base'!C88=TRUE,1,0)+IF('Set de base'!C141=TRUE,1,0)+IF('Set de base'!C174=TRUE,1,0) -> 0 | D25: =(IF('Set de base'!C11=TRUE,1,0)+IF('Set de base'!C88=TRUE,1,0)+IF('Set de base'!C141=TRUE,1,0)+IF('Set de base'!C174=TRUE,1,0))/4 -> 0
A26: Charles Leclerc | B26: 4 | C26: =IF('Set de base'!C12=TRUE,1,0)+IF('Set de base'!C89=TRUE,1,0)+IF('Set de base'!C136=TRUE,1,0)+IF('Set de base'!C175=TRUE,1,0) -> 0 | D26: =(IF('Set de base'!C12=TRUE,1,0)+IF('Set de base'!C89=TRUE,1,0)+IF('Set de base'!C136=TRUE,1,0)+IF('Set de base'!C175=TRUE,1,0))/4 -> 0
A27: Lewis Hamilton | B27: 4 | C27: =IF('Set de base'!C13=TRUE,1,0)+IF('Set de base'!C90=TRUE,1,0)+IF('Set de base'!C139=TRUE,1,0)+IF('Set de base'!C175=TRUE,1,0) -> 0 | D27: =(IF('Set de base'!C13=TRUE,1,0)+IF('Set de base'!C90=TRUE,1,0)+IF('Set de base'!C139=TRUE,1,0)+IF('Set de base'!C175=TRUE,1,0))/4 -> 0
A28: Alex Albon | B28: 3 | C28: =IF('Set de base'!C14=TRUE,1,0)+IF('Set de base'!C91=TRUE,1,0)+IF('Set de base'!C176=TRUE,1,0) -> 0 | D28: =(IF('Set de base'!C14=TRUE,1,0)+IF('Set de base'!C91=TRUE,1,0)+IF('Set de base'!C176=TRUE,1,0))/3 -> 0
A29: Carlos Sainz | B29: 4 | C29: =IF('Set de base'!C15=TRUE,1,0)+IF('Set de base'!C92=TRUE,1,0)+IF('Set de base'!C143=TRUE,1,0)+IF('Set de base'!C176=TRUE,1,0) -> 0 | D29: =(IF('Set de base'!C15=TRUE,1,0)+IF('Set de base'!C92=TRUE,1,0)+IF('Set de base'!C143=TRUE,1,0)+IF('Set de base'!C176=TRUE,1,0))/4 -> 0
A30: Liam Lawson | B30: 3 | C30: =IF('Set de base'!C16=TRUE,1,0)+IF('Set de base'!C93=TRUE,1,0)+IF('Set de base'!C177=TRUE,1,0) -> 0 | D30: =(IF('Set de base'!C16=TRUE,1,0)+IF('Set de base'!C93=TRUE,1,0)+IF('Set de base'!C177=TRUE,1,0))/3 -> 0
A31: Arvid Lindblad | B31: 3 | C31: =IF('Set de base'!C17=TRUE,1,0)+IF('Set de base'!C94=TRUE,1,0)+IF('Set de base'!C177=TRUE,1,0) -> 0 | D31: =(IF('Set de base'!C17=TRUE,1,0)+IF('Set de base'!C94=TRUE,1,0)+IF('Set de base'!C177=TRUE,1,0))/3 -> 0
A32: Fernando Alonso | B32: 4 | C32: =IF('Set de base'!C18=TRUE,1,0)+IF('Set de base'!C95=TRUE,1,0)+IF('Set de base'!C144=TRUE,1,0)+IF('Set de base'!C178=TRUE,1,0) -> 0 | D32: =(IF('Set de base'!C18=TRUE,1,0)+IF('Set de base'!C95=TRUE,1,0)+IF('Set de base'!C144=TRUE,1,0)+IF('Set de base'!C178=TRUE,1,0))/4 -> 0
A33: Lance Stroll | B33: 3 | C33: =IF('Set de base'!C19=TRUE,1,0)+IF('Set de base'!C96=TRUE,1,0)+IF('Set de base'!C178=TRUE,1,0) -> 0 | D33: =(IF('Set de base'!C19=TRUE,1,0)+IF('Set de base'!C96=TRUE,1,0)+IF('Set de base'!C178=TRUE,1,0))/3 -> 0
A34: Oliver Bearman | B34: 4 | C34: =IF('Set de base'!C20=TRUE,1,0)+IF('Set de base'!C97=TRUE,1,0)+IF('Set de base'!C145=TRUE,1,0)+IF('Set de base'!C179=TRUE,1,0) -> 0 | D34: =(IF('Set de base'!C20=TRUE,1,0)+IF('Set de base'!C97=TRUE,1,0)+IF('Set de base'!C145=TRUE,1,0)+IF('Set de base'!C179=TRUE,1,0))/4 -> 0
A35: Esteban Ocon | B35: 3 | C35: =IF('Set de base'!C21=TRUE,1,0)+IF('Set de base'!C98=TRUE,1,0)+IF('Set de base'!C179=TRUE,1,0) -> 0 | D35: =(IF('Set de base'!C21=TRUE,1,0)+IF('Set de base'!C98=TRUE,1,0)+IF('Set de base'!C179=TRUE,1,0))/3 -> 0
A36: Nico Hülkenberg | B36: 4 | C36: =IF('Set de base'!C22=TRUE,1,0)+IF('Set de base'!C99=TRUE,1,0)+IF('Set de base'!C138=TRUE,1,0)+IF('Set de base'!C180=TRUE,1,0) -> 0 | D36: =(IF('Set de base'!C22=TRUE,1,0)+IF('Set de base'!C99=TRUE,1,0)+IF('Set de base'!C138=TRUE,1,0)+IF('Set de base'!C180=TRUE,1,0))/4 -> 0
A37: Gabriel Bortoleto | B37: 4 | C37: =IF('Set de base'!C23=TRUE,1,0)+IF('Set de base'!C100=TRUE,1,0)+IF('Set de base'!C140=TRUE,1,0)+IF('Set de base'!C180=TRUE,1,0) -> 0 | D37: =(IF('Set de base'!C23=TRUE,1,0)+IF('Set de base'!C100=TRUE,1,0)+IF('Set de base'!C140=TRUE,1,0)+IF('Set de base'!C180=TRUE,1,0))/4 -> 0
A38: Pierre Gasly | B38: 3 | C38: =IF('Set de base'!C24=TRUE,1,0)+IF('Set de base'!C101=TRUE,1,0)+IF('Set de base'!C181=TRUE,1,0) -> 0 | D38: =(IF('Set de base'!C24=TRUE,1,0)+IF('Set de base'!C101=TRUE,1,0)+IF('Set de base'!C181=TRUE,1,0))/3 -> 0
A39: Franco Colapinto | B39: 3 | C39: =IF('Set de base'!C25=TRUE,1,0)+IF('Set de base'!C102=TRUE,1,0)+IF('Set de base'!C181=TRUE,1,0) -> 0 | D39: =(IF('Set de base'!C25=TRUE,1,0)+IF('Set de base'!C102=TRUE,1,0)+IF('Set de base'!C181=TRUE,1,0))/3 -> 0
A40: Sergio Pérez | B40: 3 | C40: =IF('Set de base'!C26=TRUE,1,0)+IF('Set de base'!C103=TRUE,1,0)+IF('Set de base'!C182=TRUE,1,0) -> 0 | D40: =(IF('Set de base'!C26=TRUE,1,0)+IF('Set de base'!C103=TRUE,1,0)+IF('Set de base'!C182=TRUE,1,0))/3 -> 0
A41: Valtteri Bottas | B41: 3 | C41: =IF('Set de base'!C27=TRUE,1,0)+IF('Set de base'!C104=TRUE,1,0)+IF('Set de base'!C182=TRUE,1,0) -> 0 | D41: =(IF('Set de base'!C27=TRUE,1,0)+IF('Set de base'!C104=TRUE,1,0)+IF('Set de base'!C182=TRUE,1,0))/3 -> 0
A42: Rafael Câmara | B42: 1 | C42: =IF('Set de base'!C30=TRUE,1,0) -> 0 | D42: =(IF('Set de base'!C30=TRUE,1,0))/1 -> 0
A43: Joshua Dürksen | B43: 1 | C43: =IF('Set de base'!C31=TRUE,1,0) -> 0 | D43: =(IF('Set de base'!C31=TRUE,1,0))/1 -> 0
A44: Noel León | B44: 1 | C44: =IF('Set de base'!C32=TRUE,1,0) -> 0 | D44: =(IF('Set de base'!C32=TRUE,1,0))/1 -> 0
A45: Nikola Tsolov | B45: 1 | C45: =IF('Set de base'!C33=TRUE,1,0) -> 0 | D45: =(IF('Set de base'!C33=TRUE,1,0))/1 -> 0
A46: Oliver Goethe | B46: 1 | C46: =IF('Set de base'!C34=TRUE,1,0) -> 0 | D46: =(IF('Set de base'!C34=TRUE,1,0))/1 -> 0
A47: Gabriele Minì | B47: 1 | C47: =IF('Set de base'!C35=TRUE,1,0) -> 0 | D47: =(IF('Set de base'!C35=TRUE,1,0))/1 -> 0
A48: Colton Herta | B48: 1 | C48: =IF('Set de base'!C36=TRUE,1,0) -> 0 | D48: =(IF('Set de base'!C36=TRUE,1,0))/1 -> 0
A49: Ritomo Miyata | B49: 1 | C49: =IF('Set de base'!C37=TRUE,1,0) -> 0 | D49: =(IF('Set de base'!C37=TRUE,1,0))/1 -> 0
A50: Mari Boya | B50: 1 | C50: =IF('Set de base'!C38=TRUE,1,0) -> 0 | D50: =(IF('Set de base'!C38=TRUE,1,0))/1 -> 0
A51: Sebastián Montoya | B51: 1 | C51: =IF('Set de base'!C39=TRUE,1,0) -> 0 | D51: =(IF('Set de base'!C39=TRUE,1,0))/1 -> 0
A52: Dino Beganovic | B52: 1 | C52: =IF('Set de base'!C40=TRUE,1,0) -> 0 | D52: =(IF('Set de base'!C40=TRUE,1,0))/1 -> 0
A53: Roman Bilinski | B53: 1 | C53: =IF('Set de base'!C41=TRUE,1,0) -> 0 | D53: =(IF('Set de base'!C41=TRUE,1,0))/1 -> 0
... A63: Rafael Villagómez | B63: 1 | C63: =IF('Set de base'!C51=TRUE,1,0) -> 0 | D63: =(IF('Set de base'!C51=TRUE,1,0))/1 -> 0
A64: Théophile Naël | B64: 1 | C64: =IF('Set de base'!C54=TRUE,1,0) -> 0 | D64: =(IF('Set de base'!C54=TRUE,1,0))/1 -> 0
A65: Ugo Ugochukwu | B65: 1 | C65: =IF('Set de base'!C55=TRUE,1,0) -> 0 | D65: =(IF('Set de base'!C55=TRUE,1,0))/1 -> 0
A66: Matteo de Palo | B66: 1 | C66: =IF('Set de base'!C56=TRUE,1,0) -> 0 | D66: =(IF('Set de base'!C56=TRUE,1,0))/1 -> 0
A67: Freddie Slater | B67: 1 | C67: =IF('Set de base'!C57=TRUE,1,0) -> 0 | D67: =(IF('Set de base'!C57=TRUE,1,0))/1 -> 0
A68: Noah Strømsted | B68: 1 | C68: =IF('Set de base'!C58=TRUE,1,0) -> 0 | D68: =(IF('Set de base'!C58=TRUE,1,0))/1 -> 0
A69: Mattia Colnaghi | B69: 1 | C69: =IF('Set de base'!C59=TRUE,1,0) -> 0 | D69: =(IF('Set de base'!C59=TRUE,1,0))/1 -> 0
A70: Alessandro Giusti | B70: 1 | C70: =IF('Set de base'!C60=TRUE,1,0) -> 0 | D70: =(IF('Set de base'!C60=TRUE,1,0))/1 -> 0
A71: Tuukka Taponen | B71: 1 | C71: =IF('Set de base'!C61=TRUE,1,0) -> 0 | D71: =(IF('Set de base'!C61=TRUE,1,0))/1 -> 0
A72: Maciej Gładysz | B72: 1 | C72: =IF('Set de base'!C62=TRUE,1,0) -> 0 | D72: =(IF('Set de base'!C62=TRUE,1,0))/1 -> 0
A73: Kanato Le | B73: 1 | C73: =IF('Set de base'!C63=TRUE,1,0) -> 0 | D73: =(IF('Set de base'!C63=TRUE,1,0))/1 -> 0
A74: Taito Kato | B74: 1 | C74: =IF('Set de base'!C64=TRUE,1,0) -> 0 | D74: =(IF('Set de base'!C64=TRUE,1,0))/1 -> 0
A75: Enzo Deligny | B75: 1 | C75: =IF('Set de base'!C65=TRUE,1,0) -> 0 | D75: =(IF('Set de base'!C65=TRUE,1,0))/1 -> 0
... A90: Gerrard Xie | B90: 1 | C90: =IF('Set de base'!C80=TRUE,1,0) -> 0 | D90: =(IF('Set de base'!C80=TRUE,1,0))/1 -> 0
A91: Juan Manuel Fangio | B91: 1 | C91: =IF('Set de base'!C155=TRUE,1,0) -> 0 | D91: =(IF('Set de base'!C155=TRUE,1,0))/1 -> 0
A92: Jack Brabham | B92: 1 | C92: =IF('Set de base'!C156=TRUE,1,0) -> 0 | D92: =(IF('Set de base'!C156=TRUE,1,0))/1 -> 0
A93: Michael Schumacher | B93: 1 | C93: =IF('Set de base'!C157=TRUE,1,0) -> 0 | D93: =(IF('Set de base'!C157=TRUE,1,0))/1 -> 0
A94: Mika Häkkinen | B94: 1 | C94: =IF('Set de base'!C158=TRUE,1,0) -> 0 | D94: =(IF('Set de base'!C158=TRUE,1,0))/1 -> 0
A95: Alain Prost | B95: 1 | C95: =IF('Set de base'!C159=TRUE,1,0) -> 0 | D95: =(IF('Set de base'!C159=TRUE,1,0))/1 -> 0
A96: Mario Andretti | B96: 1 | C96: =IF('Set de base'!C160=TRUE,1,0) -> 0 | D96: =(IF('Set de base'!C160=TRUE,1,0))/1 -> 0
A97: Jackie Stewart | B97: 1 | C97: =IF('Set de base'!C161=TRUE,1,0) -> 0 | D97: =(IF('Set de base'!C161=TRUE,1,0))/1 -> 0
A98: Emerson Fittipaldi | B98: 1 | C98: =IF('Set de base'!C162=TRUE,1,0) -> 0 | D98: =(IF('Set de base'!C162=TRUE,1,0))/1 -> 0
A99: Ayrton Senna | B99: 1 | C99: =IF('Set de base'!C163=TRUE,1,0) -> 0 | D99: =(IF('Set de base'!C163=TRUE,1,0))/1 -> 0
A100: Damon Hill | B100: 1 | C100: =IF('Set de base'!C164=TRUE,1,0) -> 0 | D100: =(IF('Set de base'!C164=TRUE,1,0))/1 -> 0
A101: Nigel Mansell | B101: 1 | C101: =IF('Set de base'!C165=TRUE,1,0) -> 0 | D101: =(IF('Set de base'!C165=TRUE,1,0))/1 -> 0
A102: Kimi Räikkönen | B102: 1 | C102: =IF('Set de base'!C166=TRUE,1,0) -> 0 | D102: =(IF('Set de base'!C166=TRUE,1,0))/1 -> 0
... A105: Graham Hill | B105: 1 | C105: =IF('Set de base'!C169=TRUE,1,0) -> 0 | D105: =(IF('Set de base'!C169=TRUE,1,0))/1 -> 0

Sheet Set de base
A1: Topps Chrome F1 2026 — Set de base
A2: Suivi de collection — checklist complète
A3: Cochez les cartes possédées. Utilisez les boutons − / + à gauche pour replier ou déplier chaque subset.
A4: N° | B4: Carte | C4: Standard | D4: Progression
A5: PILOTES F1 · 22 cartes | D5: =COUNTIF(C6:C27,TRUE)/22 -> 0
A6: 1 | B6: Lando Norris | C6: FALSE | D6: =COUNTIF(C6:C6,TRUE)/1 -> 0
A7: 2 | B7: Oscar Piastri | C7: FALSE | D7: =COUNTIF(C7:C7,TRUE)/1 -> 0
A8: 3 | B8: George Russell | C8: FALSE | D8: =COUNTIF(C8:C8,TRUE)/1 -> 0
A9: 4 | B9: Kimi Antonelli | C9: FALSE | D9: =COUNTIF(C9:C9,TRUE)/1 -> 0
A10: 5 | B10: Max Verstappen | C10: FALSE | D10: =COUNTIF(C10:C10,TRUE)/1 -> 0
A11: 6 | B11: Isack Hadjar | C11: FALSE | D11: =COUNTIF(C11:C11,TRUE)/1 -> 0
A12: 7 | B12: Charles Leclerc | C12: FALSE | D12: =COUNTIF(C12:C12,TRUE)/1 -> 0
A13: 8 | B13: Lewis Hamilton | C13: FALSE | D13: =COUNTIF(C13:C13,TRUE)/1 -> 0
A14: 9 | B14: Alex Albon | C14: FALSE | D14: =COUNTIF(C14:C14,TRUE)/1 -> 0
A15: 10 | B15: Carlos Sainz | C15: FALSE | D15: =COUNTIF(C15:C15,TRUE)/1 -> 0
A16: 11 | B16: Liam Lawson | C16: FALSE | D16: =COUNTIF(C16:C16,TRUE)/1 -> 0
A17: 12 | B17: Arvid Lindblad (RC) | C17: FALSE | D17: =COUNTIF(C17:C17,TRUE)/1 -> 0
... A27: 22 | B27: Valtteri Bottas | C27: FALSE | D27: =COUNTIF(C27:C27,TRUE)/1 -> 0
A29: PILOTES F2 · 22 cartes | D29: =COUNTIF(C30:C51,TRUE)/22 -> 0
A30: 23 | B30: Rafael Câmara | C30: FALSE | D30: =COUNTIF(C30:C30,TRUE)/1 -> 0
A31: 24 | B31: Joshua Dürksen | C31: FALSE | D31: =COUNTIF(C31:C31,TRUE)/1 -> 0
A32: 25 | B32: Noel León | C32: FALSE | D32: =COUNTIF(C32:C32,TRUE)/1 -> 0
A33: 26 | B33: Nikola Tsolov | C33: FALSE | D33: =COUNTIF(C33:C33,TRUE)/1 -> 0
A34: 27 | B34: Oliver Goethe | C34: FALSE | D34: =COUNTIF(C34:C34,TRUE)/1 -> 0
A35: 28 | B35: Gabriele Minì | C35: FALSE | D35: =COUNTIF(C35:C35,TRUE)/1 -> 0
A36: 29 | B36: Colton Herta (1st) | C36: FALSE | D36: =COUNTIF(C36:C36,TRUE)/1 -> 0
A37: 30 | B37: Ritomo Miyata | C37: FALSE | D37: =COUNTIF(C37:C37,TRUE)/1 -> 0
A38: 31 | B38: Mari Boya | C38: FALSE | D38: =COUNTIF(C38:C38,TRUE)/1 -> 0
A39: 32 | B39: Sebastián Montoya | C39: FALSE | D39: =COUNTIF(C39:C39,TRUE)/1 -> 0
A40: 33 | B40: Dino Beganovic | C40: FALSE | D40: =COUNTIF(C40:C40,TRUE)/1 -> 0
A41: 34 | B41: Roman Bilinski | C41: FALSE | D41: =COUNTIF(C41:C41,TRUE)/1 -> 0
... A51: 44 | B51: Rafael Villagómez | C51: FALSE | D51: =COUNTIF(C51:C51,TRUE)/1 -> 0
A53: PILOTES F3 · 27 cartes | D53: =COUNTIF(C54:C80,TRUE)/27 -> 0
A54: 45 | B54: Théophile Naël | C54: FALSE | D54: =COUNTIF(C54:C54,TRUE)/1 -> 0
A55: 46 | B55: Ugo Ugochukwu | C55: FALSE | D55: =COUNTIF(C55:C55,TRUE)/1 -> 0
A56: 47 | B56: Matteo de Palo (1st) | C56: FALSE | D56: =COUNTIF(C56:C56,TRUE)/1 -> 0
A57: 48 | B57: Freddie Slater (1st) | C57: FALSE | D57: =COUNTIF(C57:C57,TRUE)/1 -> 0
A58: 49 | B58: Noah Strømsted | C58: FALSE | D58: =COUNTIF(C58:C58,TRUE)/1 -> 0
A59: 50 | B59: Mattia Colnaghi (1st) | C59: FALSE | D59: =COUNTIF(C59:C59,TRUE)/1 -> 0
A60: 51 | B60: Alessandro Giusti | C60: FALSE | D60: =COUNTIF(C60:C60,TRUE)/1 -> 0
A61: 52 | B61: Tuukka Taponen | C61: FALSE | D61: =COUNTIF(C61:C61,TRUE)/1 -> 0
A62: 53 | B62: Maciej Gładysz (1st) | C62: FALSE | D62: =COUNTIF(C62:C62,TRUE)/1 -> 0
A63: 54 | B63: Kanato Le (1st) | C63: FALSE | D63: =COUNTIF(C63:C63,TRUE)/1 -> 0
A64: 55 | B64: Taito Kato (1st) | C64: FALSE | D64: =COUNTIF(C64:C64,TRUE)/1 -> 0
A65: 56 | B65: Enzo Deligny (1st) | C65: FALSE | D65: =COUNTIF(C65:C65,TRUE)/1 -> 0
... A80: 71 | B80: Gerrard Xie | C80: FALSE | D80: =COUNTIF(C80:C80,TRUE)/1 -> 0
A82: F1 CARS · 22 cartes | D82: =COUNTIF(C83:C104,TRUE)/22 -> 0
A83: 89 | B83: Lando Norris | C83: FALSE | D83: =COUNTIF(C83:C83,TRUE)/1 -> 0
A84: 90 | B84: Oscar Piastri | C84: FALSE | D84: =COUNTIF(C84:C84,TRUE)/1 -> 0
A85: 91 | B85: George Russell | C85: FALSE | D85: =COUNTIF(C85:C85,TRUE)/1 -> 0
A86: 92 | B86: Kimi Antonelli | C86: FALSE | D86: =COUNTIF(C86:C86,TRUE)/1 -> 0
A87: 93 | B87: Max Verstappen | C87: FALSE | D87: =COUNTIF(C87:C87,TRUE)/1 -> 0
A88: 94 | B88: Isack Hadjar | C88: FALSE | D88: =COUNTIF(C88:C88,TRUE)/1 -> 0
A89: 95 | B89: Charles Leclerc | C89: FALSE | D89: =COUNTIF(C89:C89,TRUE)/1 -> 0
A90: 96 | B90: Lewis Hamilton | C90: FALSE | D90: =COUNTIF(C90:C90,TRUE)/1 -> 0
A91: 97 | B91: Alex Albon | C91: FALSE | D91: =COUNTIF(C91:C91,TRUE)/1 -> 0
A92: 98 | B92: Carlos Sainz | C92: FALSE | D92: =COUNTIF(C92:C92,TRUE)/1 -> 0
A93: 99 | B93: Liam Lawson | C93: FALSE | D93: =COUNTIF(C93:C93,TRUE)/1 -> 0
A94: 100 | B94: Arvid Lindblad (RC) | C94: FALSE | D94: =COUNTIF(C94:C94,TRUE)/1 -> 0
... A104: 110 | B104: Valtteri Bottas | C104: FALSE | D104: =COUNTIF(C104:C104,TRUE)/1 -> 0
A106: GRAND PRIX WINNERS · 24 cartes | D106: =COUNTIF(C107:C130,TRUE)/24 -> 0
A107: 111 | B107: Lando Norris | C107: FALSE | D107: =COUNTIF(C107:C107,TRUE)/1 -> 0
A108: 112 | B108: Oscar Piastri | C108: FALSE | D108: =COUNTIF(C108:C108,TRUE)/1 -> 0
A109: 113 | B109: Max Verstappen | C109: FALSE | D109: =COUNTIF(C109:C109,TRUE)/1 -> 0
A110: 114 | B110: Oscar Piastri | C110: FALSE | D110: =COUNTIF(C110:C110,TRUE)/1 -> 0
A111: 115 | B111: Oscar Piastri | C111: FALSE | D111: =COUNTIF(C111:C111,TRUE)/1 -> 0
A112: 116 | B112: Oscar Piastri | C112: FALSE | D112: =COUNTIF(C112:C112,TRUE)/1 -> 0
A113: 117 | B113: Max Verstappen | C113: FALSE | D113: =COUNTIF(C113:C113,TRUE)/1 -> 0
A114: 118 | B114: Lando Norris | C114: FALSE | D114: =COUNTIF(C114:C114,TRUE)/1 -> 0
A115: 119 | B115: Oscar Piastri | C115: FALSE | D115: =COUNTIF(C115:C115,TRUE)/1 -> 0
A116: 120 | B116: George Russell | C116: FALSE | D116: =COUNTIF(C116:C116,TRUE)/1 -> 0
A117: 121 | B117: Lando Norris | C117: FALSE | D117: =COUNTIF(C117:C117,TRUE)/1 -> 0
A118: 122 | B118: Lando Norris | C118: FALSE | D118: =COUNTIF(C118:C118,TRUE)/1 -> 0
... A130: 134 | B130: Max Verstappen | C130: FALSE | D130: =COUNTIF(C130:C130,TRUE)/1 -> 0
A132: GRAND PRIX DRIVER OF THE DAY · 15 cartes | D132: =COUNTIF(C133:C147,TRUE)/15 -> 0
A133: 135 | B133: Lando Norris | C133: FALSE | D133: =COUNTIF(C133:C133,TRUE)/1 -> 0
A134: 136 | B134: Oscar Piastri | C134: FALSE | D134: =COUNTIF(C134:C134,TRUE)/1 -> 0
A135: 137 | B135: Max Verstappen | C135: FALSE | D135: =COUNTIF(C135:C135,TRUE)/1 -> 0
A136: 138 | B136: Charles Leclerc | C136: FALSE | D136: =COUNTIF(C136:C136,TRUE)/1 -> 0
A137: 139 | B137: Kimi Antonelli | C137: FALSE | D137: =COUNTIF(C137:C137,TRUE)/1 -> 0
A138: 140 | B138: Nico Hülkenberg | C138: FALSE | D138: =COUNTIF(C138:C138,TRUE)/1 -> 0
A139: 141 | B139: Lewis Hamilton | C139: FALSE | D139: =COUNTIF(C139:C139,TRUE)/1 -> 0
A140: 142 | B140: Gabriel Bortoleto | C140: FALSE | D140: =COUNTIF(C140:C140,TRUE)/1 -> 0
A141: 143 | B141: Isack Hadjar | C141: FALSE | D141: =COUNTIF(C141:C141,TRUE)/1 -> 0
A142: 144 | B142: Max Verstappen | C142: FALSE | D142: =COUNTIF(C142:C142,TRUE)/1 -> 0
A143: 145 | B143: Carlos Sainz | C143: FALSE | D143: =COUNTIF(C143:C143,TRUE)/1 -> 0
A144: 146 | B144: Fernando Alonso | C144: FALSE | D144: =COUNTIF(C144:C144,TRUE)/1 -> 0
... A147: 149 | B147: Max Verstappen | C147: FALSE | D147: =COUNTIF(C147:C147,TRUE)/1 -> 0
A149: F1 AWARD WINNERS · 3 cartes | D149: =COUNTIF(C150:C152,TRUE)/3 -> 0
A150: 151 | B150: Lando Norris | C150: FALSE | D150: =COUNTIF(C150:C150,TRUE)/1 -> 0
A151: 152 | B151: Lando Norris | C151: FALSE | D151: =COUNTIF(C151:C151,TRUE)/1 -> 0
A152: 150 | B152: Scuderia Ferrari HP | C152: FALSE | D152: =COUNTIF(C152:C152,TRUE)/1 -> 0
A154: F1 LEGENDS · 15 cartes | D154: =COUNTIF(C155:C169,TRUE)/15 -> 0
A155: 153 | B155: Juan Manuel Fangio | C155: FALSE | D155: =COUNTIF(C155:C155,TRUE)/1 -> 0
A156: 154 | B156: Jack Brabham | C156: FALSE | D156: =COUNTIF(C156:C156,TRUE)/1 -> 0
A157: 155 | B157: Michael Schumacher | C157: FALSE | D157: =COUNTIF(C157:C157,TRUE)/1 -> 0
A158: 156 | B158: Mika Häkkinen | C158: FALSE | D158: =COUNTIF(C158:C158,TRUE)/1 -> 0
A159: 157 | B159: Alain Prost | C159: FALSE | D159: =COUNTIF(C159:C159,TRUE)/1 -> 0
A160: 158 | B160: Mario Andretti | C160: FALSE | D160: =COUNTIF(C160:C160,TRUE)/1 -> 0
A161: 159 | B161: Jackie Stewart | C161: FALSE | D161: =COUNTIF(C161:C161,TRUE)/1 -> 0
...

Sheet Inserts
A1: Topps Chrome F1 2026 — Inserts
A2: Suivi de collection — checklist complète
A3: Cochez les cartes possédées. Utilisez les boutons − / + à gauche pour replier ou déplier chaque subset.
A4: N° | B4: Carte | C4: Standard | D4: Progression
A5: SPEED WHEELS · 22 cartes | D5: =COUNTIF(C6:C27,TRUE)/22 -> 0
A6: SW-1 | B6: Lando Norris | C6: FALSE | D6: =COUNTIF(C6:C6,TRUE)/1 -> 0
A7: SW-2 | B7: Oscar Piastri | C7: FALSE | D7: =COUNTIF(C7:C7,TRUE)/1 -> 0
A8: SW-3 | B8: George Russell | C8: FALSE | D8: =COUNTIF(C8:C8,TRUE)/1 -> 0
A9: SW-4 | B9: Kimi Antonelli | C9: FALSE | D9: =COUNTIF(C9:C9,TRUE)/1 -> 0
A10: SW-5 | B10: Max Verstappen | C10: FALSE | D10: =COUNTIF(C10:C10,TRUE)/1 -> 0
A11: SW-6 | B11: Isack Hadjar | C11: FALSE | D11: =COUNTIF(C11:C11,TRUE)/1 -> 0
A12: SW-7 | B12: Charles Leclerc | C12: FALSE | D12: =COUNTIF(C12:C12,TRUE)/1 -> 0
A13: SW-8 | B13: Lewis Hamilton | C13: FALSE | D13: =COUNTIF(C13:C13,TRUE)/1 -> 0
A14: SW-9 | B14: Alex Albon | C14: FALSE | D14: =COUNTIF(C14:C14,TRUE)/1 -> 0
A15: SW-10 | B15: Carlos Sainz | C15: FALSE | D15: =COUNTIF(C15:C15,TRUE)/1 -> 0
A16: SW-11 | B16: Liam Lawson | C16: FALSE | D16: =COUNTIF(C16:C16,TRUE)/1 -> 0
A17: SW-12 | B17: Arvid Lindblad (RC) | C17: FALSE | D17: =COUNTIF(C17:C17,TRUE)/1 -> 0
... A27: SW-22 | B27: Valtteri Bottas | C27: FALSE | D27: =COUNTIF(C27:C27,TRUE)/1 -> 0
A29: AUSTIN TO MEXICO CITY · 22 cartes | D29: =COUNTIF(C30:C51,TRUE)/22 -> 0
A30: ATM-1 | B30: Lando Norris | C30: FALSE | D30: =COUNTIF(C30:C30,TRUE)/1 -> 0
A31: ATM-2 | B31: Oscar Piastri | C31: FALSE | D31: =COUNTIF(C31:C31,TRUE)/1 -> 0
A32: ATM-3 | B32: George Russell | C32: FALSE | D32: =COUNTIF(C32:C32,TRUE)/1 -> 0
A33: ATM-4 | B33: Kimi Antonelli | C33: FALSE | D33: =COUNTIF(C33:C33,TRUE)/1 -> 0
A34: ATM-5 | B34: Max Verstappen | C34: FALSE | D34: =COUNTIF(C34:C34,TRUE)/1 -> 0
A35: ATM-6 | B35: Isack Hadjar | C35: FALSE | D35: =COUNTIF(C35:C35,TRUE)/1 -> 0
A36: ATM-7 | B36: Charles Leclerc | C36: FALSE | D36: =COUNTIF(C36:C36,TRUE)/1 -> 0
A37: ATM-8 | B37: Lewis Hamilton | C37: FALSE | D37: =COUNTIF(C37:C37,TRUE)/1 -> 0
A38: ATM-9 | B38: Alex Albon | C38: FALSE | D38: =COUNTIF(C38:C38,TRUE)/1 -> 0
A39: ATM-10 | B39: Carlos Sainz | C39: FALSE | D39: =COUNTIF(C39:C39,TRUE)/1 -> 0
A40: ATM-11 | B40: Liam Lawson | C40: FALSE | D40: =COUNTIF(C40:C40,TRUE)/1 -> 0
A41: ATM-12 | B41: Arvid Lindblad (RC) | C41: FALSE | D41: =COUNTIF(C41:C41,TRUE)/1 -> 0
... A51: ATM-22 | B51: Valtteri Bottas | C51: FALSE | D51: =COUNTIF(C51:C51,TRUE)/1 -> 0
A53: HELMET COLLECTION · 22 cartes | D53: =COUNTIF(C54:C75,TRUE)/22 -> 0
A54: HC-1 | B54: Lando Norris | C54: FALSE | D54: =COUNTIF(C54:C54,TRUE)/1 -> 0
A55: HC-2 | B55: Oscar Piastri | C55: FALSE | D55: =COUNTIF(C55:C55,TRUE)/1 -> 0
A56: HC-3 | B56: George Russell | C56: FALSE | D56: =COUNTIF(C56:C56,TRUE)/1 -> 0
A57: HC-4 | B57: Kimi Antonelli | C57: FALSE | D57: =COUNTIF(C57:C57,TRUE)/1 -> 0
A58: HC-5 | B58: Max Verstappen | C58: FALSE | D58: =COUNTIF(C58:C58,TRUE)/1 -> 0
A59: HC-6 | B59: Isack Hadjar | C59: FALSE | D59: =COUNTIF(C59:C59,TRUE)/1 -> 0
A60: HC-7 | B60: Charles Leclerc | C60: FALSE | D60: =COUNTIF(C60:C60,TRUE)/1 -> 0
A61: HC-8 | B61: Lewis Hamilton | C61: FALSE | D61: =COUNTIF(C61:C61,TRUE)/1 -> 0
A62: HC-9 | B62: Alex Albon | C62: FALSE | D62: =COUNTIF(C62:C62,TRUE)/1 -> 0
A63: HC-10 | B63: Carlos Sainz | C63: FALSE | D63: =COUNTIF(C63:C63,TRUE)/1 -> 0
A64: HC-11 | B64: Liam Lawson | C64: FALSE | D64: =COUNTIF(C64:C64,TRUE)/1 -> 0
A65: HC-12 | B65: Arvid Lindblad (RC) | C65: FALSE | D65: =COUNTIF(C65:C65,TRUE)/1 -> 0
... A75: HC-22 | B75: Valtteri Bottas | C75: FALSE | D75: =COUNTIF(C75:C75,TRUE)/1 -> 0
A77: HELMET COLLECTION IMAGE VARIATIONS · 10 cartes | D77: =COUNTIF(C78:C87,TRUE)/10 -> 0
A78: HC-1 | B78: Lando Norris | C78: FALSE | D78: =COUNTIF(C78:C78,TRUE)/1 -> 0
A79: HC-2 | B79: Oscar Piastri | C79: FALSE | D79: =COUNTIF(C79:C79,TRUE)/1 -> 0
A80: HC-4 | B80: Kimi Antonelli | C80: FALSE | D80: =COUNTIF(C80:C80,TRUE)/1 -> 0
A81: HC-5 | B81: Max Verstappen | C81: FALSE | D81: =COUNTIF(C81:C81,TRUE)/1 -> 0
A82: HC-6 | B82: Isack Hadjar | C82: FALSE | D82: =COUNTIF(C82:C82,TRUE)/1 -> 0
A83: HC-7 | B83: Charles Leclerc | C83: FALSE | D83: =COUNTIF(C83:C83,TRUE)/1 -> 0
A84: HC-8 | B84: Lewis Hamilton | C84: FALSE | D84: =COUNTIF(C84:C84,TRUE)/1 -> 0
A85: HC-9 | B85: Alex Albon | C85: FALSE | D85: =COUNTIF(C85:C85,TRUE)/1 -> 0
A86: HC-10 | B86: Carlos Sainz | C86: FALSE | D86: =COUNTIF(C86:C86,TRUE)/1 -> 0
A87: HC-16 | B87: Esteban Ocon | C87: FALSE | D87: =COUNTIF(C87:C87,TRUE)/1 -> 0
A89: DANCING IN THE RAIN · 22 cartes | D89: =COUNTIF(C90:C111,TRUE)/22 -> 0
A90: DITR-1 | B90: Lando Norris | C90: FALSE | D90: =COUNTIF(C90:C90,TRUE)/1 -> 0
A91: DITR-2 | B91: Oscar Piastri | C91: FALSE | D91: =COUNTIF(C91:C91,TRUE)/1 -> 0
A92: DITR-3 | B92: George Russell | C92: FALSE | D92: =COUNTIF(C92:C92,TRUE)/1 -> 0
A93: DITR-4 | B93: Kimi Antonelli | C93: FALSE | D93: =COUNTIF(C93:C93,TRUE)/1 -> 0
A94: DITR-5 | B94: Max Verstappen | C94: FALSE | D94: =COUNTIF(C94:C94,TRUE)/1 -> 0
A95: DITR-6 | B95: Isack Hadjar | C95: FALSE | D95: =COUNTIF(C95:C95,TRUE)/1 -> 0
A96: DITR-7 | B96: Charles Leclerc | C96: FALSE | D96: =COUNTIF(C96:C96,TRUE)/1 -> 0
A97: DITR-8 | B97: Lewis Hamilton | C97: FALSE | D97: =COUNTIF(C97:C97,TRUE)/1 -> 0
A98: DITR-9 | B98: Alex Albon | C98: FALSE | D98: =COUNTIF(C98:C98,TRUE)/1 -> 0
A99: DITR-10 | B99: Carlos Sainz | C99: FALSE | D99: =COUNTIF(C99:C99,TRUE)/1 -> 0
A100: DITR-11 | B100: Liam Lawson | C100: FALSE | D100: =COUNTIF(C100:C100,TRUE)/1 -> 0
A101: DITR-12 | B101: Arvid Lindblad (RC) | C101: FALSE | D101: =COUNTIF(C101:C101,TRUE)/1 -> 0
... A111: DITR-22 | B111: Valtteri Bottas | C111: FALSE | D111: =COUNTIF(C111:C111,TRUE)/1 -> 0
A113: SUIT UP · 25 cartes | D113: =COUNTIF(C114:C138,TRUE)/25 -> 0
A114: SU-1 | B114: Lando Norris | C114: FALSE | D114: =COUNTIF(C114:C114,TRUE)/1 -> 0
A115: SU-2 | B115: Oscar Piastri | C115: FALSE | D115: =COUNTIF(C115:C115,TRUE)/1 -> 0
A116: SU-3 | B116: George Russell | C116: FALSE | D116: =COUNTIF(C116:C116,TRUE)/1 -> 0
A117: SU-4 | B117: Kimi Antonelli | C117: FALSE | D117: =COUNTIF(C117:C117,TRUE)/1 -> 0
A118: SU-5 | B118: Max Verstappen | C118: FALSE | D118: =COUNTIF(C118:C118,TRUE)/1 -> 0
A119: SU-6 | B119: Isack Hadjar | C119: FALSE | D119: =COUNTIF(C119:C119,TRUE)/1 -> 0
A120: SU-7 | B120: Charles Leclerc | C120: FALSE | D120: =COUNTIF(C120:C120,TRUE)/1 -> 0
A121: SU-8 | B121: Lewis Hamilton | C121: FALSE | D121: =COUNTIF(C121:C121,TRUE)/1 -> 0
A122: SU-9 | B122: Alex Albon | C122: FALSE | D122: =COUNTIF(C122:C122,TRUE)/1 -> 0
A123: SU-10 | B123: Carlos Sainz | C123: FALSE | D123: =COUNTIF(C123:C123,TRUE)/1 -> 0
A124: SU-11 | B124: Liam Lawson | C124: FALSE | D124: =COUNTIF(C124:C124,TRUE)/1 -> 0
A125: SU-12 | B125: Arvid Lindblad (RC) | C125: FALSE | D125: =COUNTIF(C125:C125,TRUE)/1 -> 0
... A138: SU-25 | B138: Rubens Barrichello | C138: FALSE | D138: =COUNTIF(C138:C138,TRUE)/1 -> 0
A140: HOME STRAIGHT · 25 cartes | D140: =COUNTIF(C141:C165,TRUE)/25 -> 0
A141: HS-1 | B141: Lando Norris | C141: FALSE | D141: =COUNTIF(C141:C141,TRUE)/1 -> 0
A142: HS-2 | B142: Oscar Piastri | C142: FALSE | D142: =COUNTIF(C142:C142,TRUE)/1 -> 0
A143: HS-3 | B143: George Russell | C143: FALSE | D143: =COUNTIF(C143:C143,TRUE)/1 -> 0
A144: HS-4 | B144: Kimi Antonelli | C144: FALSE | D144: =COUNTIF(C144:C144,TRUE)/1 -> 0
A145: HS-5 | B145: Max Verstappen | C145: FALSE | D145: =COUNTIF(C145:C145,TRUE)/1 -> 0
A146: HS-6 | B146: Isack Hadjar | C146: FALSE | D146: =COUNTIF(C146:C146,TRUE)/1 -> 0
A147: HS-7 | B147: Charles Leclerc | C147: FALSE | D147: =COUNTIF(C147:C147,TRUE)/1 -> 0
A148: HS-8 | B148: Lewis Hamilton | C148: FALSE | D148: =COUNTIF(C148:C148,TRUE)/1 -> 0
A149: HS-9 | B149: Alex Albon | C149: FALSE | D149: =COUNTIF(C149:C149,TRUE)/1 -> 0
A150: HS-10 | B150: Carlos Sainz | C150: FALSE | D150: =COUNTIF(C150:C150,TRUE)/1 -> 0
A151: HS-11 | B151: Liam Lawson | C151: FALSE | D151: =COUNTIF(C151:C151,TRUE)/1 -> 0
A152: HS-12 | B152: Arvid Lindblad (RC) | C152: FALSE | D152: =COUNTIF(C152:C152,TRUE)/1 -> 0
... A165: HS-25 | B165: David Coulthard | C165: FALSE | D165: =COUNTIF(C165:C165,TRUE)/1 -> 0
A167: FUTURO · 3 cartes | D167: =COUNTIF(C168:C170,TRUE)/3 -> 0
...

Sheet Autographes
A1: Topps Chrome F1 2026 — Autographes
A2: Suivi de collection — checklist complète
A3: Cochez les cartes possédées. Utilisez les boutons − / + à gauche pour replier ou déplier chaque subset.
A4: N° | B4: Carte | C4: Standard | D4: Progression
A5: SET DE BASE · 91 cartes | D5: =COUNTIF(C6:C96,TRUE)/91 -> 0
A6: CAC-LN | B6: Lando Norris | C6: FALSE | D6: =COUNTIF(C6:C6,TRUE)/1 -> 0
A7: CAC-OP | B7: Oscar Piastri | C7: FALSE | D7: =COUNTIF(C7:C7,TRUE)/1 -> 0
A8: CAC-GR | B8: George Russell | C8: FALSE | D8: =COUNTIF(C8:C8,TRUE)/1 -> 0
A9: CAC-KA | B9: Kimi Antonelli | C9: FALSE | D9: =COUNTIF(C9:C9,TRUE)/1 -> 0
A10: CAC-MV | B10: Max Verstappen | C10: FALSE | D10: =COUNTIF(C10:C10,TRUE)/1 -> 0
A11: CAC-IH | B11: Isack Hadjar | C11: FALSE | D11: =COUNTIF(C11:C11,TRUE)/1 -> 0
A12: CAC-CL | B12: Charles Leclerc | C12: FALSE | D12: =COUNTIF(C12:C12,TRUE)/1 -> 0
A13: CAC-LH | B13: Lewis Hamilton | C13: FALSE | D13: =COUNTIF(C13:C13,TRUE)/1 -> 0
A14: CAC-AA | B14: Alex Albon | C14: FALSE | D14: =COUNTIF(C14:C14,TRUE)/1 -> 0
A15: CAC-CS | B15: Carlos Sainz | C15: FALSE | D15: =COUNTIF(C15:C15,TRUE)/1 -> 0
A16: CAC-LL | B16: Liam Lawson | C16: FALSE | D16: =COUNTIF(C16:C16,TRUE)/1 -> 0
A17: CAC-AL | B17: Arvid Lindblad (RC) | C17: FALSE | D17: =COUNTIF(C17:C17,TRUE)/1 -> 0
... A96: CAC-GF | B96: Giancarlo Fisichella | C96: FALSE | D96: =COUNTIF(C96:C96,TRUE)/1 -> 0
A98: FUTURO · 3 cartes | D98: =COUNTIF(C99:C101,TRUE)/3 -> 0
A99: FUT-1 | B99: Arvid Lindblad (RC) | C99: FALSE | D99: =COUNTIF(C99:C99,TRUE)/1 -> 0
A100: FUT-2 | B100: Rafael Câmara | C100: FALSE | D100: =COUNTIF(C100:C100,TRUE)/1 -> 0
A101: FUT-3 | B101: Ugo Ugochukwu | C101: FALSE | D101: =COUNTIF(C101:C101,TRUE)/1 -> 0
A103: VUELTA 1 · 22 cartes | D103: =COUNTIF(C104:C125,TRUE)/22 -> 0
A104: VUE-LN | B104: Lando Norris | C104: FALSE | D104: =COUNTIF(C104:C104,TRUE)/1 -> 0
A105: VUE-OP | B105: Oscar Piastri | C105: FALSE | D105: =COUNTIF(C105:C105,TRUE)/1 -> 0
A106: VUE-GR | B106: George Russell | C106: FALSE | D106: =COUNTIF(C106:C106,TRUE)/1 -> 0
A107: VUE-KA | B107: Kimi Antonelli | C107: FALSE | D107: =COUNTIF(C107:C107,TRUE)/1 -> 0
A108: VUE-MV | B108: Max Verstappen | C108: FALSE | D108: =COUNTIF(C108:C108,TRUE)/1 -> 0
A109: VUE-IH | B109: Isack Hadjar | C109: FALSE | D109: =COUNTIF(C109:C109,TRUE)/1 -> 0
A110: VUE-CL | B110: Charles Leclerc | C110: FALSE | D110: =COUNTIF(C110:C110,TRUE)/1 -> 0
A111: VUE-LH | B111: Lewis Hamilton | C111: FALSE | D111: =COUNTIF(C111:C111,TRUE)/1 -> 0
A112: VUE-AA | B112: Alex Albon | C112: FALSE | D112: =COUNTIF(C112:C112,TRUE)/1 -> 0
A113: VUE-CS | B113: Carlos Sainz | C113: FALSE | D113: =COUNTIF(C113:C113,TRUE)/1 -> 0
A114: VUE-LL | B114: Liam Lawson | C114: FALSE | D114: =COUNTIF(C114:C114,TRUE)/1 -> 0
A115: VUE-AL | B115: Arvid Lindblad (RC) | C115: FALSE | D115: =COUNTIF(C115:C115,TRUE)/1 -> 0
... A125: VUE-VB | B125: Valtteri Bottas | C125: FALSE | D125: =COUNTIF(C125:C125,TRUE)/1 -> 0
A127: PODIUM TRIPLE AUTOGRAPHS · 24 cartes | D127: =COUNTIF(C128:C151,TRUE)/24 -> 0
A128: R1-NVR | B128: Lando Norris, Max Verstappen & George Russell | C128: FALSE | D128: =COUNTIF(C128:C128,TRUE)/1 -> 0
A129: R2-PNR | B129: Oscar Piastri, Lando Norris & George Russell | C129: FALSE | D129: =COUNTIF(C129:C129,TRUE)/1 -> 0
A130: R3-VNP | B130: Max Verstappen, Lando Norris & Oscar Piastri | C130: FALSE | D130: =COUNTIF(C130:C130,TRUE)/1 -> 0
A131: R4-PRN | B131: Oscar Piastri, George Russell & Lando Norris | C131: FALSE | D131: =COUNTIF(C131:C131,TRUE)/1 -> 0
A132: R5-PVL | B132: Oscar Piastri, Max Verstappen & Charles Leclerc | C132: FALSE | D132: =COUNTIF(C132:C132,TRUE)/1 -> 0
A133: R6-PNR | B133: Oscar Piastri, Lando Norris & George Russell | C133: FALSE | D133: =COUNTIF(C133:C133,TRUE)/1 -> 0
A134: R7-VNP | B134: Max Verstappen, Lando Norris & Oscar Piastri | C134: FALSE | D134: =COUNTIF(C134:C134,TRUE)/1 -> 0
A135: R8-NLP | B135: Lando Norris, Charles Leclerc & Oscar Piastri | C135: FALSE | D135: =COUNTIF(C135:C135,TRUE)/1 -> 0
A136: R9-PNL | B136: Oscar Piastri, Lando Norris & Charles Leclerc | C136: FALSE | D136: =COUNTIF(C136:C136,TRUE)/1 -> 0
A137: R10-RVA | B137: George Russell, Max Verstappen & Kimi Antonelli | C137: FALSE | D137: =COUNTIF(C137:C137,TRUE)/1 -> 0
A138: R11-NPL | B138: Lando Norris, Oscar Piastri & Charles Leclerc | C138: FALSE | D138: =COUNTIF(C138:C138,TRUE)/1 -> 0
A139: R12-NPH | B139: Lando Norris, Oscar Piastri & Nico Hülkenberg | C139: FALSE | D139: =COUNTIF(C139:C139,TRUE)/1 -> 0
... A151: R24-VPN | B151: Max Verstappen, Oscar Piastri & Lando Norris | C151: FALSE | D151: =COUNTIF(C151:C151,TRUE)/1 -> 0

Sheet Autographes & Reliques
A1: Topps Chrome F1 2026 — Autographes & Reliques
A2: Suivi de collection — checklist complète
A3: Cochez les cartes possédées. Utilisez les boutons − / + à gauche pour replier ou déplier chaque subset.
A4: N° | B4: Carte | C4: Standard | D4: Progression
A5: F1 DEBUT PATCH AUTOGRAPHS · 1 carte | D5: =COUNTIF(C6:C6,TRUE)/1 -> 0
A6: DPA-AL | B6: Arvid Lindblad (RC) | C6: FALSE | D6: =COUNTIF(C6:C6,TRUE)/1 -> 0
