Workbook

Sheet Aperçu
A1: Topps Chrome F1 2023
A2: Tracker de collection — checklist complète
A4: SET DE BASE (versions principales) | C4: VERSIONS PRINCIPALES (tous les onglets) | E4: PARALLÈLES (variantes) | G4: COLLECTION TOTALE
A5: =(SUM('Set de base'!AA6:AA63))/58 -> 0 | C5: =(SUM('Set de base'!AA6:AA63)+SUM('Inserts'!L6:L143)+SUM('Autographes'!L6:L75))/248 -> 0 | E5: =(SUM('Set de base'!AB6:AB63)+SUM('Inserts'!M6:M143)+SUM('Autographes'!M6:M75))/2312 -> 0 | G5: =(SUM('Set de base'!AC6:AC63)+SUM('Inserts'!N6:N143)+SUM('Autographes'!N6:N75))/2560 -> 0
A7: =(SUM('Set de base'!AA6:AA63))&" / 58" -> 0 / 58 | C7: =(SUM('Set de base'!AA6:AA63)+SUM('Inserts'!L6:L143)+SUM('Autographes'!L6:L75))&" / 248" -> 0 / 248 | E7: =(SUM('Set de base'!AB6:AB63)+SUM('Inserts'!M6:M143)+SUM('Autographes'!M6:M75))&" / 2312" -> 0 / 2312 | G7: =(SUM('Set de base'!AC6:AC63)+SUM('Inserts'!N6:N143)+SUM('Autographes'!N6:N75))&" / 2560" -> 0 / 2560
A8: Set de base = versions principales de l’onglet « Set de base » • Versions principales = Standard ou version nominale lorsqu’elle existe, numérotée ou non, tous onglets confondus.
A10: Progression par onglet
A11: Onglet | B11: Versions | C11: Possédées | D11: Progression
A12: Set de base | B12: 1392 | C12: =SUM('Set de base'!AC6:AC63) -> 0 | D12: =(SUM('Set de base'!AC6:AC63))/1392 -> 0
A13: Inserts | B13: 664 | C13: =SUM('Inserts'!N6:N143) -> 0 | D13: =(SUM('Inserts'!N6:N143))/664 -> 0
A14: Autographes | B14: 504 | C14: =SUM('Autographes'!N6:N75) -> 0 | D14: =(SUM('Autographes'!N6:N75))/504 -> 0
A17: Cartes de base par pilote
A18: Pilote | B18: Cartes de base | C18: Possédées | D18: Progression
A19: Alain Prost | B19: 1 | C19: =IF('Set de base'!B59=TRUE,1,0) -> 0 | D19: =(IF('Set de base'!B59=TRUE,1,0))/1 -> 0
A20: Alexander Albon | B20: 1 | C20: =IF('Set de base'!B23=TRUE,1,0) -> 0 | D20: =(IF('Set de base'!B23=TRUE,1,0))/1 -> 0
A21: Amaury Cordeel | B21: 1 | C21: =IF('Set de base'!B30=TRUE,1,0) -> 0 | D21: =(IF('Set de base'!B30=TRUE,1,0))/1 -> 0
A22: Arthur Leclerc | B22: 1 | C22: =IF('Set de base'!B42=TRUE,1,0) -> 0 | D22: =(IF('Set de base'!B42=TRUE,1,0))/1 -> 0
A23: Ayrton Senna | B23: 1 | C23: =IF('Set de base'!B61=TRUE,1,0) -> 0 | D23: =(IF('Set de base'!B61=TRUE,1,0))/1 -> 0
A24: Ayumu Iwasa | B24: 1 | C24: =IF('Set de base'!B41=TRUE,1,0) -> 0 | D24: =(IF('Set de base'!B41=TRUE,1,0))/1 -> 0
A25: Brad Benavides | B25: 1 | C25: =IF('Set de base'!B46=TRUE,1,0) -> 0 | D25: =(IF('Set de base'!B46=TRUE,1,0))/1 -> 0
A26: Carlos Sainz | B26: 1 | C26: =IF('Set de base'!B10=TRUE,1,0) -> 0 | D26: =(IF('Set de base'!B10=TRUE,1,0))/1 -> 0
A27: Charles Leclerc | B27: 1 | C27: =IF('Set de base'!B7=TRUE,1,0) -> 0 | D27: =(IF('Set de base'!B7=TRUE,1,0))/1 -> 0
A28: Clément Novalak | B28: 1 | C28: =IF('Set de base'!B44=TRUE,1,0) -> 0 | D28: =(IF('Set de base'!B44=TRUE,1,0))/1 -> 0
A29: Daniel Ricciardo | B29: 1 | C29: =IF('Set de base'!B26=TRUE,1,0) -> 0 | D29: =(IF('Set de base'!B26=TRUE,1,0))/1 -> 0
A30: David Coulthard | B30: 1 | C30: =IF('Set de base'!B63=TRUE,1,0) -> 0 | D30: =(IF('Set de base'!B63=TRUE,1,0))/1 -> 0
A31: Dennis Hauger | B31: 1 | C31: =IF('Set de base'!B37=TRUE,1,0) -> 0 | D31: =(IF('Set de base'!B37=TRUE,1,0))/1 -> 0
A32: Enzo Fittipaldi | B32: 1 | C32: =IF('Set de base'!B32=TRUE,1,0) -> 0 | D32: =(IF('Set de base'!B32=TRUE,1,0))/1 -> 0
A33: Esteban Ocon | B33: 1 | C33: =IF('Set de base'!B13=TRUE,1,0) -> 0 | D33: =(IF('Set de base'!B13=TRUE,1,0))/1 -> 0
A34: Fernando Alonso | B34: 1 | C34: =IF('Set de base'!B14=TRUE,1,0) -> 0 | D34: =(IF('Set de base'!B14=TRUE,1,0))/1 -> 0
A35: Frederik Vesti | B35: 1 | C35: =IF('Set de base'!B27=TRUE,1,0) -> 0 | D35: =(IF('Set de base'!B27=TRUE,1,0))/1 -> 0
A36: George Russell | B36: 1 | C36: =IF('Set de base'!B9=TRUE,1,0) -> 0 | D36: =(IF('Set de base'!B9=TRUE,1,0))/1 -> 0
A37: Isack Hadjar | B37: 1 | C37: =IF('Set de base'!B34=TRUE,1,0) -> 0 | D37: =(IF('Set de base'!B34=TRUE,1,0))/1 -> 0
A38: Jack Doohan | B38: 1 | C38: =IF('Set de base'!B29=TRUE,1,0) -> 0 | D38: =(IF('Set de base'!B29=TRUE,1,0))/1 -> 0
A39: Jak Crawford | B39: 1 | C39: =IF('Set de base'!B33=TRUE,1,0) -> 0 | D39: =(IF('Set de base'!B33=TRUE,1,0))/1 -> 0
A40: Jehan Daruvala | B40: 1 | C40: =IF('Set de base'!B38=TRUE,1,0) -> 0 | D40: =(IF('Set de base'!B38=TRUE,1,0))/1 -> 0
A41: Juan Manuel Correa | B41: 1 | C41: =IF('Set de base'!B48=TRUE,1,0) -> 0 | D41: =(IF('Set de base'!B48=TRUE,1,0))/1 -> 0
A42: Kevin Magnussen | B42: 1 | C42: =IF('Set de base'!B19=TRUE,1,0) -> 0 | D42: =(IF('Set de base'!B19=TRUE,1,0))/1 -> 0
A43: Kush Maini | B43: 1 | C43: =IF('Set de base'!B39=TRUE,1,0) -> 0 | D43: =(IF('Set de base'!B39=TRUE,1,0))/1 -> 0
A44: Lance Stroll | B44: 1 | C44: =IF('Set de base'!B17=TRUE,1,0) -> 0 | D44: =(IF('Set de base'!B17=TRUE,1,0))/1 -> 0
A45: Lando Norris | B45: 1 | C45: =IF('Set de base'!B12=TRUE,1,0) -> 0 | D45: =(IF('Set de base'!B12=TRUE,1,0))/1 -> 0
...

Sheet Set de base
A1: Topps Chrome F1 2023 — Set de base
A2: Suivi de collection — checklist complète
A3: Cochez les cartes possédées. Utilisez les boutons − / + à gauche pour replier ou déplier chaque subset.
A4: Carte | B4: Version principale | C4: Refractor | D4: Checker Flag | E4: Mini Diamonds Refractor /299 | F4: Purple Refractor /399 | G4: Purple Checker Flag /199 | H4: Fuchsia Lava /250 | I4: Aqua Wave /150 | J4: Green Refractor /99 | K4: Pink Refractor /75 | L4: Gold Refractor /50 | M4: Gold Wave Refractor /50 | N4: Gold Checker Flag /50 | O4: Orange Refractor /25 | P4: Orange Wave Refractor /25 | Q4: Orange Checker Flag /25 | R4: Red Refractor /5 | S4: Red Checker Flag /5 | T4: Purple/Green Refractor | U4: Gold/Purple Refractor | V4: Orange/Red Refractor | W4: Red/Green Refractor | X4: Superfractor /1 | Y4: Printing plate /1 | Z4: Progression | AA4: Principales possédées | AB4: Parallèles possédés | AC4: Versions possédées
A5: SET DE BASE · 58 cartes | Z5: =SUM(AC6:AC63)/1392 -> 0
A6: Max Verstappen | B6: FALSE | C6: FALSE | D6: FALSE | E6: FALSE | F6: FALSE | G6: FALSE | H6: FALSE | I6: FALSE | J6: FALSE | K6: FALSE | L6: FALSE | M6: FALSE | N6: FALSE | O6: FALSE | P6: FALSE | Q6: FALSE | R6: FALSE | S6: FALSE | T6: FALSE | U6: FALSE | V6: FALSE | W6: FALSE | X6: FALSE | Y6: FALSE | Z6: =AC6/24 -> 0 | AA6: =COUNTIF(B6,TRUE) -> 0 | AB6: =COUNTIF(C6:Y6,TRUE) -> 0 | AC6: =AA6+AB6 -> 0
A7: Charles Leclerc | B7: FALSE | C7: FALSE | D7: FALSE | E7: FALSE | F7: FALSE | G7: FALSE | H7: FALSE | I7: FALSE | J7: FALSE | K7: FALSE | L7: FALSE | M7: FALSE | N7: FALSE | O7: FALSE | P7: FALSE | Q7: FALSE | R7: FALSE | S7: FALSE | T7: FALSE | U7: FALSE | V7: FALSE | W7: FALSE | X7: FALSE | Y7: FALSE | Z7: =AC7/24 -> 0 | AA7: =COUNTIF(B7,TRUE) -> 0 | AB7: =COUNTIF(C7:Y7,TRUE) -> 0 | AC7: =AA7+AB7 -> 0
A8: Sergio Pérez | B8: FALSE | C8: FALSE | D8: FALSE | E8: FALSE | F8: FALSE | G8: FALSE | H8: FALSE | I8: FALSE | J8: FALSE | K8: FALSE | L8: FALSE | M8: FALSE | N8: FALSE | O8: FALSE | P8: FALSE | Q8: FALSE | R8: FALSE | S8: FALSE | T8: FALSE | U8: FALSE | V8: FALSE | W8: FALSE | X8: FALSE | Y8: FALSE | Z8: =AC8/24 -> 0 | AA8: =COUNTIF(B8,TRUE) -> 0 | AB8: =COUNTIF(C8:Y8,TRUE) -> 0 | AC8: =AA8+AB8 -> 0
A9: George Russell | B9: FALSE | C9: FALSE | D9: FALSE | E9: FALSE | F9: FALSE | G9: FALSE | H9: FALSE | I9: FALSE | J9: FALSE | K9: FALSE | L9: FALSE | M9: FALSE | N9: FALSE | O9: FALSE | P9: FALSE | Q9: FALSE | R9: FALSE | S9: FALSE | T9: FALSE | U9: FALSE | V9: FALSE | W9: FALSE | X9: FALSE | Y9: FALSE | Z9: =AC9/24 -> 0 | AA9: =COUNTIF(B9,TRUE) -> 0 | AB9: =COUNTIF(C9:Y9,TRUE) -> 0 | AC9: =AA9+AB9 -> 0
A10: Carlos Sainz | B10: FALSE | C10: FALSE | D10: FALSE | E10: FALSE | F10: FALSE | G10: FALSE | H10: FALSE | I10: FALSE | J10: FALSE | K10: FALSE | L10: FALSE | M10: FALSE | N10: FALSE | O10: FALSE | P10: FALSE | Q10: FALSE | R10: FALSE | S10: FALSE | T10: FALSE | U10: FALSE | V10: FALSE | W10: FALSE | X10: FALSE | Y10: FALSE | Z10: =AC10/24 -> 0 | AA10: =COUNTIF(B10,TRUE) -> 0 | AB10: =COUNTIF(C10:Y10,TRUE) -> 0 | AC10: =AA10+AB10 -> 0
A11: Lewis Hamilton | B11: FALSE | C11: FALSE | D11: FALSE | E11: FALSE | F11: FALSE | G11: FALSE | H11: FALSE | I11: FALSE | J11: FALSE | K11: FALSE | L11: FALSE | M11: FALSE | N11: FALSE | O11: FALSE | P11: FALSE | Q11: FALSE | R11: FALSE | S11: FALSE | T11: FALSE | U11: FALSE | V11: FALSE | W11: FALSE | X11: FALSE | Y11: FALSE | Z11: =AC11/24 -> 0 | AA11: =COUNTIF(B11,TRUE) -> 0 | AB11: =COUNTIF(C11:Y11,TRUE) -> 0 | AC11: =AA11+AB11 -> 0
A12: Lando Norris | B12: FALSE | C12: FALSE | D12: FALSE | E12: FALSE | F12: FALSE | G12: FALSE | H12: FALSE | I12: FALSE | J12: FALSE | K12: FALSE | L12: FALSE | M12: FALSE | N12: FALSE | O12: FALSE | P12: FALSE | Q12: FALSE | R12: FALSE | S12: FALSE | T12: FALSE | U12: FALSE | V12: FALSE | W12: FALSE | X12: FALSE | Y12: FALSE | Z12: =AC12/24 -> 0 | AA12: =COUNTIF(B12,TRUE) -> 0 | AB12: =COUNTIF(C12:Y12,TRUE) -> 0 | AC12: =AA12+AB12 -> 0
A13: Esteban Ocon | B13: FALSE | C13: FALSE | D13: FALSE | E13: FALSE | F13: FALSE | G13: FALSE | H13: FALSE | I13: FALSE | J13: FALSE | K13: FALSE | L13: FALSE | M13: FALSE | N13: FALSE | O13: FALSE | P13: FALSE | Q13: FALSE | R13: FALSE | S13: FALSE | T13: FALSE | U13: FALSE | V13: FALSE | W13: FALSE | X13: FALSE | Y13: FALSE | Z13: =AC13/24 -> 0 | AA13: =COUNTIF(B13,TRUE) -> 0 | AB13: =COUNTIF(C13:Y13,TRUE) -> 0 | AC13: =AA13+AB13 -> 0
A14: Fernando Alonso | B14: FALSE | C14: FALSE | D14: FALSE | E14: FALSE | F14: FALSE | G14: FALSE | H14: FALSE | I14: FALSE | J14: FALSE | K14: FALSE | L14: FALSE | M14: FALSE | N14: FALSE | O14: FALSE | P14: FALSE | Q14: FALSE | R14: FALSE | S14: FALSE | T14: FALSE | U14: FALSE | V14: FALSE | W14: FALSE | X14: FALSE | Y14: FALSE | Z14: =AC14/24 -> 0 | AA14: =COUNTIF(B14,TRUE) -> 0 | AB14: =COUNTIF(C14:Y14,TRUE) -> 0 | AC14: =AA14+AB14 -> 0
A15: Valtteri Bottas | B15: FALSE | C15: FALSE | D15: FALSE | E15: FALSE | F15: FALSE | G15: FALSE | H15: FALSE | I15: FALSE | J15: FALSE | K15: FALSE | L15: FALSE | M15: FALSE | N15: FALSE | O15: FALSE | P15: FALSE | Q15: FALSE | R15: FALSE | S15: FALSE | T15: FALSE | U15: FALSE | V15: FALSE | W15: FALSE | X15: FALSE | Y15: FALSE | Z15: =AC15/24 -> 0 | AA15: =COUNTIF(B15,TRUE) -> 0 | AB15: =COUNTIF(C15:Y15,TRUE) -> 0 | AC15: =AA15+AB15 -> 0
A16: Oscar Piastri (RC) | B16: FALSE | C16: FALSE | D16: FALSE | E16: FALSE | F16: FALSE | G16: FALSE | H16: FALSE | I16: FALSE | J16: FALSE | K16: FALSE | L16: FALSE | M16: FALSE | N16: FALSE | O16: FALSE | P16: FALSE | Q16: FALSE | R16: FALSE | S16: FALSE | T16: FALSE | U16: FALSE | V16: FALSE | W16: FALSE | X16: FALSE | Y16: FALSE | Z16: =AC16/24 -> 0 | AA16: =COUNTIF(B16,TRUE) -> 0 | AB16: =COUNTIF(C16:Y16,TRUE) -> 0 | AC16: =AA16+AB16 -> 0
A17: Lance Stroll | B17: FALSE | C17: FALSE | D17: FALSE | E17: FALSE | F17: FALSE | G17: FALSE | H17: FALSE | I17: FALSE | J17: FALSE | K17: FALSE | L17: FALSE | M17: FALSE | N17: FALSE | O17: FALSE | P17: FALSE | Q17: FALSE | R17: FALSE | S17: FALSE | T17: FALSE | U17: FALSE | V17: FALSE | W17: FALSE | X17: FALSE | Y17: FALSE | Z17: =AC17/24 -> 0 | AA17: =COUNTIF(B17,TRUE) -> 0 | AB17: =COUNTIF(C17:Y17,TRUE) -> 0 | AC17: =AA17+AB17 -> 0
... A63: David Coulthard | B63: FALSE | C63: FALSE | D63: FALSE | E63: FALSE | F63: FALSE | G63: FALSE | H63: FALSE | I63: FALSE | J63: FALSE | K63: FALSE | L63: FALSE | M63: FALSE | N63: FALSE | O63: FALSE | P63: FALSE | Q63: FALSE | R63: FALSE | S63: FALSE | T63: FALSE | U63: FALSE | V63: FALSE | W63: FALSE | X63: FALSE | Y63: FALSE | Z63: =AC63/24 -> 0 | AA63: =COUNTIF(B63,TRUE) -> 0 | AB63: =COUNTIF(C63:Y63,TRUE) -> 0 | AC63: =AA63+AB63 -> 0

Sheet Inserts
A1: Topps Chrome F1 2023 — Inserts
A2: Suivi de collection — checklist complète
A3: Cochez les cartes possédées. Utilisez les boutons − / + à gauche pour replier ou déplier chaque subset.
A4: Carte | B4: Tirage principal | C4: Version principale | D4: Gold Refractor /50 | E4: Gold Wave Refractor /50 | F4: Orange Refractor /25 | G4: Red Refractor /5 | H4: Superfractor /1 | I4: Printing Plates /1 | J4: Printing plates /1 | K4: Progression | L4: Principales possédées | M4: Parallèles possédés | N4: Versions possédées
A5: CAMBER · 11 cartes | K5: =SUM(N6:N16)/77 -> 0
A6: Charles Leclerc | C6: FALSE | D6: FALSE | E6: FALSE | F6: FALSE | G6: FALSE | H6: FALSE | I6: FALSE | K6: =N6/7 -> 0 | L6: =COUNTIF(C6,TRUE) -> 0 | M6: =COUNTIF(D6:I6,TRUE) -> 0 | N6: =L6+M6 -> 0
A7: Carlos Sainz | C7: FALSE | D7: FALSE | E7: FALSE | F7: FALSE | G7: FALSE | H7: FALSE | I7: FALSE | K7: =N7/7 -> 0 | L7: =COUNTIF(C7,TRUE) -> 0 | M7: =COUNTIF(D7:I7,TRUE) -> 0 | N7: =L7+M7 -> 0
A8: George Russell | C8: FALSE | D8: FALSE | E8: FALSE | F8: FALSE | G8: FALSE | H8: FALSE | I8: FALSE | K8: =N8/7 -> 0 | L8: =COUNTIF(C8,TRUE) -> 0 | M8: =COUNTIF(D8:I8,TRUE) -> 0 | N8: =L8+M8 -> 0
A9: Lewis Hamilton | C9: FALSE | D9: FALSE | E9: FALSE | F9: FALSE | G9: FALSE | H9: FALSE | I9: FALSE | K9: =N9/7 -> 0 | L9: =COUNTIF(C9,TRUE) -> 0 | M9: =COUNTIF(D9:I9,TRUE) -> 0 | N9: =L9+M9 -> 0
A10: Lando Norris | C10: FALSE | D10: FALSE | E10: FALSE | F10: FALSE | G10: FALSE | H10: FALSE | I10: FALSE | K10: =N10/7 -> 0 | L10: =COUNTIF(C10,TRUE) -> 0 | M10: =COUNTIF(D10:I10,TRUE) -> 0 | N10: =L10+M10 -> 0
A11: Max Verstappen | C11: FALSE | D11: FALSE | E11: FALSE | F11: FALSE | G11: FALSE | H11: FALSE | I11: FALSE | K11: =N11/7 -> 0 | L11: =COUNTIF(C11,TRUE) -> 0 | M11: =COUNTIF(D11:I11,TRUE) -> 0 | N11: =L11+M11 -> 0
A12: Sergio Pérez | C12: FALSE | D12: FALSE | E12: FALSE | F12: FALSE | G12: FALSE | H12: FALSE | I12: FALSE | K12: =N12/7 -> 0 | L12: =COUNTIF(C12,TRUE) -> 0 | M12: =COUNTIF(D12:I12,TRUE) -> 0 | N12: =L12+M12 -> 0
A13: Zhou Guanyu | C13: FALSE | D13: FALSE | E13: FALSE | F13: FALSE | G13: FALSE | H13: FALSE | I13: FALSE | K13: =N13/7 -> 0 | L13: =COUNTIF(C13,TRUE) -> 0 | M13: =COUNTIF(D13:I13,TRUE) -> 0 | N13: =L13+M13 -> 0
A14: Ayrton Senna | C14: FALSE | D14: FALSE | E14: FALSE | F14: FALSE | G14: FALSE | H14: FALSE | I14: FALSE | K14: =N14/7 -> 0 | L14: =COUNTIF(C14,TRUE) -> 0 | M14: =COUNTIF(D14:I14,TRUE) -> 0 | N14: =L14+M14 -> 0
A15: Michael Schumacher | C15: FALSE | D15: FALSE | E15: FALSE | F15: FALSE | G15: FALSE | H15: FALSE | I15: FALSE | K15: =N15/7 -> 0 | L15: =COUNTIF(C15,TRUE) -> 0 | M15: =COUNTIF(D15:I15,TRUE) -> 0 | N15: =L15+M15 -> 0
A16: Nigel Mansell | C16: FALSE | D16: FALSE | E16: FALSE | F16: FALSE | G16: FALSE | H16: FALSE | I16: FALSE | K16: =N16/7 -> 0 | L16: =COUNTIF(C16,TRUE) -> 0 | M16: =COUNTIF(D16:I16,TRUE) -> 0 | N16: =L16+M16 -> 0
A18: SPEED DEMONS · 15 cartes | K18: =SUM(N19:N33)/105 -> 0
A19: Charles Leclerc | C19: FALSE | D19: FALSE | E19: FALSE | F19: FALSE | G19: FALSE | H19: FALSE | I19: FALSE | K19: =N19/7 -> 0 | L19: =COUNTIF(C19,TRUE) -> 0 | M19: =COUNTIF(D19:I19,TRUE) -> 0 | N19: =L19+M19 -> 0
A20: Daniel Ricciardo | C20: FALSE | D20: FALSE | E20: FALSE | F20: FALSE | G20: FALSE | H20: FALSE | I20: FALSE | K20: =N20/7 -> 0 | L20: =COUNTIF(C20,TRUE) -> 0 | M20: =COUNTIF(D20:I20,TRUE) -> 0 | N20: =L20+M20 -> 0
A21: Esteban Ocon | C21: FALSE | D21: FALSE | E21: FALSE | F21: FALSE | G21: FALSE | H21: FALSE | I21: FALSE | K21: =N21/7 -> 0 | L21: =COUNTIF(C21,TRUE) -> 0 | M21: =COUNTIF(D21:I21,TRUE) -> 0 | N21: =L21+M21 -> 0
A22: Fernando Alonso | C22: FALSE | D22: FALSE | E22: FALSE | F22: FALSE | G22: FALSE | H22: FALSE | I22: FALSE | K22: =N22/7 -> 0 | L22: =COUNTIF(C22,TRUE) -> 0 | M22: =COUNTIF(D22:I22,TRUE) -> 0 | N22: =L22+M22 -> 0
A23: George Russell | C23: FALSE | D23: FALSE | E23: FALSE | F23: FALSE | G23: FALSE | H23: FALSE | I23: FALSE | K23: =N23/7 -> 0 | L23: =COUNTIF(C23,TRUE) -> 0 | M23: =COUNTIF(D23:I23,TRUE) -> 0 | N23: =L23+M23 -> 0
A24: Logan Sargeant (RC) | C24: FALSE | D24: FALSE | E24: FALSE | F24: FALSE | G24: FALSE | H24: FALSE | I24: FALSE | K24: =N24/7 -> 0 | L24: =COUNTIF(C24,TRUE) -> 0 | M24: =COUNTIF(D24:I24,TRUE) -> 0 | N24: =L24+M24 -> 0
A25: Nico Hülkenberg | C25: FALSE | D25: FALSE | E25: FALSE | F25: FALSE | G25: FALSE | H25: FALSE | I25: FALSE | K25: =N25/7 -> 0 | L25: =COUNTIF(C25,TRUE) -> 0 | M25: =COUNTIF(D25:I25,TRUE) -> 0 | N25: =L25+M25 -> 0
A26: Oscar Piastri (RC) | C26: FALSE | D26: FALSE | E26: FALSE | F26: FALSE | G26: FALSE | H26: FALSE | I26: FALSE | K26: =N26/7 -> 0 | L26: =COUNTIF(C26,TRUE) -> 0 | M26: =COUNTIF(D26:I26,TRUE) -> 0 | N26: =L26+M26 -> 0
A27: Sergio Pérez | C27: FALSE | D27: FALSE | E27: FALSE | F27: FALSE | G27: FALSE | H27: FALSE | I27: FALSE | K27: =N27/7 -> 0 | L27: =COUNTIF(C27,TRUE) -> 0 | M27: =COUNTIF(D27:I27,TRUE) -> 0 | N27: =L27+M27 -> 0
A28: Valtteri Bottas | C28: FALSE | D28: FALSE | E28: FALSE | F28: FALSE | G28: FALSE | H28: FALSE | I28: FALSE | K28: =N28/7 -> 0 | L28: =COUNTIF(C28,TRUE) -> 0 | M28: =COUNTIF(D28:I28,TRUE) -> 0 | N28: =L28+M28 -> 0
A29: Jehan Daruvala | C29: FALSE | D29: FALSE | E29: FALSE | F29: FALSE | G29: FALSE | H29: FALSE | I29: FALSE | K29: =N29/7 -> 0 | L29: =COUNTIF(C29,TRUE) -> 0 | M29: =COUNTIF(D29:I29,TRUE) -> 0 | N29: =L29+M29 -> 0
A30: Théo Pourchaire | C30: FALSE | D30: FALSE | E30: FALSE | F30: FALSE | G30: FALSE | H30: FALSE | I30: FALSE | K30: =N30/7 -> 0 | L30: =COUNTIF(C30,TRUE) -> 0 | M30: =COUNTIF(D30:I30,TRUE) -> 0 | N30: =L30+M30 -> 0
... A33: Michael Schumacher | C33: FALSE | D33: FALSE | E33: FALSE | F33: FALSE | G33: FALSE | H33: FALSE | I33: FALSE | K33: =N33/7 -> 0 | L33: =COUNTIF(C33,TRUE) -> 0 | M33: =COUNTIF(D33:I33,TRUE) -> 0 | N33: =L33+M33 -> 0
A35: AUTOS OF 1977 · 20 cartes | K35: =SUM(N36:N55)/140 -> 0
A36: Alexander Albon | C36: FALSE | D36: FALSE | E36: FALSE | F36: FALSE | G36: FALSE | H36: FALSE | I36: FALSE | K36: =N36/7 -> 0 | L36: =COUNTIF(C36,TRUE) -> 0 | M36: =COUNTIF(D36:I36,TRUE) -> 0 | N36: =L36+M36 -> 0
A37: Charles Leclerc | C37: FALSE | D37: FALSE | E37: FALSE | F37: FALSE | G37: FALSE | H37: FALSE | I37: FALSE | K37: =N37/7 -> 0 | L37: =COUNTIF(C37,TRUE) -> 0 | M37: =COUNTIF(D37:I37,TRUE) -> 0 | N37: =L37+M37 -> 0
A38: Carlos Sainz | C38: FALSE | D38: FALSE | E38: FALSE | F38: FALSE | G38: FALSE | H38: FALSE | I38: FALSE | K38: =N38/7 -> 0 | L38: =COUNTIF(C38,TRUE) -> 0 | M38: =COUNTIF(D38:I38,TRUE) -> 0 | N38: =L38+M38 -> 0
A39: Esteban Ocon | C39: FALSE | D39: FALSE | E39: FALSE | F39: FALSE | G39: FALSE | H39: FALSE | I39: FALSE | K39: =N39/7 -> 0 | L39: =COUNTIF(C39,TRUE) -> 0 | M39: =COUNTIF(D39:I39,TRUE) -> 0 | N39: =L39+M39 -> 0
A40: Fernando Alonso | C40: FALSE | D40: FALSE | E40: FALSE | F40: FALSE | G40: FALSE | H40: FALSE | I40: FALSE | K40: =N40/7 -> 0 | L40: =COUNTIF(C40,TRUE) -> 0 | M40: =COUNTIF(D40:I40,TRUE) -> 0 | N40: =L40+M40 -> 0
A41: George Russell | C41: FALSE | D41: FALSE | E41: FALSE | F41: FALSE | G41: FALSE | H41: FALSE | I41: FALSE | K41: =N41/7 -> 0 | L41: =COUNTIF(C41,TRUE) -> 0 | M41: =COUNTIF(D41:I41,TRUE) -> 0 | N41: =L41+M41 -> 0
A42: Kevin Magnussen | C42: FALSE | D42: FALSE | E42: FALSE | F42: FALSE | G42: FALSE | H42: FALSE | I42: FALSE | K42: =N42/7 -> 0 | L42: =COUNTIF(C42,TRUE) -> 0 | M42: =COUNTIF(D42:I42,TRUE) -> 0 | N42: =L42+M42 -> 0
A43: Lewis Hamilton | C43: FALSE | D43: FALSE | E43: FALSE | F43: FALSE | G43: FALSE | H43: FALSE | I43: FALSE | K43: =N43/7 -> 0 | L43: =COUNTIF(C43,TRUE) -> 0 | M43: =COUNTIF(D43:I43,TRUE) -> 0 | N43: =L43+M43 -> 0
A44: Lando Norris | C44: FALSE | D44: FALSE | E44: FALSE | F44: FALSE | G44: FALSE | H44: FALSE | I44: FALSE | K44: =N44/7 -> 0 | L44: =COUNTIF(C44,TRUE) -> 0 | M44: =COUNTIF(D44:I44,TRUE) -> 0 | N44: =L44+M44 -> 0
...

Sheet Autographes
A1: Topps Chrome F1 2023 — Autographes
A2: Suivi de collection — checklist complète
A3: Cochez les cartes possédées. Utilisez les boutons − / + à gauche pour replier ou déplier chaque subset.
A4: Carte | B4: Tirage principal | C4: Version principale | D4: Green Refractor /99 | E4: Gold Refractor /50 | F4: Gold Wave Refractor /50 | G4: Orange Refractor /25 | H4: Red Refractor /5 | I4: Superfractor /1 | J4: Printing Plates /1 | K4: Progression | L4: Principales possédées | M4: Parallèles possédés | N4: Versions possédées
A5: SET DE BASE · 58 cartes | K5: =SUM(N6:N63)/464 -> 0
A6: Alexander Albon | C6: FALSE | D6: FALSE | E6: FALSE | F6: FALSE | G6: FALSE | H6: FALSE | I6: FALSE | J6: FALSE | K6: =N6/8 -> 0 | L6: =COUNTIF(C6,TRUE) -> 0 | M6: =COUNTIF(D6:J6,TRUE) -> 0 | N6: =L6+M6 -> 0
A7: Antonio Giovinazzi | C7: FALSE | D7: FALSE | E7: FALSE | F7: FALSE | G7: FALSE | H7: FALSE | I7: FALSE | J7: FALSE | K7: =N7/8 -> 0 | L7: =COUNTIF(C7,TRUE) -> 0 | M7: =COUNTIF(D7:J7,TRUE) -> 0 | N7: =L7+M7 -> 0
A8: Charles Leclerc | C8: FALSE | D8: FALSE | E8: FALSE | F8: FALSE | G8: FALSE | H8: FALSE | I8: FALSE | J8: FALSE | K8: =N8/8 -> 0 | L8: =COUNTIF(C8,TRUE) -> 0 | M8: =COUNTIF(D8:J8,TRUE) -> 0 | N8: =L8+M8 -> 0
A9: Carlos Sainz | C9: FALSE | D9: FALSE | E9: FALSE | F9: FALSE | G9: FALSE | H9: FALSE | I9: FALSE | J9: FALSE | K9: =N9/8 -> 0 | L9: =COUNTIF(C9,TRUE) -> 0 | M9: =COUNTIF(D9:J9,TRUE) -> 0 | N9: =L9+M9 -> 0
A10: Daniel Ricciardo | C10: FALSE | D10: FALSE | E10: FALSE | F10: FALSE | G10: FALSE | H10: FALSE | I10: FALSE | J10: FALSE | K10: =N10/8 -> 0 | L10: =COUNTIF(C10,TRUE) -> 0 | M10: =COUNTIF(D10:J10,TRUE) -> 0 | N10: =L10+M10 -> 0
A11: Esteban Ocon | C11: FALSE | D11: FALSE | E11: FALSE | F11: FALSE | G11: FALSE | H11: FALSE | I11: FALSE | J11: FALSE | K11: =N11/8 -> 0 | L11: =COUNTIF(C11,TRUE) -> 0 | M11: =COUNTIF(D11:J11,TRUE) -> 0 | N11: =L11+M11 -> 0
A12: Fernando Alonso | C12: FALSE | D12: FALSE | E12: FALSE | F12: FALSE | G12: FALSE | H12: FALSE | I12: FALSE | J12: FALSE | K12: =N12/8 -> 0 | L12: =COUNTIF(C12,TRUE) -> 0 | M12: =COUNTIF(D12:J12,TRUE) -> 0 | N12: =L12+M12 -> 0
A13: George Russell | C13: FALSE | D13: FALSE | E13: FALSE | F13: FALSE | G13: FALSE | H13: FALSE | I13: FALSE | J13: FALSE | K13: =N13/8 -> 0 | L13: =COUNTIF(C13,TRUE) -> 0 | M13: =COUNTIF(D13:J13,TRUE) -> 0 | N13: =L13+M13 -> 0
A14: Kevin Magnussen | C14: FALSE | D14: FALSE | E14: FALSE | F14: FALSE | G14: FALSE | H14: FALSE | I14: FALSE | J14: FALSE | K14: =N14/8 -> 0 | L14: =COUNTIF(C14,TRUE) -> 0 | M14: =COUNTIF(D14:J14,TRUE) -> 0 | N14: =L14+M14 -> 0
A15: Lewis Hamilton | C15: FALSE | D15: FALSE | E15: FALSE | F15: FALSE | G15: FALSE | H15: FALSE | I15: FALSE | J15: FALSE | K15: =N15/8 -> 0 | L15: =COUNTIF(C15,TRUE) -> 0 | M15: =COUNTIF(D15:J15,TRUE) -> 0 | N15: =L15+M15 -> 0
A16: Lando Norris | C16: FALSE | D16: FALSE | E16: FALSE | F16: FALSE | G16: FALSE | H16: FALSE | I16: FALSE | J16: FALSE | K16: =N16/8 -> 0 | L16: =COUNTIF(C16,TRUE) -> 0 | M16: =COUNTIF(D16:J16,TRUE) -> 0 | N16: =L16+M16 -> 0
A17: Lance Stroll | C17: FALSE | D17: FALSE | E17: FALSE | F17: FALSE | G17: FALSE | H17: FALSE | I17: FALSE | J17: FALSE | K17: =N17/8 -> 0 | L17: =COUNTIF(C17,TRUE) -> 0 | M17: =COUNTIF(D17:J17,TRUE) -> 0 | N17: =L17+M17 -> 0
... A63: Zane Maloney | C63: FALSE | D63: FALSE | E63: FALSE | F63: FALSE | G63: FALSE | H63: FALSE | I63: FALSE | J63: FALSE | K63: =N63/8 -> 0 | L63: =COUNTIF(C63,TRUE) -> 0 | M63: =COUNTIF(D63:J63,TRUE) -> 0 | N63: =L63+M63 -> 0
A65: FUTURO · 10 cartes | K65: =SUM(N66:N75)/40 -> 0
A66: Logan Sargeant (RC) | B66: /50 | C66: FALSE | G66: FALSE | H66: FALSE | I66: FALSE | K66: =N66/4 -> 0 | L66: =COUNTIF(C66,TRUE) -> 0 | M66: =COUNTIF(G66:I66,TRUE) -> 0 | N66: =L66+M66 -> 0
A67: Nyck de Vries (RC) | B67: /50 | C67: FALSE | G67: FALSE | H67: FALSE | I67: FALSE | K67: =N67/4 -> 0 | L67: =COUNTIF(C67,TRUE) -> 0 | M67: =COUNTIF(G67:I67,TRUE) -> 0 | N67: =L67+M67 -> 0
A68: Oscar Piastri (RC) | B68: /50 | C68: FALSE | G68: FALSE | H68: FALSE | I68: FALSE | K68: =N68/4 -> 0 | L68: =COUNTIF(C68,TRUE) -> 0 | M68: =COUNTIF(G68:I68,TRUE) -> 0 | N68: =L68+M68 -> 0
A69: Ayumu Iwasa | B69: /50 | C69: FALSE | G69: FALSE | H69: FALSE | I69: FALSE | K69: =N69/4 -> 0 | L69: =COUNTIF(C69,TRUE) -> 0 | M69: =COUNTIF(G69:I69,TRUE) -> 0 | N69: =L69+M69 -> 0
A70: Dennis Hauger | B70: /50 | C70: FALSE | G70: FALSE | H70: FALSE | I70: FALSE | K70: =N70/4 -> 0 | L70: =COUNTIF(C70,TRUE) -> 0 | M70: =COUNTIF(G70:I70,TRUE) -> 0 | N70: =L70+M70 -> 0
A71: Frederik Vesti | B71: /50 | C71: FALSE | G71: FALSE | H71: FALSE | I71: FALSE | K71: =N71/4 -> 0 | L71: =COUNTIF(C71,TRUE) -> 0 | M71: =COUNTIF(G71:I71,TRUE) -> 0 | N71: =L71+M71 -> 0
A72: Jack Doohan | B72: /50 | C72: FALSE | G72: FALSE | H72: FALSE | I72: FALSE | K72: =N72/4 -> 0 | L72: =COUNTIF(C72,TRUE) -> 0 | M72: =COUNTIF(G72:I72,TRUE) -> 0 | N72: =L72+M72 -> 0
A73: Oliver Bearman | B73: /50 | C73: FALSE | G73: FALSE | H73: FALSE | I73: FALSE | K73: =N73/4 -> 0 | L73: =COUNTIF(C73,TRUE) -> 0 | M73: =COUNTIF(G73:I73,TRUE) -> 0 | N73: =L73+M73 -> 0
A74: Ralph Boschung | B74: /50 | C74: FALSE | G74: FALSE | H74: FALSE | I74: FALSE | K74: =N74/4 -> 0 | L74: =COUNTIF(C74,TRUE) -> 0 | M74: =COUNTIF(G74:I74,TRUE) -> 0 | N74: =L74+M74 -> 0
A75: Théo Pourchaire | B75: /50 | C75: FALSE | G75: FALSE | H75: FALSE | I75: FALSE | K75: =N75/4 -> 0 | L75: =COUNTIF(C75,TRUE) -> 0 | M75: =COUNTIF(G75:I75,TRUE) -> 0 | N75: =L75+M75 -> 0
