Workbook

Sheet Aperçu
A1: Topps Chrome F1 2023
A2: Tracker de collection — checklist complète
A4: SET DE BASE (versions principales) | C4: VERSIONS PRINCIPALES (tous les onglets) | E4: PARALLÈLES (variantes) | G4: COLLECTION TOTALE
A5: =(SUM('Set de base'!AA6:AA63))/58 -> 0 | C5: =(SUM('Set de base'!AA6:AA63)+SUM('Inserts'!L6:L143)+SUM('Autographes'!L6:L75))/248 -> 0 | E5: =(SUM('Set de base'!AB6:AB63)+SUM('Inserts'!M6:M143)+SUM('Autographes'!M6:M75))/2312 -> 0 | G5: =(SUM('Set de base'!AC6:AC63)+SUM('Inserts'!N6:N143)+SUM('Autographes'!N6:N75))/2560 -> 0
A7: =(SUM('Set de base'!AA6:AA63))&" / 58" -> 0 / 58 | C7: =(SUM('Set de base'!AA6:AA63)+SUM('Inserts'!L6:L143)+SUM('Autographes'!L6:L75))&" / 248" -> 0 / 248 | E7: =(SUM('Set de base'!AB6:AB63)+SUM('Inserts'!M6:M143)+SUM('Autographes'!M6:M75))&" / 2312" -> 0 / 2312 | G7: =(SUM('Set de base'!AC6:AC63)+SUM('Inserts'!N6:N143)+SUM('Autographes'!N6:N75))&" / 2560" -> 0 / 2560
A8: Set de base = versions principales de l’onglet « Set de base » • Versions principales = Standard ou version nominale lorsqu’elle existe, numérotée ou non, tous onglets confondus.
A10: Progression par onglet
A11: Onglet | B11: Versions | C11: Possédées | D11: Progression
A12: Set de base | B12: 1392 | C12: =SUM('Set de base'!AC6:AC63) -> 0 | D12: =(SUM('Set de base'!AC6:AC63))/1392 -> 0
A13: Inserts | B13: 664 | C13: =SUM('Inserts'!N6:N143) -> 0 | D13: =(SUM('Inserts'!N6:N143))/664 -> 0
A14: Autographes | B14: 504 | C14: =SUM('Autographes'!N6:N75) -> 0 | D14: =(SUM('Autographes'!N6:N75))/504 -> 0
A17: Cartes de base par pilote
A18: Pilote | B18: Cartes de base | C18: Possédées | D18: Progression
A19: Alain Prost | B19: 1 | C19: =IF('Set de base'!B59=TRUE,1,0) -> 0 | D19: =(IF('Set de base'!B59=TRUE,1,0))/1 -> 0
A20: Alexander Albon | B20: 1 | C20: =IF('Set de base'!B23=TRUE,1,0) -> 0 | D20: =(IF('Set de base'!B23=TRUE,1,0))/1 -> 0
A21: Amaury Cordeel | B21: 1 | C21: =IF('Set de base'!B30=TRUE,1,0) -> 0 | D21: =(IF('Set de base'!B30=TRUE,1,0))/1 -> 0
A22: Arthur Leclerc | B22: 1 | C22: =IF('Set de base'!B42=TRUE,1,0) -> 0 | D22: =(IF('Set de base'!B42=TRUE,1,0))/1 -> 0
A23: Ayrton Senna | B23: 1 | C23: =IF('Set de base'!B61=TRUE,1,0) -> 0 | D23: =(IF('Set de base'!B61=TRUE,1,0))/1 -> 0
A24: Ayumu Iwasa | B24: 1 | C24: =IF('Set de base'!B41=TRUE,1,0) -> 0 | D24: =(IF('Set de base'!B41=TRUE,1,0))/1 -> 0
A25: Brad Benavides | B25: 1 | C25: =IF('Set de base'!B46=TRUE,1,0) -> 0 | D25: =(IF('Set de base'!B46=TRUE,1,0))/1 -> 0
A26: Carlos Sainz | B26: 1 | C26: =IF('Set de base'!B10=TRUE,1,0) -> 0 | D26: =(IF('Set de base'!B10=TRUE,1,0))/1 -> 0
A27: Charles Leclerc | B27: 1 | C27: =IF('Set de base'!B7=TRUE,1,0) -> 0 | D27: =(IF('Set de base'!B7=TRUE,1,0))/1 -> 0
A28: Clément Novalak | B28: 1 | C28: =IF('Set de base'!B44=TRUE,1,0) -> 0 | D28: =(IF('Set de base'!B44=TRUE,1,0))/1 -> 0
A29: Daniel Ricciardo | B29: 1 | C29: =IF('Set de base'!B26=TRUE,1,0) -> 0 | D29: =(IF('Set de base'!B26=TRUE,1,0))/1 -> 0
A30: David Coulthard | B30: 1 | C30: =IF('Set de base'!B63=TRUE,1,0) -> 0 | D30: =(IF('Set de base'!B63=TRUE,1,0))/1 -> 0
A31: Dennis Hauger | B31: 1 | C31: =IF('Set de base'!B37=TRUE,1,0) -> 0 | D31: =(IF('Set de base'!B37=TRUE,1,0))/1 -> 0
A32: Enzo Fittipaldi | B32: 1 | C32: =IF('Set de base'!B32=TRUE,1,0) -> 0 | D32: =(IF('Set de base'!B32=TRUE,1,0))/1 -> 0
A33: Esteban Ocon | B33: 1 | C33: =IF('Set de base'!B13=TRUE,1,0) -> 0 | D33: =(IF('Set de base'!B13=TRUE,1,0))/1 -> 0
A34: Fernando Alonso | B34: 1 | C34: =IF('Set de base'!B14=TRUE,1,0) -> 0 | D34: =(IF('Set de base'!B14=TRUE,1,0))/1 -> 0
A35: Frederik Vesti | B35: 1 | C35: =IF('Set de base'!B27=TRUE,1,0) -> 0 | D35: =(IF('Set de base'!B27=TRUE,1,0))/1 -> 0
A36: George Russell | B36: 1 | C36: =IF('Set de base'!B9=TRUE,1,0) -> 0 | D36: =(IF('Set de base'!B9=TRUE,1,0))/1 -> 0
A37: Isack Hadjar | B37: 1 | C37: =IF('Set de base'!B34=TRUE,1,0) -> 0 | D37: =(IF('Set de base'!B34=TRUE,1,0))/1 -> 0
A38: Jack Doohan | B38: 1 | C38: =IF('Set de base'!B29=TRUE,1,0) -> 0 | D38: =(IF('Set de base'!B29=TRUE,1,0))/1 -> 0
A39: Jak Crawford | B39: 1 | C39: =IF('Set de base'!B33=TRUE,1,0) -> 0 | D39: =(IF('Set de base'!B33=TRUE,1,0))/1 -> 0
A40: Jehan Daruvala | B40: 1 | C40: =IF('Set de base'!B38=TRUE,1,0) -> 0 | D40: =(IF('Set de base'!B38=TRUE,1,0))/1 -> 0
A41: Juan Manuel Correa | B41: 1 | C41: =IF('Set de base'!B48=TRUE,1,0) -> 0 | D41: =(IF('Set de base'!B48=TRUE,1,0))/1 -> 0
A42: Kevin Magnussen | B42: 1 | C42: =IF('Set de base'!B19=TRUE,1,0) -> 0 | D42: =(IF('Set de base'!B19=TRUE,1,0))/1 -> 0
A43: Kush Maini | B43: 1 | C43: =IF('Set de base'!B39=TRUE,1,0) -> 0 | D43: =(IF('Set de base'!B39=TRUE,1,0))/1 -> 0
A44: Lance Stroll | B44: 1 | C44: =IF('Set de base'!B17=TRUE,1,0) -> 0 | D44: =(IF('Set de base'!B17=TRUE,1,0))/1 -> 0
A45: Lando Norris | B45: 1 | C45: =IF('Set de base'!B12=TRUE,1,0) -> 0 | D45: =(IF('Set de base'!B12=TRUE,1,0))/1 -> 0
A46: Lewis Hamilton | B46: 1 | C46: =IF('Set de base'!B11=TRUE,1,0) -> 0 | D46: =(IF('Set de base'!B11=TRUE,1,0))/1 -> 0
A47: Logan Sargeant | B47: 1 | C47: =IF('Set de base'!B24=TRUE,1,0) -> 0 | D47: =(IF('Set de base'!B24=TRUE,1,0))/1 -> 0
A48: Max Verstappen | B48: 1 | C48: =IF('Set de base'!B6=TRUE,1,0) -> 0 | D48: =(IF('Set de base'!B6=TRUE,1,0))/1 -> 0
A49: Michael Schumacher | B49: 1 | C49: =IF('Set de base'!B62=TRUE,1,0) -> 0 | D49: =(IF('Set de base'!B62=TRUE,1,0))/1 -> 0
A50: Nico Hülkenberg | B50: 1 | C50: =IF('Set de base'!B18=TRUE,1,0) -> 0 | D50: =(IF('Set de base'!B18=TRUE,1,0))/1 -> 0
A51: Nigel Mansell | B51: 1 | C51: =IF('Set de base'!B60=TRUE,1,0) -> 0 | D51: =(IF('Set de base'!B60=TRUE,1,0))/1 -> 0
A52: Nyck de Vries | B52: 1 | C52: =IF('Set de base'!B25=TRUE,1,0) -> 0 | D52: =(IF('Set de base'!B25=TRUE,1,0))/1 -> 0
A53: Oliver Bearman | B53: 1 | C53: =IF('Set de base'!B28=TRUE,1,0) -> 0 | D53: =(IF('Set de base'!B28=TRUE,1,0))/1 -> 0
A54: Oscar Piastri | B54: 1 | C54: =IF('Set de base'!B16=TRUE,1,0) -> 0 | D54: =(IF('Set de base'!B16=TRUE,1,0))/1 -> 0
A55: Pierre Gasly | B55: 1 | C55: =IF('Set de base'!B20=TRUE,1,0) -> 0 | D55: =(IF('Set de base'!B20=TRUE,1,0))/1 -> 0
A56: Ralph Boschung | B56: 1 | C56: =IF('Set de base'!B40=TRUE,1,0) -> 0 | D56: =(IF('Set de base'!B40=TRUE,1,0))/1 -> 0
A57: Richard Verschoor | B57: 1 | C57: =IF('Set de base'!B47=TRUE,1,0) -> 0 | D57: =(IF('Set de base'!B47=TRUE,1,0))/1 -> 0
A58: Roman Staněk | B58: 1 | C58: =IF('Set de base'!B43=TRUE,1,0) -> 0 | D58: =(IF('Set de base'!B43=TRUE,1,0))/1 -> 0
A59: Roy Nissany | B59: 1 | C59: =IF('Set de base'!B45=TRUE,1,0) -> 0 | D59: =(IF('Set de base'!B45=TRUE,1,0))/1 -> 0
A60: Sergio Pérez | B60: 1 | C60: =IF('Set de base'!B8=TRUE,1,0) -> 0 | D60: =(IF('Set de base'!B8=TRUE,1,0))/1 -> 0
A61: Théo Pourchaire | B61: 1 | C61: =IF('Set de base'!B35=TRUE,1,0) -> 0 | D61: =(IF('Set de base'!B35=TRUE,1,0))/1 -> 0
A62: Valtteri Bottas | B62: 1 | C62: =IF('Set de base'!B15=TRUE,1,0) -> 0 | D62: =(IF('Set de base'!B15=TRUE,1,0))/1 -> 0
A63: Victor Martins | B63: 1 | C63: =IF('Set de base'!B36=TRUE,1,0) -> 0 | D63: =(IF('Set de base'!B36=TRUE,1,0))/1 -> 0
A64: Yuki Tsunoda | B64: 1 | C64: =IF('Set de base'!B21=TRUE,1,0) -> 0 | D64: =(IF('Set de base'!B21=TRUE,1,0))/1 -> 0
A65: Zane Maloney | B65: 1 | C65: =IF('Set de base'!B31=TRUE,1,0) -> 0 | D65: =(IF('Set de base'!B31=TRUE,1,0))/1 -> 0
A66: Zhou Guanyu | B66: 1 | C66: =IF('Set de base'!B22=TRUE,1,0) -> 0 | D66: =(IF('Set de base'!B22=TRUE,1,0))/1 -> 0

Sheet Set de base
A1: Topps Chrome F1 2023 — Set de base
A2: Suivi de collection — checklist complète
A3: Cochez les cartes possédées. Utilisez les boutons − / + à gauche pour replier ou déplier chaque subset.
A4: Carte | B4: Version principale | C4: Refractor | D4: Checker Flag | E4: Mini Diamonds Refractor /299 | F4: Purple Refractor /399 | G4: Purple Checker Flag /199 | H4: Fuchsia Lava /250 | I4: Aqua Wave /150 | J4: Green Refractor /99 | K4: Pink Refractor /75 | L4: Gold Refractor /50 | M4: Gold Wave Refractor /50 | N4: Gold Checker Flag /50 | O4: Orange Refractor /25 | P4: Orange Wave Refractor /25 | Q4: Orange Checker Flag /25 | R4: Red Refractor /5 | S4: Red Checker Flag /5 | T4: Purple/Green Refractor | U4: Gold/Purple Refractor | V4: Orange/Red Refractor | W4: Red/Green Refractor | X4: Superfractor /1 | Y4: Printing plate /1 | Z4: Progression | AA4: Principales possédées | AB4: Parallèles possédés | AC4: Versions possédées
A5: SET DE BASE · 58 cartes | Z5: =SUM(AC6:AC63)/1392 -> 0
A6: Max Verstappen | B6: FALSE | C6: FALSE | D6: FALSE | E6: FALSE | F6: FALSE | G6: FALSE | H6: FALSE | I6: FALSE | J6: FALSE | K6: FALSE | L6: FALSE | M6: FALSE | N6: FALSE | O6: FALSE | P6: FALSE | Q6: FALSE | R6: FALSE | S6: FALSE | T6: FALSE | U6: FALSE | V6: FALSE | W6: FALSE | X6: FALSE | Y6: FALSE | Z6: =AC6/24 -> 0 | AA6: =COUNTIF(B6,TRUE) -> 0 | AB6: =COUNTIF(C6:Y6,TRUE) -> 0 | AC6: =AA6+AB6 -> 0
A7: Charles Leclerc | B7: FALSE | C7: FALSE | D7: FALSE | E7: FALSE | F7: FALSE | G7: FALSE | H7: FALSE | I7: FALSE | J7: FALSE | K7: FALSE | L7: FALSE | M7: FALSE | N7: FALSE | O7: FALSE | P7: FALSE | Q7: FALSE | R7: FALSE | S7: FALSE | T7: FALSE | U7: FALSE | V7: FALSE | W7: FALSE | X7: FALSE | Y7: FALSE | Z7: =AC7/24 -> 0 | AA7: =COUNTIF(B7,TRUE) -> 0 | AB7: =COUNTIF(C7:Y7,TRUE) -> 0 | AC7: =AA7+AB7 -> 0
A8: Sergio Pérez | B8: FALSE | C8: FALSE | D8: FALSE | E8: FALSE | F8: FALSE | G8: FALSE | H8: FALSE | I8: FALSE | J8: FALSE | K8: FALSE | L8: FALSE | M8: FALSE | N8: FALSE | O8: FALSE | P8: FALSE | Q8: FALSE | R8: FALSE | S8: FALSE | T8: FALSE | U8: FALSE | V8: FALSE | W8: FALSE | X8: FALSE | Y8: FALSE | Z8: =AC8/24 -> 0 | AA8: =COUNTIF(B8,TRUE) -> 0 | AB8: =COUNTIF(C8:Y8,TRUE) -> 0 | AC8: =AA8+AB8 -> 0
A9: George Russell | B9: FALSE | C9: FALSE | D9: FALSE | E9: FALSE | F9: FALSE | G9: FALSE | H9: FALSE | I9: FALSE | J9: FALSE | K9: FALSE | L9: FALSE | M9: FALSE | N9: FALSE | O9: FALSE | P9: FALSE | Q9: FALSE | R9: FALSE | S9: FALSE | T9: FALSE | U9: FALSE | V9: FALSE | W9: FALSE | X9: FALSE | Y9: FALSE | Z9: =AC9/24 -> 0 | AA9: =COUNTIF(B9,TRUE) -> 0 | AB9: =COUNTIF(C9:Y9,TRUE) -> 0 | AC9: =AA9+AB9 -> 0
A10: Carlos Sainz | B10: FALSE | C10: FALSE | D10: FALSE | E10: FALSE | F10: FALSE | G10: FALSE | H10: FALSE | I10: FALSE | J10: FALSE | K10: FALSE | L10: FALSE | M10: FALSE | N10: FALSE | O10: FALSE | P10: FALSE | Q10: FALSE | R10: FALSE | S10: FALSE | T10: FALSE | U10: FALSE | V10: FALSE | W10: FALSE | X10: FALSE | Y10: FALSE | Z10: =AC10/24 -> 0 | AA10: =COUNTIF(B10,TRUE) -> 0 | AB10: =COUNTIF(C10:Y10,TRUE) -> 0 | AC10: =AA10+AB10 -> 0
A11: Lewis Hamilton | B11: FALSE | C11: FALSE | D11: FALSE | E11: FALSE | F11: FALSE | G11: FALSE | H11: FALSE | I11: FALSE | J11: FALSE | K11: FALSE | L11: FALSE | M11: FALSE | N11: FALSE | O11: FALSE | P11: FALSE | Q11: FALSE | R11: FALSE | S11: FALSE | T11: FALSE | U11: FALSE | V11: FALSE | W11: FALSE | X11: FALSE | Y11: FALSE | Z11: =AC11/24 -> 0 | AA11: =COUNTIF(B11,TRUE) -> 0 | AB11: =COUNTIF(C11:Y11,TRUE) -> 0 | AC11: =AA11+AB11 -> 0
A12: Lando Norris | B12: FALSE | C12: FALSE | D12: FALSE | E12: FALSE | F12: FALSE | G12: FALSE | H12: FALSE | I12: FALSE | J12: FALSE | K12: FALSE | L12: FALSE | M12: FALSE | N12: FALSE | O12: FALSE | P12: FALSE | Q12: FALSE | R12: FALSE | S12: FALSE | T12: FALSE | U12: FALSE | V12: FALSE | W12: FALSE | X12: FALSE | Y12: FALSE | Z12: =AC12/24 -> 0 | AA12: =COUNTIF(B12,TRUE) -> 0 | AB12: =COUNTIF(C12:Y12,TRUE) -> 0 | AC12: =AA12+AB12 -> 0
A13: Esteban Ocon | B13: FALSE | C13: FALSE | D13: FALSE | E13: FALSE | F13: FALSE | G13: FALSE | H13: FALSE | I13: FALSE | J13: FALSE | K13: FALSE | L13: FALSE | M13: FALSE | N13: FALSE | O13: FALSE | P13: FALSE | Q13: FALSE | R13: FALSE | S13: FALSE | T13: FALSE | U13: FALSE | V13: FALSE | W13: FALSE | X13: FALSE | Y13: FALSE | Z13: =AC13/24 -> 0 | AA13: =COUNTIF(B13,TRUE) -> 0 | AB13: =COUNTIF(C13:Y13,TRUE) -> 0 | AC13: =AA13+AB13 -> 0
A14: Fernando Alonso | B14: FALSE | C14: FALSE | D14: FALSE | E14: FALSE | F14: FALSE | G14: FALSE | H14: FALSE | I14: FALSE | J14: FALSE | K14: FALSE | L14: FALSE | M14: FALSE | N14: FALSE | O14: FALSE | P14: FALSE | Q14: FALSE | R14: FALSE | S14: FALSE | T14: FALSE | U14: FALSE | V14: FALSE | W14: FALSE | X14: FALSE | Y14: FALSE | Z14: =AC14/24 -> 0 | AA14: =COUNTIF(B14,TRUE) -> 0 | AB14: =COUNTIF(C14:Y14,TRUE) -> 0 | AC14: =AA14+AB14 -> 0
A15: Valtteri Bottas | B15: FALSE | C15: FALSE | D15: FALSE | E15: FALSE | F15: FALSE | G15: FALSE | H15: FALSE | I15: FALSE | J15: FALSE | K15: FALSE | L15: FALSE | M15: FALSE | N15: FALSE | O15: FALSE | P15: FALSE | Q15: FALSE | R15: FALSE | S15: FALSE | T15: FALSE | U15: FALSE | V15: FALSE | W15: FALSE | X15: FALSE | Y15: FALSE | Z15: =AC15/24 -> 0 | AA15: =COUNTIF(B15,TRUE) -> 0 | AB15: =COUNTIF(C15:Y15,TRUE) -> 0 | AC15: =AA15+AB15 -> 0
A16: Oscar Piastri (RC) | B16: FALSE | C16: FALSE | D16: FALSE | E16: FALSE | F16: FALSE | G16: FALSE | H16: FALSE | I16: FALSE | J16: FALSE | K16: FALSE | L16: FALSE | M16: FALSE | N16: FALSE | O16: FALSE | P16: FALSE | Q16: FALSE | R16: FALSE | S16: FALSE | T16: FALSE | U16: FALSE | V16: FALSE | W16: FALSE | X16: FALSE | Y16: FALSE | Z16: =AC16/24 -> 0 | AA16: =COUNTIF(B16,TRUE) -> 0 | AB16: =COUNTIF(C16:Y16,TRUE) -> 0 | AC16: =AA16+AB16 -> 0
A17: Lance Stroll | B17: FALSE | C17: FALSE | D17: FALSE | E17: FALSE | F17: FALSE | G17: FALSE | H17: FALSE | I17: FALSE | J17: FALSE | K17: FALSE | L17: FALSE | M17: FALSE | N17: FALSE | O17: FALSE | P17: FALSE | Q17: FALSE | R17: FALSE | S17: FALSE | T17: FALSE | U17: FALSE | V17: FALSE | W17: FALSE | X17: FALSE | Y17: FALSE | Z17: =AC17/24 -> 0 | AA17: =COUNTIF(B17,TRUE) -> 0 | AB17: =COUNTIF(C17:Y17,TRUE) -> 0 | AC17: =AA17+AB17 -> 0
... A63: David Coulthard | B63: FALSE | C63: FALSE | D63: FALSE | E63: FALSE | F63: FALSE | G63: FALSE | H63: FALSE | I63: FALSE | J63: FALSE | K63: FALSE | L63: FALSE | M63: FALSE | N63: FALSE | O63: FALSE | P63: FALSE | Q63: FALSE | R63: FALSE | S63: FALSE | T63: FALSE | U63: FALSE | V63: FALSE | W63: FALSE | X63: FALSE | Y63: FALSE | Z63: =AC63/24 -> 0 | AA63: =COUNTIF(B63,TRUE) -> 0 | AB63: =COUNTIF(C63:Y63,TRUE) -> 0 | AC63: =AA63+AB63 -> 0

Sheet Inserts
A1: Topps Chrome F1 2023 — Inserts
A2: Suivi de collection — checklist complète
A3: Cochez les cartes possédées. Utilisez les boutons − / + à gauche pour replier ou déplier chaque subset.
A4: Carte | B4: Tirage principal | C4: Version principale | D4: Gold Refractor /50 | E4: Gold Wave Refractor /50 | F4: Orange Refractor /25 | G4: Red Refractor /5 | H4: Superfractor /1 | I4: Printing Plates /1 | J4: Printing plates /1 | K4: Progression | L4: Principales possédées | M4: Parallèles possédés | N4: Versions possédées
A5: CAMBER · 11 cartes | K5: =SUM(N6:N16)/77 -> 0
A6: Charles Leclerc | C6: FALSE | D6: FALSE | E6: FALSE | F6: FALSE | G6: FALSE | H6: FALSE | I6: FALSE | K6: =N6/7 -> 0 | L6: =COUNTIF(C6,TRUE) -> 0 | M6: =COUNTIF(D6:I6,TRUE) -> 0 | N6: =L6+M6 -> 0
A7: Carlos Sainz | C7: FALSE | D7: FALSE | E7: FALSE | F7: FALSE | G7: FALSE | H7: FALSE | I7: FALSE | K7: =N7/7 -> 0 | L7: =COUNTIF(C7,TRUE) -> 0 | M7: =COUNTIF(D7:I7,TRUE) -> 0 | N7: =L7+M7 -> 0
A8: George Russell | C8: FALSE | D8: FALSE | E8: FALSE | F8: FALSE | G8: FALSE | H8: FALSE | I8: FALSE | K8: =N8/7 -> 0 | L8: =COUNTIF(C8,TRUE) -> 0 | M8: =COUNTIF(D8:I8,TRUE) -> 0 | N8: =L8+M8 -> 0
A9: Lewis Hamilton | C9: FALSE | D9: FALSE | E9: FALSE | F9: FALSE | G9: FALSE | H9: FALSE | I9: FALSE | K9: =N9/7 -> 0 | L9: =COUNTIF(C9,TRUE) -> 0 | M9: =COUNTIF(D9:I9,TRUE) -> 0 | N9: =L9+M9 -> 0
A10: Lando Norris | C10: FALSE | D10: FALSE | E10: FALSE | F10: FALSE | G10: FALSE | H10: FALSE | I10: FALSE | K10: =N10/7 -> 0 | L10: =COUNTIF(C10,TRUE) -> 0 | M10: =COUNTIF(D10:I10,TRUE) -> 0 | N10: =L10+M10 -> 0
A11: Max Verstappen | C11: FALSE | D11: FALSE | E11: FALSE | F11: FALSE | G11: FALSE | H11: FALSE | I11: FALSE | K11: =N11/7 -> 0 | L11: =COUNTIF(C11,TRUE) -> 0 | M11: =COUNTIF(D11:I11,TRUE) -> 0 | N11: =L11+M11 -> 0
A12: Sergio Pérez | C12: FALSE | D12: FALSE | E12: FALSE | F12: FALSE | G12: FALSE | H12: FALSE | I12: FALSE | K12: =N12/7 -> 0 | L12: =COUNTIF(C12,TRUE) -> 0 | M12: =COUNTIF(D12:I12,TRUE) -> 0 | N12: =L12+M12 -> 0
A13: Zhou Guanyu | C13: FALSE | D13: FALSE | E13: FALSE | F13: FALSE | G13: FALSE | H13: FALSE | I13: FALSE | K13: =N13/7 -> 0 | L13: =COUNTIF(C13,TRUE) -> 0 | M13: =COUNTIF(D13:I13,TRUE) -> 0 | N13: =L13+M13 -> 0
A14: Ayrton Senna | C14: FALSE | D14: FALSE | E14: FALSE | F14: FALSE | G14: FALSE | H14: FALSE | I14: FALSE | K14: =N14/7 -> 0 | L14: =COUNTIF(C14,TRUE) -> 0 | M14: =COUNTIF(D14:I14,TRUE) -> 0 | N14: =L14+M14 -> 0
A15: Michael Schumacher | C15: FALSE | D15: FALSE | E15: FALSE | F15: FALSE | G15: FALSE | H15: FALSE | I15: FALSE | K15: =N15/7 -> 0 | L15: =COUNTIF(C15,TRUE) -> 0 | M15: =COUNTIF(D15:I15,TRUE) -> 0 | N15: =L15+M15 -> 0
A16: Nigel Mansell | C16: FALSE | D16: FALSE | E16: FALSE | F16: FALSE | G16: FALSE | H16: FALSE | I16: FALSE | K16: =N16/7 -> 0 | L16: =COUNTIF(C16,TRUE) -> 0 | M16: =COUNTIF(D16:I16,TRUE) -> 0 | N16: =L16+M16 -> 0
A18: SPEED DEMONS · 15 cartes | K18: =SUM(N19:N33)/105 -> 0
A19: Charles Leclerc | C19: FALSE | D19: FALSE | E19: FALSE | F19: FALSE | G19: FALSE | H19: FALSE | I19: FALSE | K19: =N19/7 -> 0 | L19: =COUNTIF(C19,TRUE) -> 0 | M19: =COUNTIF(D19:I19,TRUE) -> 0 | N19: =L19+M19 -> 0
A20: Daniel Ricciardo | C20: FALSE | D20: FALSE | E20: FALSE | F20: FALSE | G20: FALSE | H20: FALSE | I20: FALSE | K20: =N20/7 -> 0 | L20: =COUNTIF(C20,TRUE) -> 0 | M20: =COUNTIF(D20:I20,TRUE) -> 0 | N20: =L20+M20 -> 0
A21: Esteban Ocon | C21: FALSE | D21: FALSE | E21: FALSE | F21: FALSE | G21: FALSE | H21: FALSE | I21: FALSE | K21: =N21/7 -> 0 | L21: =COUNTIF(C21,TRUE) -> 0 | M21: =COUNTIF(D21:I21,TRUE) -> 0 | N21: =L21+M21 -> 0
A22: Fernando Alonso | C22: FALSE | D22: FALSE | E22: FALSE | F22: FALSE | G22: FALSE | H22: FALSE | I22: FALSE | K22: =N22/7 -> 0 | L22: =COUNTIF(C22,TRUE) -> 0 | M22: =COUNTIF(D22:I22,TRUE) -> 0 | N22: =L22+M22 -> 0
A23: George Russell | C23: FALSE | D23: FALSE | E23: FALSE | F23: FALSE | G23: FALSE | H23: FALSE | I23: FALSE | K23: =N23/7 -> 0 | L23: =COUNTIF(C23,TRUE) -> 0 | M23: =COUNTIF(D23:I23,TRUE) -> 0 | N23: =L23+M23 -> 0
A24: Logan Sargeant (RC) | C24: FALSE | D24: FALSE | E24: FALSE | F24: FALSE | G24: FALSE | H24: FALSE | I24: FALSE | K24: =N24/7 -> 0 | L24: =COUNTIF(C24,TRUE) -> 0 | M24: =COUNTIF(D24:I24,TRUE) -> 0 | N24: =L24+M24 -> 0
A25: Nico Hülkenberg | C25: FALSE | D25: FALSE | E25: FALSE | F25: FALSE | G25: FALSE | H25: FALSE | I25: FALSE | K25: =N25/7 -> 0 | L25: =COUNTIF(C25,TRUE) -> 0 | M25: =COUNTIF(D25:I25,TRUE) -> 0 | N25: =L25+M25 -> 0
A26: Oscar Piastri (RC) | C26: FALSE | D26: FALSE | E26: FALSE | F26: FALSE | G26: FALSE | H26: FALSE | I26: FALSE | K26: =N26/7 -> 0 | L26: =COUNTIF(C26,TRUE) -> 0 | M26: =COUNTIF(D26:I26,TRUE) -> 0 | N26: =L26+M26 -> 0
A27: Sergio Pérez | C27: FALSE | D27: FALSE | E27: FALSE | F27: FALSE | G27: FALSE | H27: FALSE | I27: FALSE | K27: =N27/7 -> 0 | L27: =COUNTIF(C27,TRUE) -> 0 | M27: =COUNTIF(D27:I27,TRUE) -> 0 | N27: =L27+M27 -> 0
A28: Valtteri Bottas | C28: FALSE | D28: FALSE | E28: FALSE | F28: FALSE | G28: FALSE | H28: FALSE | I28: FALSE | K28: =N28/7 -> 0 | L28: =COUNTIF(C28,TRUE) -> 0 | M28: =COUNTIF(D28:I28,TRUE) -> 0 | N28: =L28+M28 -> 0
A29: Jehan Daruvala | C29: FALSE | D29: FALSE | E29: FALSE | F29: FALSE | G29: FALSE | H29: FALSE | I29: FALSE | K29: =N29/7 -> 0 | L29: =COUNTIF(C29,TRUE) -> 0 | M29: =COUNTIF(D29:I29,TRUE) -> 0 | N29: =L29+M29 -> 0
A30: Théo Pourchaire | C30: FALSE | D30: FALSE | E30: FALSE | F30: FALSE | G30: FALSE | H30: FALSE | I30: FALSE | K30: =N30/7 -> 0 | L30: =COUNTIF(C30,TRUE) -> 0 | M30: =COUNTIF(D30:I30,TRUE) -> 0 | N30: =L30+M30 -> 0
... A33: Michael Schumacher | C33: FALSE | D33: FALSE | E33: FALSE | F33: FALSE | G33: FALSE | H33: FALSE | I33: FALSE | K33: =N33/7 -> 0 | L33: =COUNTIF(C33,TRUE) -> 0 | M33: =COUNTIF(D33:I33,TRUE) -> 0 | N33: =L33+M33 -> 0
A35: AUTOS OF 1977 · 20 cartes | K35: =SUM(N36:N55)/140 -> 0
A36: Alexander Albon | C36: FALSE | D36: FALSE | E36: FALSE | F36: FALSE | G36: FALSE | H36: FALSE | I36: FALSE | K36: =N36/7 -> 0 | L36: =COUNTIF(C36,TRUE) -> 0 | M36: =COUNTIF(D36:I36,TRUE) -> 0 | N36: =L36+M36 -> 0
A37: Charles Leclerc | C37: FALSE | D37: FALSE | E37: FALSE | F37: FALSE | G37: FALSE | H37: FALSE | I37: FALSE | K37: =N37/7 -> 0 | L37: =COUNTIF(C37,TRUE) -> 0 | M37: =COUNTIF(D37:I37,TRUE) -> 0 | N37: =L37+M37 -> 0
A38: Carlos Sainz | C38: FALSE | D38: FALSE | E38: FALSE | F38: FALSE | G38: FALSE | H38: FALSE | I38: FALSE | K38: =N38/7 -> 0 | L38: =COUNTIF(C38,TRUE) -> 0 | M38: =COUNTIF(D38:I38,TRUE) -> 0 | N38: =L38+M38 -> 0
A39: Esteban Ocon | C39: FALSE | D39: FALSE | E39: FALSE | F39: FALSE | G39: FALSE | H39: FALSE | I39: FALSE | K39: =N39/7 -> 0 | L39: =COUNTIF(C39,TRUE) -> 0 | M39: =COUNTIF(D39:I39,TRUE) -> 0 | N39: =L39+M39 -> 0
A40: Fernando Alonso | C40: FALSE | D40: FALSE | E40: FALSE | F40: FALSE | G40: FALSE | H40: FALSE | I40: FALSE | K40: =N40/7 -> 0 | L40: =COUNTIF(C40,TRUE) -> 0 | M40: =COUNTIF(D40:I40,TRUE) -> 0 | N40: =L40+M40 -> 0
A41: George Russell | C41: FALSE | D41: FALSE | E41: FALSE | F41: FALSE | G41: FALSE | H41: FALSE | I41: FALSE | K41: =N41/7 -> 0 | L41: =COUNTIF(C41,TRUE) -> 0 | M41: =COUNTIF(D41:I41,TRUE) -> 0 | N41: =L41+M41 -> 0
A42: Kevin Magnussen | C42: FALSE | D42: FALSE | E42: FALSE | F42: FALSE | G42: FALSE | H42: FALSE | I42: FALSE | K42: =N42/7 -> 0 | L42: =COUNTIF(C42,TRUE) -> 0 | M42: =COUNTIF(D42:I42,TRUE) -> 0 | N42: =L42+M42 -> 0
A43: Lewis Hamilton | C43: FALSE | D43: FALSE | E43: FALSE | F43: FALSE | G43: FALSE | H43: FALSE | I43: FALSE | K43: =N43/7 -> 0 | L43: =COUNTIF(C43,TRUE) -> 0 | M43: =COUNTIF(D43:I43,TRUE) -> 0 | N43: =L43+M43 -> 0
A44: Lando Norris | C44: FALSE | D44: FALSE | E44: FALSE | F44: FALSE | G44: FALSE | H44: FALSE | I44: FALSE | K44: =N44/7 -> 0 | L44: =COUNTIF(C44,TRUE) -> 0 | M44: =COUNTIF(D44:I44,TRUE) -> 0 | N44: =L44+M44 -> 0
A45: Lance Stroll | C45: FALSE | D45: FALSE | E45: FALSE | F45: FALSE | G45: FALSE | H45: FALSE | I45: FALSE | K45: =N45/7 -> 0 | L45: =COUNTIF(C45,TRUE) -> 0 | M45: =COUNTIF(D45:I45,TRUE) -> 0 | N45: =L45+M45 -> 0
A46: Logan Sargeant (RC) | C46: FALSE | D46: FALSE | E46: FALSE | F46: FALSE | G46: FALSE | H46: FALSE | I46: FALSE | K46: =N46/7 -> 0 | L46: =COUNTIF(C46,TRUE) -> 0 | M46: =COUNTIF(D46:I46,TRUE) -> 0 | N46: =L46+M46 -> 0
A47: Max Verstappen | C47: FALSE | D47: FALSE | E47: FALSE | F47: FALSE | G47: FALSE | H47: FALSE | I47: FALSE | K47: =N47/7 -> 0 | L47: =COUNTIF(C47,TRUE) -> 0 | M47: =COUNTIF(D47:I47,TRUE) -> 0 | N47: =L47+M47 -> 0
... A55: Zhou Guanyu | C55: FALSE | D55: FALSE | E55: FALSE | F55: FALSE | G55: FALSE | H55: FALSE | I55: FALSE | K55: =N55/7 -> 0 | L55: =COUNTIF(C55,TRUE) -> 0 | M55: =COUNTIF(D55:I55,TRUE) -> 0 | N55: =L55+M55 -> 0
A57: CONSTRUCTOR'S CREST · 21 cartes | K57: =SUM(N58:N78)/147 -> 0
A58: BWT Alpine F1 Team | B58: /199 | C58: FALSE | D58: FALSE | E58: FALSE | F58: FALSE | G58: FALSE | H58: FALSE | I58: FALSE | K58: =N58/7 -> 0 | L58: =COUNTIF(C58,TRUE) -> 0 | M58: =COUNTIF(D58:I58,TRUE) -> 0 | N58: =L58+M58 -> 0
A59: Aston Martin Aramco Cognizant Formula One Team | B59: /199 | C59: FALSE | D59: FALSE | E59: FALSE | F59: FALSE | G59: FALSE | H59: FALSE | I59: FALSE | K59: =N59/7 -> 0 | L59: =COUNTIF(C59,TRUE) -> 0 | M59: =COUNTIF(D59:I59,TRUE) -> 0 | N59: =L59+M59 -> 0
A60: Alfa Romeo F1 Team KICK | B60: /199 | C60: FALSE | D60: FALSE | E60: FALSE | F60: FALSE | G60: FALSE | H60: FALSE | I60: FALSE | K60: =N60/7 -> 0 | L60: =COUNTIF(C60,TRUE) -> 0 | M60: =COUNTIF(D60:I60,TRUE) -> 0 | N60: =L60+M60 -> 0
A61: Scuderia AlphaTauri | B61: /199 | C61: FALSE | D61: FALSE | E61: FALSE | F61: FALSE | G61: FALSE | H61: FALSE | I61: FALSE | K61: =N61/7 -> 0 | L61: =COUNTIF(C61,TRUE) -> 0 | M61: =COUNTIF(D61:I61,TRUE) -> 0 | N61: =L61+M61 -> 0
A62: MoneyGram Haas F1 Team | B62: /199 | C62: FALSE | D62: FALSE | E62: FALSE | F62: FALSE | G62: FALSE | H62: FALSE | I62: FALSE | K62: =N62/7 -> 0 | L62: =COUNTIF(C62,TRUE) -> 0 | M62: =COUNTIF(D62:I62,TRUE) -> 0 | N62: =L62+M62 -> 0
A63: Mercedes-AMG Petronas Formula One Team | B63: /199 | C63: FALSE | D63: FALSE | E63: FALSE | F63: FALSE | G63: FALSE | H63: FALSE | I63: FALSE | K63: =N63/7 -> 0 | L63: =COUNTIF(C63,TRUE) -> 0 | M63: =COUNTIF(D63:I63,TRUE) -> 0 | N63: =L63+M63 -> 0
A64: McLaren F1 Team | B64: /199 | C64: FALSE | D64: FALSE | E64: FALSE | F64: FALSE | G64: FALSE | H64: FALSE | I64: FALSE | K64: =N64/7 -> 0 | L64: =COUNTIF(C64,TRUE) -> 0 | M64: =COUNTIF(D64:I64,TRUE) -> 0 | N64: =L64+M64 -> 0
A65: Oracle Red Bull Racing | B65: /199 | C65: FALSE | D65: FALSE | E65: FALSE | F65: FALSE | G65: FALSE | H65: FALSE | I65: FALSE | K65: =N65/7 -> 0 | L65: =COUNTIF(C65,TRUE) -> 0 | M65: =COUNTIF(D65:I65,TRUE) -> 0 | N65: =L65+M65 -> 0
A66: Scuderia Ferrari | B66: /199 | C66: FALSE | D66: FALSE | E66: FALSE | F66: FALSE | G66: FALSE | H66: FALSE | I66: FALSE | K66: =N66/7 -> 0 | L66: =COUNTIF(C66,TRUE) -> 0 | M66: =COUNTIF(D66:I66,TRUE) -> 0 | N66: =L66+M66 -> 0
A67: Williams Racing | B67: /199 | C67: FALSE | D67: FALSE | E67: FALSE | F67: FALSE | G67: FALSE | H67: FALSE | I67: FALSE | K67: =N67/7 -> 0 | L67: =COUNTIF(C67,TRUE) -> 0 | M67: =COUNTIF(D67:I67,TRUE) -> 0 | N67: =L67+M67 -> 0
A68: Art Grand Prix | B68: /199 | C68: FALSE | D68: FALSE | E68: FALSE | F68: FALSE | G68: FALSE | H68: FALSE | I68: FALSE | K68: =N68/7 -> 0 | L68: =COUNTIF(C68,TRUE) -> 0 | M68: =COUNTIF(D68:I68,TRUE) -> 0 | N68: =L68+M68 -> 0
A69: Campos Racing | B69: /199 | C69: FALSE | D69: FALSE | E69: FALSE | F69: FALSE | G69: FALSE | H69: FALSE | I69: FALSE | K69: =N69/7 -> 0 | L69: =COUNTIF(C69,TRUE) -> 0 | M69: =COUNTIF(D69:I69,TRUE) -> 0 | N69: =L69+M69 -> 0
... A78: Invicta Virtuosi Racing | B78: /199 | C78: FALSE | D78: FALSE | E78: FALSE | F78: FALSE | G78: FALSE | H78: FALSE | I78: FALSE | K78: =N78/7 -> 0 | L78: =COUNTIF(C78,TRUE) -> 0 | M78: =COUNTIF(D78:I78,TRUE) -> 0 | N78: =L78+M78 -> 0
A80: F1 ARMOUR · 20 cartes | K80: =SUM(N81:N100)/60 -> 0
A81: Alexander Albon | B81: /50 | C81: FALSE | G81: FALSE | H81: FALSE | K81: =N81/3 -> 0 | L81: =COUNTIF(C81,TRUE) -> 0 | M81: =COUNTIF(G81:H81,TRUE) -> 0 | N81: =L81+M81 -> 0
A82: Charles Leclerc | B82: /50 | C82: FALSE | G82: FALSE | H82: FALSE | K82: =N82/3 -> 0 | L82: =COUNTIF(C82,TRUE) -> 0 | M82: =COUNTIF(G82:H82,TRUE) -> 0 | N82: =L82+M82 -> 0
A83: Carlos Sainz | B83: /50 | C83: FALSE | G83: FALSE | H83: FALSE | K83: =N83/3 -> 0 | L83: =COUNTIF(C83,TRUE) -> 0 | M83: =COUNTIF(G83:H83,TRUE) -> 0 | N83: =L83+M83 -> 0
A84: Daniel Ricciardo | B84: /50 | C84: FALSE | G84: FALSE | H84: FALSE | K84: =N84/3 -> 0 | L84: =COUNTIF(C84,TRUE) -> 0 | M84: =COUNTIF(G84:H84,TRUE) -> 0 | N84: =L84+M84 -> 0
A85: Esteban Ocon | B85: /50 | C85: FALSE | G85: FALSE | H85: FALSE | K85: =N85/3 -> 0 | L85: =COUNTIF(C85,TRUE) -> 0 | M85: =COUNTIF(G85:H85,TRUE) -> 0 | N85: =L85+M85 -> 0
A86: Fernando Alonso | B86: /50 | C86: FALSE | G86: FALSE | H86: FALSE | K86: =N86/3 -> 0 | L86: =COUNTIF(C86,TRUE) -> 0 | M86: =COUNTIF(G86:H86,TRUE) -> 0 | N86: =L86+M86 -> 0
A87: George Russell | B87: /50 | C87: FALSE | G87: FALSE | H87: FALSE | K87: =N87/3 -> 0 | L87: =COUNTIF(C87,TRUE) -> 0 | M87: =COUNTIF(G87:H87,TRUE) -> 0 | N87: =L87+M87 -> 0
A88: Kevin Magnussen | B88: /50 | C88: FALSE | G88: FALSE | H88: FALSE | K88: =N88/3 -> 0 | L88: =COUNTIF(C88,TRUE) -> 0 | M88: =COUNTIF(G88:H88,TRUE) -> 0 | N88: =L88+M88 -> 0
A89: Lewis Hamilton | B89: /50 | C89: FALSE | G89: FALSE | H89: FALSE | K89: =N89/3 -> 0 | L89: =COUNTIF(C89,TRUE) -> 0 | M89: =COUNTIF(G89:H89,TRUE) -> 0 | N89: =L89+M89 -> 0
A90: Lando Norris | B90: /50 | C90: FALSE | G90: FALSE | H90: FALSE | K90: =N90/3 -> 0 | L90: =COUNTIF(C90,TRUE) -> 0 | M90: =COUNTIF(G90:H90,TRUE) -> 0 | N90: =L90+M90 -> 0
A91: Lance Stroll | B91: /50 | C91: FALSE | G91: FALSE | H91: FALSE | K91: =N91/3 -> 0 | L91: =COUNTIF(C91,TRUE) -> 0 | M91: =COUNTIF(G91:H91,TRUE) -> 0 | N91: =L91+M91 -> 0
A92: Logan Sargeant (RC) | B92: /50 | C92: FALSE | G92: FALSE | H92: FALSE | K92: =N92/3 -> 0 | L92: =COUNTIF(C92,TRUE) -> 0 | M92: =COUNTIF(G92:H92,TRUE) -> 0 | N92: =L92+M92 -> 0
... A100: Zhou Guanyu | B100: /50 | C100: FALSE | G100: FALSE | H100: FALSE | K100: =N100/3 -> 0 | L100: =COUNTIF(C100,TRUE) -> 0 | M100: =COUNTIF(G100:H100,TRUE) -> 0 | N100: =L100+M100 -> 0
A102: ART DU GRAND PRIX · 5 cartes | K102: =SUM(N103:N107)/25 -> 0
A103: Miami Grand Prix | C103: FALSE | F103: FALSE | G103: FALSE | H103: FALSE | J103: FALSE | K103: =N103/5 -> 0 | L103: =COUNTIF(C103,TRUE) -> 0 | M103: =COUNTIF(F103:H103,TRUE)+COUNTIF(J103,TRUE) -> 0 | N103: =L103+M103 -> 0
A104: Gran Premio De La Ciudad De México 2022 | C104: FALSE | F104: FALSE | G104: FALSE | H104: FALSE | J104: FALSE | K104: =N104/5 -> 0 | L104: =COUNTIF(C104,TRUE) -> 0 | M104: =COUNTIF(F104:H104,TRUE)+COUNTIF(J104,TRUE) -> 0 | N104: =L104+M104 -> 0
A105: Gran Premio d'Italia 2022 | C105: FALSE | F105: FALSE | G105: FALSE | H105: FALSE | J105: FALSE | K105: =N105/5 -> 0 | L105: =COUNTIF(C105,TRUE) -> 0 | M105: =COUNTIF(F105:H105,TRUE)+COUNTIF(J105,TRUE) -> 0 | N105: =L105+M105 -> 0
A106: British Grand Prix 2022 | C106: FALSE | F106: FALSE | G106: FALSE | H106: FALSE | J106: FALSE | K106: =N106/5 -> 0 | L106: =COUNTIF(C106,TRUE) -> 0 | M106: =COUNTIF(F106:H106,TRUE)+COUNTIF(J106,TRUE) -> 0 | N106: =L106+M106 -> 0
A107: United States Grand Prix 2022 | C107: FALSE | F107: FALSE | G107: FALSE | H107: FALSE | J107: FALSE | K107: =N107/5 -> 0 | L107: =COUNTIF(C107,TRUE) -> 0 | M107: =COUNTIF(F107:H107,TRUE)+COUNTIF(J107,TRUE) -> 0 | N107: =L107+M107 -> 0
A109: FUTURO · 10 cartes | K109: =SUM(N110:N119)/50 -> 0
A110: Logan Sargeant (RC) | C110: FALSE | F110: FALSE | G110: FALSE | H110: FALSE | J110: FALSE | K110: =N110/5 -> 0 | L110: =COUNTIF(C110,TRUE) -> 0 | M110: =COUNTIF(F110:H110,TRUE)+COUNTIF(J110,TRUE) -> 0 | N110: =L110+M110 -> 0
A111: Nyck de Vries (RC) | C111: FALSE | F111: FALSE | G111: FALSE | H111: FALSE | J111: FALSE | K111: =N111/5 -> 0 | L111: =COUNTIF(C111,TRUE) -> 0 | M111: =COUNTIF(F111:H111,TRUE)+COUNTIF(J111,TRUE) -> 0 | N111: =L111+M111 -> 0
A112: Oscar Piastri (RC) | C112: FALSE | F112: FALSE | G112: FALSE | H112: FALSE | J112: FALSE | K112: =N112/5 -> 0 | L112: =COUNTIF(C112,TRUE) -> 0 | M112: =COUNTIF(F112:H112,TRUE)+COUNTIF(J112,TRUE) -> 0 | N112: =L112+M112 -> 0
A113: Ayumu Iwasa | C113: FALSE | F113: FALSE | G113: FALSE | H113: FALSE | J113: FALSE | K113: =N113/5 -> 0 | L113: =COUNTIF(C113,TRUE) -> 0 | M113: =COUNTIF(F113:H113,TRUE)+COUNTIF(J113,TRUE) -> 0 | N113: =L113+M113 -> 0
A114: Dennis Hauger | C114: FALSE | F114: FALSE | G114: FALSE | H114: FALSE | J114: FALSE | K114: =N114/5 -> 0 | L114: =COUNTIF(C114,TRUE) -> 0 | M114: =COUNTIF(F114:H114,TRUE)+COUNTIF(J114,TRUE) -> 0 | N114: =L114+M114 -> 0
A115: Frederik Vesti | C115: FALSE | F115: FALSE | G115: FALSE | H115: FALSE | J115: FALSE | K115: =N115/5 -> 0 | L115: =COUNTIF(C115,TRUE) -> 0 | M115: =COUNTIF(F115:H115,TRUE)+COUNTIF(J115,TRUE) -> 0 | N115: =L115+M115 -> 0
A116: Jack Doohan | C116: FALSE | F116: FALSE | G116: FALSE | H116: FALSE | J116: FALSE | K116: =N116/5 -> 0 | L116: =COUNTIF(C116,TRUE) -> 0 | M116: =COUNTIF(F116:H116,TRUE)+COUNTIF(J116,TRUE) -> 0 | N116: =L116+M116 -> 0
A117: Oliver Bearman | C117: FALSE | F117: FALSE | G117: FALSE | H117: FALSE | J117: FALSE | K117: =N117/5 -> 0 | L117: =COUNTIF(C117,TRUE) -> 0 | M117: =COUNTIF(F117:H117,TRUE)+COUNTIF(J117,TRUE) -> 0 | N117: =L117+M117 -> 0
A118: Ralph Boschung | C118: FALSE | F118: FALSE | G118: FALSE | H118: FALSE | J118: FALSE | K118: =N118/5 -> 0 | L118: =COUNTIF(C118,TRUE) -> 0 | M118: =COUNTIF(F118:H118,TRUE)+COUNTIF(J118,TRUE) -> 0 | N118: =L118+M118 -> 0
A119: Théo Pourchaire | C119: FALSE | F119: FALSE | G119: FALSE | H119: FALSE | J119: FALSE | K119: =N119/5 -> 0 | L119: =COUNTIF(C119,TRUE) -> 0 | M119: =COUNTIF(F119:H119,TRUE)+COUNTIF(J119,TRUE) -> 0 | N119: =L119+M119 -> 0
A121: TURN UP THE LIGHTS · 10 cartes | K121: =SUM(N122:N131)/50 -> 0
A122: Charles Leclerc | C122: FALSE | D122: FALSE | F122: FALSE | G122: FALSE | H122: FALSE | K122: =N122/5 -> 0 | L122: =COUNTIF(C122,TRUE) -> 0 | M122: =COUNTIF(D122,TRUE)+COUNTIF(F122:H122,TRUE) -> 0 | N122: =L122+M122 -> 0
A123: Fernando Alonso | C123: FALSE | D123: FALSE | F123: FALSE | G123: FALSE | H123: FALSE | K123: =N123/5 -> 0 | L123: =COUNTIF(C123,TRUE) -> 0 | M123: =COUNTIF(D123,TRUE)+COUNTIF(F123:H123,TRUE) -> 0 | N123: =L123+M123 -> 0
A124: Kevin Magnussen | C124: FALSE | D124: FALSE | F124: FALSE | G124: FALSE | H124: FALSE | K124: =N124/5 -> 0 | L124: =COUNTIF(C124,TRUE) -> 0 | M124: =COUNTIF(D124,TRUE)+COUNTIF(F124:H124,TRUE) -> 0 | N124: =L124+M124 -> 0
A125: Lewis Hamilton | C125: FALSE | D125: FALSE | F125: FALSE | G125: FALSE | H125: FALSE | K125: =N125/5 -> 0 | L125: =COUNTIF(C125,TRUE) -> 0 | M125: =COUNTIF(D125,TRUE)+COUNTIF(F125:H125,TRUE) -> 0 | N125: =L125+M125 -> 0
A126: Lando Norris | C126: FALSE | D126: FALSE | F126: FALSE | G126: FALSE | H126: FALSE | K126: =N126/5 -> 0 | L126: =COUNTIF(C126,TRUE) -> 0 | M126: =COUNTIF(D126,TRUE)+COUNTIF(F126:H126,TRUE) -> 0 | N126: =L126+M126 -> 0
A127: Logan Sargeant (RC) | C127: FALSE | D127: FALSE | F127: FALSE | G127: FALSE | H127: FALSE | K127: =N127/5 -> 0 | L127: =COUNTIF(C127,TRUE) -> 0 | M127: =COUNTIF(D127,TRUE)+COUNTIF(F127:H127,TRUE) -> 0 | N127: =L127+M127 -> 0
A128: Max Verstappen | C128: FALSE | D128: FALSE | F128: FALSE | G128: FALSE | H128: FALSE | K128: =N128/5 -> 0 | L128: =COUNTIF(C128,TRUE) -> 0 | M128: =COUNTIF(D128,TRUE)+COUNTIF(F128:H128,TRUE) -> 0 | N128: =L128+M128 -> 0
A129: Pierre Gasly | C129: FALSE | D129: FALSE | F129: FALSE | G129: FALSE | H129: FALSE | K129: =N129/5 -> 0 | L129: =COUNTIF(C129,TRUE) -> 0 | M129: =COUNTIF(D129,TRUE)+COUNTIF(F129:H129,TRUE) -> 0 | N129: =L129+M129 -> 0
A130: Yuki Tsunoda | C130: FALSE | D130: FALSE | F130: FALSE | G130: FALSE | H130: FALSE | K130: =N130/5 -> 0 | L130: =COUNTIF(C130,TRUE) -> 0 | M130: =COUNTIF(D130,TRUE)+COUNTIF(F130:H130,TRUE) -> 0 | N130: =L130+M130 -> 0
A131: Zhou Guanyu | C131: FALSE | D131: FALSE | F131: FALSE | G131: FALSE | H131: FALSE | K131: =N131/5 -> 0 | L131: =COUNTIF(C131,TRUE) -> 0 | M131: =COUNTIF(D131,TRUE)+COUNTIF(F131:H131,TRUE) -> 0 | N131: =L131+M131 -> 0
...

Sheet Autographes
A1: Topps Chrome F1 2023 — Autographes
A2: Suivi de collection — checklist complète
A3: Cochez les cartes possédées. Utilisez les boutons − / + à gauche pour replier ou déplier chaque subset.
A4: Carte | B4: Tirage principal | C4: Version principale | D4: Green Refractor /99 | E4: Gold Refractor /50 | F4: Gold Wave Refractor /50 | G4: Orange Refractor /25 | H4: Red Refractor /5 | I4: Superfractor /1 | J4: Printing Plates /1 | K4: Progression | L4: Principales possédées | M4: Parallèles possédés | N4: Versions possédées
A5: SET DE BASE · 58 cartes | K5: =SUM(N6:N63)/464 -> 0
A6: Alexander Albon | C6: FALSE | D6: FALSE | E6: FALSE | F6: FALSE | G6: FALSE | H6: FALSE | I6: FALSE | J6: FALSE | K6: =N6/8 -> 0 | L6: =COUNTIF(C6,TRUE) -> 0 | M6: =COUNTIF(D6:J6,TRUE) -> 0 | N6: =L6+M6 -> 0
A7: Antonio Giovinazzi | C7: FALSE | D7: FALSE | E7: FALSE | F7: FALSE | G7: FALSE | H7: FALSE | I7: FALSE | J7: FALSE | K7: =N7/8 -> 0 | L7: =COUNTIF(C7,TRUE) -> 0 | M7: =COUNTIF(D7:J7,TRUE) -> 0 | N7: =L7+M7 -> 0
A8: Charles Leclerc | C8: FALSE | D8: FALSE | E8: FALSE | F8: FALSE | G8: FALSE | H8: FALSE | I8: FALSE | J8: FALSE | K8: =N8/8 -> 0 | L8: =COUNTIF(C8,TRUE) -> 0 | M8: =COUNTIF(D8:J8,TRUE) -> 0 | N8: =L8+M8 -> 0
A9: Carlos Sainz | C9: FALSE | D9: FALSE | E9: FALSE | F9: FALSE | G9: FALSE | H9: FALSE | I9: FALSE | J9: FALSE | K9: =N9/8 -> 0 | L9: =COUNTIF(C9,TRUE) -> 0 | M9: =COUNTIF(D9:J9,TRUE) -> 0 | N9: =L9+M9 -> 0
A10: Daniel Ricciardo | C10: FALSE | D10: FALSE | E10: FALSE | F10: FALSE | G10: FALSE | H10: FALSE | I10: FALSE | J10: FALSE | K10: =N10/8 -> 0 | L10: =COUNTIF(C10,TRUE) -> 0 | M10: =COUNTIF(D10:J10,TRUE) -> 0 | N10: =L10+M10 -> 0
A11: Esteban Ocon | C11: FALSE | D11: FALSE | E11: FALSE | F11: FALSE | G11: FALSE | H11: FALSE | I11: FALSE | J11: FALSE | K11: =N11/8 -> 0 | L11: =COUNTIF(C11,TRUE) -> 0 | M11: =COUNTIF(D11:J11,TRUE) -> 0 | N11: =L11+M11 -> 0
A12: Fernando Alonso | C12: FALSE | D12: FALSE | E12: FALSE | F12: FALSE | G12: FALSE | H12: FALSE | I12: FALSE | J12: FALSE | K12: =N12/8 -> 0 | L12: =COUNTIF(C12,TRUE) -> 0 | M12: =COUNTIF(D12:J12,TRUE) -> 0 | N12: =L12+M12 -> 0
A13: George Russell | C13: FALSE | D13: FALSE | E13: FALSE | F13: FALSE | G13: FALSE | H13: FALSE | I13: FALSE | J13: FALSE | K13: =N13/8 -> 0 | L13: =COUNTIF(C13,TRUE) -> 0 | M13: =COUNTIF(D13:J13,TRUE) -> 0 | N13: =L13+M13 -> 0
A14: Kevin Magnussen | C14: FALSE | D14: FALSE | E14: FALSE | F14: FALSE | G14: FALSE | H14: FALSE | I14: FALSE | J14: FALSE | K14: =N14/8 -> 0 | L14: =COUNTIF(C14,TRUE) -> 0 | M14: =COUNTIF(D14:J14,TRUE) -> 0 | N14: =L14+M14 -> 0
A15: Lewis Hamilton | C15: FALSE | D15: FALSE | E15: FALSE | F15: FALSE | G15: FALSE | H15: FALSE | I15: FALSE | J15: FALSE | K15: =N15/8 -> 0 | L15: =COUNTIF(C15,TRUE) -> 0 | M15: =COUNTIF(D15:J15,TRUE) -> 0 | N15: =L15+M15 -> 0
A16: Lando Norris | C16: FALSE | D16: FALSE | E16: FALSE | F16: FALSE | G16: FALSE | H16: FALSE | I16: FALSE | J16: FALSE | K16: =N16/8 -> 0 | L16: =COUNTIF(C16,TRUE) -> 0 | M16: =COUNTIF(D16:J16,TRUE) -> 0 | N16: =L16+M16 -> 0
A17: Lance Stroll | C17: FALSE | D17: FALSE | E17: FALSE | F17: FALSE | G17: FALSE | H17: FALSE | I17: FALSE | J17: FALSE | K17: =N17/8 -> 0 | L17: =COUNTIF(C17,TRUE) -> 0 | M17: =COUNTIF(D17:J17,TRUE) -> 0 | N17: =L17+M17 -> 0
... A63: Zane Maloney | C63: FALSE | D63: FALSE | E63: FALSE | F63: FALSE | G63: FALSE | H63: FALSE | I63: FALSE | J63: FALSE | K63: =N63/8 -> 0 | L63: =COUNTIF(C63,TRUE) -> 0 | M63: =COUNTIF(D63:J63,TRUE) -> 0 | N63: =L63+M63 -> 0
A65: FUTURO · 10 cartes | K65: =SUM(N66:N75)/40 -> 0
A66: Logan Sargeant (RC) | B66: /50 | C66: FALSE | G66: FALSE | H66: FALSE | I66: FALSE | K66: =N66/4 -> 0 | L66: =COUNTIF(C66,TRUE) -> 0 | M66: =COUNTIF(G66:I66,TRUE) -> 0 | N66: =L66+M66 -> 0
A67: Nyck de Vries (RC) | B67: /50 | C67: FALSE | G67: FALSE | H67: FALSE | I67: FALSE | K67: =N67/4 -> 0 | L67: =COUNTIF(C67,TRUE) -> 0 | M67: =COUNTIF(G67:I67,TRUE) -> 0 | N67: =L67+M67 -> 0
A68: Oscar Piastri (RC) | B68: /50 | C68: FALSE | G68: FALSE | H68: FALSE | I68: FALSE | K68: =N68/4 -> 0 | L68: =COUNTIF(C68,TRUE) -> 0 | M68: =COUNTIF(G68:I68,TRUE) -> 0 | N68: =L68+M68 -> 0
A69: Ayumu Iwasa | B69: /50 | C69: FALSE | G69: FALSE | H69: FALSE | I69: FALSE | K69: =N69/4 -> 0 | L69: =COUNTIF(C69,TRUE) -> 0 | M69: =COUNTIF(G69:I69,TRUE) -> 0 | N69: =L69+M69 -> 0
A70: Dennis Hauger | B70: /50 | C70: FALSE | G70: FALSE | H70: FALSE | I70: FALSE | K70: =N70/4 -> 0 | L70: =COUNTIF(C70,TRUE) -> 0 | M70: =COUNTIF(G70:I70,TRUE) -> 0 | N70: =L70+M70 -> 0
A71: Frederik Vesti | B71: /50 | C71: FALSE | G71: FALSE | H71: FALSE | I71: FALSE | K71: =N71/4 -> 0 | L71: =COUNTIF(C71,TRUE) -> 0 | M71: =COUNTIF(G71:I71,TRUE) -> 0 | N71: =L71+M71 -> 0
A72: Jack Doohan | B72: /50 | C72: FALSE | G72: FALSE | H72: FALSE | I72: FALSE | K72: =N72/4 -> 0 | L72: =COUNTIF(C72,TRUE) -> 0 | M72: =COUNTIF(G72:I72,TRUE) -> 0 | N72: =L72+M72 -> 0
A73: Oliver Bearman | B73: /50 | C73: FALSE | G73: FALSE | H73: FALSE | I73: FALSE | K73: =N73/4 -> 0 | L73: =COUNTIF(C73,TRUE) -> 0 | M73: =COUNTIF(G73:I73,TRUE) -> 0 | N73: =L73+M73 -> 0
A74: Ralph Boschung | B74: /50 | C74: FALSE | G74: FALSE | H74: FALSE | I74: FALSE | K74: =N74/4 -> 0 | L74: =COUNTIF(C74,TRUE) -> 0 | M74: =COUNTIF(G74:I74,TRUE) -> 0 | N74: =L74+M74 -> 0
A75: Théo Pourchaire | B75: /50 | C75: FALSE | G75: FALSE | H75: FALSE | I75: FALSE | K75: =N75/4 -> 0 | L75: =COUNTIF(C75,TRUE) -> 0 | M75: =COUNTIF(G75:I75,TRUE) -> 0 | N75: =L75+M75 -> 0
