Workbook

Sheet Aperçu
A1: Topps Chrome F1 2021
A2: Tracker de collection — checklist complète
A4: SET DE BASE (versions Standard) | C4: CARTES STANDARDS (tous les onglets) | E4: PARALLÈLES (variantes) | G4: COLLECTION TOTALE
A5: =(COUNTIF('Set de base'!C6:C208,TRUE))/185 -> 0 | C5: =(COUNTIF('Set de base'!C6:C208,TRUE)+COUNTIF('Inserts'!C6:C59,TRUE)+COUNTIF('Autographes'!C6:C58,TRUE))/288 -> 0 | E5: =(COUNTIF('Set de base'!D6:Z208,TRUE)+COUNTIF('Inserts'!D6:J59,TRUE)+COUNTIF('Autographes'!D6:I58,TRUE))/4898 -> 0 | G5: =(COUNTIF('Set de base'!C6:Z208,TRUE)+COUNTIF('Inserts'!C6:J59,TRUE)+COUNTIF('Autographes'!C6:I58,TRUE))/5186 -> 0
A7: =(COUNTIF('Set de base'!C6:C208,TRUE))&" / 185" -> 0 / 185 | C7: =(COUNTIF('Set de base'!C6:C208,TRUE)+COUNTIF('Inserts'!C6:C59,TRUE)+COUNTIF('Autographes'!C6:C58,TRUE))&" / 288" -> 0 / 288 | E7: =(COUNTIF('Set de base'!D6:Z208,TRUE)+COUNTIF('Inserts'!D6:J59,TRUE)+COUNTIF('Autographes'!D6:I58,TRUE))&" / 4898" -> 0 / 4898 | G7: =(COUNTIF('Set de base'!C6:Z208,TRUE)+COUNTIF('Inserts'!C6:J59,TRUE)+COUNTIF('Autographes'!C6:I58,TRUE))&" / 5186" -> 0 / 5186
A8: Set de base = versions Standard de l’onglet « Set de base » • Cartes Standards = version principale non parallèle lorsqu’elle existe, tous onglets confondus.
A10: Progression par onglet
A11: Onglet | B11: Versions | C11: Possédées | D11: Progression
A12: Set de base | B12: 4440 | C12: =COUNTIF('Set de base'!C6:Z208,TRUE) -> 0 | D12: =(COUNTIF('Set de base'!C6:Z208,TRUE))/4440 -> 0
A13: Inserts | B13: 375 | C13: =COUNTIF('Inserts'!C6:J59,TRUE) -> 0 | D13: =(COUNTIF('Inserts'!C6:J59,TRUE))/375 -> 0
A14: Autographes | B14: 371 | C14: =COUNTIF('Autographes'!C6:I58,TRUE) -> 0 | D14: =(COUNTIF('Autographes'!C6:I58,TRUE))/371 -> 0
A17: Cartes de base par pilote
A18: Pilote | B18: Cartes de base | C18: Possédées | D18: Progression
A19: Alessio Deledda | B19: 2 | C19: =IF('Set de base'!C82=TRUE,1,0)+IF('Set de base'!C146=TRUE,1,0) -> 0 | D19: =(IF('Set de base'!C82=TRUE,1,0)+IF('Set de base'!C146=TRUE,1,0))/2 -> 0
A20: Antonio Giovinazzi | B20: 3 | C20: =IF('Set de base'!C21=TRUE,1,0)+IF('Set de base'!C58=TRUE,1,0)+IF('Set de base'!C122=TRUE,1,0) -> 0 | D20: =(IF('Set de base'!C21=TRUE,1,0)+IF('Set de base'!C58=TRUE,1,0)+IF('Set de base'!C122=TRUE,1,0))/3 -> 0
A21: Bent Viscaal | B21: 2 | C21: =IF('Set de base'!C83=TRUE,1,0)+IF('Set de base'!C148=TRUE,1,0) -> 0 | D21: =(IF('Set de base'!C83=TRUE,1,0)+IF('Set de base'!C148=TRUE,1,0))/2 -> 0
A22: Carlos Sainz | B22: 3 | C22: =IF('Set de base'!C17=TRUE,1,0)+IF('Set de base'!C59=TRUE,1,0)+IF('Set de base'!C118=TRUE,1,0) -> 0 | D22: =(IF('Set de base'!C17=TRUE,1,0)+IF('Set de base'!C59=TRUE,1,0)+IF('Set de base'!C118=TRUE,1,0))/3 -> 0
A23: Charles Leclerc | B23: 5 | C23: =IF('Set de base'!C16=TRUE,1,0)+IF('Set de base'!C30=TRUE,1,0)+IF('Set de base'!C37=TRUE,1,0)+IF('Set de base'!C38=TRUE,1,0)+IF('Set de base'!C117=TRUE,1,0) -> 0 | D23: =(IF('Set de base'!C16=TRUE,1,0)+IF('Set de base'!C30=TRUE,1,0)+IF('Set de base'!C37=TRUE,1,0)+IF('Set de base'!C38=TRUE,1,0)+IF('Set de base'!C117=TRUE,1,0))/5 -> 0
A24: Christian Lundgaard | B24: 2 | C24: =IF('Set de base'!C86=TRUE,1,0)+IF('Set de base'!C150=TRUE,1,0) -> 0 | D24: =(IF('Set de base'!C86=TRUE,1,0)+IF('Set de base'!C150=TRUE,1,0))/2 -> 0
A25: Dan Ticktum | B25: 2 | C25: =IF('Set de base'!C73=TRUE,1,0)+IF('Set de base'!C137=TRUE,1,0) -> 0 | D25: =(IF('Set de base'!C73=TRUE,1,0)+IF('Set de base'!C137=TRUE,1,0))/2 -> 0
A26: Daniel Ricciardo | B26: 5 | C26: =IF('Set de base'!C10=TRUE,1,0)+IF('Set de base'!C33=TRUE,1,0)+IF('Set de base'!C34=TRUE,1,0)+IF('Set de base'!C111=TRUE,1,0)+IF('Set de base'!C179=TRUE,1,0) -> 0 | D26: =(IF('Set de base'!C10=TRUE,1,0)+IF('Set de base'!C33=TRUE,1,0)+IF('Set de base'!C34=TRUE,1,0)+IF('Set de base'!C111=TRUE,1,0)+IF('Set de base'!C179=TRUE,1,0))/5 -> 0
A27: David Beckmann | B27: 2 | C27: =IF('Set de base'!C77=TRUE,1,0)+IF('Set de base'!C141=TRUE,1,0) -> 0 | D27: =(IF('Set de base'!C77=TRUE,1,0)+IF('Set de base'!C141=TRUE,1,0))/2 -> 0
A28: Esteban Ocon | B28: 4 | C28: =IF('Set de base'!C15=TRUE,1,0)+IF('Set de base'!C36=TRUE,1,0)+IF('Set de base'!C50=TRUE,1,0)+IF('Set de base'!C116=TRUE,1,0) -> 0 | D28: =(IF('Set de base'!C15=TRUE,1,0)+IF('Set de base'!C36=TRUE,1,0)+IF('Set de base'!C50=TRUE,1,0)+IF('Set de base'!C116=TRUE,1,0))/4 -> 0
A29: Felipe Drugovich | B29: 2 | C29: =IF('Set de base'!C67=TRUE,1,0)+IF('Set de base'!C131=TRUE,1,0) -> 0 | D29: =(IF('Set de base'!C67=TRUE,1,0)+IF('Set de base'!C131=TRUE,1,0))/2 -> 0
A30: Fernando Alonso | B30: 5 | C30: =IF('Set de base'!C14=TRUE,1,0)+IF('Set de base'!C43=TRUE,1,0)+IF('Set de base'!C46=TRUE,1,0)+IF('Set de base'!C115=TRUE,1,0)+IF('Set de base'!C204=TRUE,1,0) -> 0 | D30: =(IF('Set de base'!C14=TRUE,1,0)+IF('Set de base'!C43=TRUE,1,0)+IF('Set de base'!C46=TRUE,1,0)+IF('Set de base'!C115=TRUE,1,0)+IF('Set de base'!C204=TRUE,1,0))/5 -> 0
A31: George Russell | B31: 5 | C31: =IF('Set de base'!C24=TRUE,1,0)+IF('Set de base'!C40=TRUE,1,0)+IF('Set de base'!C44=TRUE,1,0)+IF('Set de base'!C125=TRUE,1,0)+IF('Set de base'!C173=TRUE,1,0) -> 0 | D31: =(IF('Set de base'!C24=TRUE,1,0)+IF('Set de base'!C40=TRUE,1,0)+IF('Set de base'!C44=TRUE,1,0)+IF('Set de base'!C125=TRUE,1,0)+IF('Set de base'!C173=TRUE,1,0))/5 -> 0
A32: Gianluca Petecof | B32: 2 | C32: =IF('Set de base'!C72=TRUE,1,0)+IF('Set de base'!C136=TRUE,1,0) -> 0 | D32: =(IF('Set de base'!C72=TRUE,1,0)+IF('Set de base'!C136=TRUE,1,0))/2 -> 0
A33: Guilherme Samaia | B33: 2 | C33: =IF('Set de base'!C78=TRUE,1,0)+IF('Set de base'!C142=TRUE,1,0) -> 0 | D33: =(IF('Set de base'!C78=TRUE,1,0)+IF('Set de base'!C142=TRUE,1,0))/2 -> 0
A34: Jehan Daruvala | B34: 2 | C34: =IF('Set de base'!C74=TRUE,1,0)+IF('Set de base'!C138=TRUE,1,0) -> 0 | D34: =(IF('Set de base'!C74=TRUE,1,0)+IF('Set de base'!C138=TRUE,1,0))/2 -> 0
A35: Jüri Vips | B35: 2 | C35: =IF('Set de base'!C76=TRUE,1,0)+IF('Set de base'!C140=TRUE,1,0) -> 0 | D35: =(IF('Set de base'!C76=TRUE,1,0)+IF('Set de base'!C140=TRUE,1,0))/2 -> 0
A36: Kimi Räikkönen | B36: 6 | C36: =IF('Set de base'!C20=TRUE,1,0)+IF('Set de base'!C31=TRUE,1,0)+IF('Set de base'!C39=TRUE,1,0)+IF('Set de base'!C121=TRUE,1,0)+IF('Set de base'!C176=TRUE,1,0)+IF('Set de base'!C206=TRUE,1,0) -> 0 | D36: =(IF('Set de base'!C20=TRUE,1,0)+IF('Set de base'!C31=TRUE,1,0)+IF('Set de base'!C39=TRUE,1,0)+IF('Set de base'!C121=TRUE,1,0)+IF('Set de base'!C176=TRUE,1,0)+IF('Set de base'!C206=TRUE,1,0))/6 -> 0
A37: Lance Stroll | B37: 3 | C37: =IF('Set de base'!C13=TRUE,1,0)+IF('Set de base'!C29=TRUE,1,0)+IF('Set de base'!C114=TRUE,1,0) -> 0 | D37: =(IF('Set de base'!C13=TRUE,1,0)+IF('Set de base'!C29=TRUE,1,0)+IF('Set de base'!C114=TRUE,1,0))/3 -> 0
A38: Lando Norris | B38: 4 | C38: =IF('Set de base'!C11=TRUE,1,0)+IF('Set de base'!C27=TRUE,1,0)+IF('Set de base'!C57=TRUE,1,0)+IF('Set de base'!C112=TRUE,1,0) -> 0 | D38: =(IF('Set de base'!C11=TRUE,1,0)+IF('Set de base'!C27=TRUE,1,0)+IF('Set de base'!C57=TRUE,1,0)+IF('Set de base'!C112=TRUE,1,0))/4 -> 0
A39: Lewis Hamilton | B39: 19 | C39: =IF('Set de base'!C6=TRUE,1,0)+IF('Set de base'!C45=TRUE,1,0)+IF('Set de base'!C55=TRUE,1,0)+IF('Set de base'!C61=TRUE,1,0)+IF('Set de base'!C107=TRUE,1,0)+IF('Set de base'!C154=TRUE,1,0)+IF('Set de base'!C155=TRUE,1,0)+IF('Set de base'!C156=TRUE,1,0)+IF('Set de base'!C158=TRUE,1,0)+IF('Set de base'!C159=TRUE,1,0)+IF('Set de base'!C161=TRUE,1,0)+IF('Set de base'!C163=TRUE,1,0)+IF('Set de base'!C164=TRUE,1,0)+IF('Set de base'!C165=TRUE,1,0)+IF('Set de base'!C166=TRUE,1,0)+IF('Set de base'!C167=TRUE,1,0)+IF('Set de base'!C183=TRUE,1,0)+IF('Set de base'!C190=TRUE,1,0)+IF('Set de base'!C199=TRUE,1,0) -> 0 | D39: =(IF('Set de base'!C6=TRUE,1,0)+IF('Set de base'!C45=TRUE,1,0)+IF('Set de base'!C55=TRUE,1,0)+IF('Set de base'!C61=TRUE,1,0)+IF('Set de base'!C107=TRUE,1,0)+IF('Set de base'!C154=TRUE,1,0)+IF('Set de base'!C155=TRUE,1,0)+IF('Set de base'!C156=TRUE,1,0)+IF('Set de base'!C158=TRUE,1,0)+IF('Set de base'!C159=TRUE,1,0)+IF('Set de base'!C161=TRUE,1,0)+IF('Set de base'!C163=TRUE,1,0)+IF('Set de base'!C164=TRUE,1,0)+IF('Set de base'!C165=TRUE,1,0)+IF('Set de base'!C166=TRUE,1,0)+IF('Set de base'!C167=TRUE,1,0)+IF('Set de base'!C183=TRUE,1,0)+IF('Set de base'!C190=TRUE,1,0)+IF('Set de base'!C199=TRUE,1,0))/19 -> 0
A40: Liam Lawson | B40: 2 | C40: =IF('Set de base'!C75=TRUE,1,0)+IF('Set de base'!C139=TRUE,1,0) -> 0 | D40: =(IF('Set de base'!C75=TRUE,1,0)+IF('Set de base'!C139=TRUE,1,0))/2 -> 0
A41: Lirim Zendeli | B41: 2 | C41: =IF('Set de base'!C69=TRUE,1,0)+IF('Set de base'!C133=TRUE,1,0) -> 0 | D41: =(IF('Set de base'!C69=TRUE,1,0)+IF('Set de base'!C133=TRUE,1,0))/2 -> 0
A42: Marcus Armstrong | B42: 2 | C42: =IF('Set de base'!C80=TRUE,1,0)+IF('Set de base'!C144=TRUE,1,0) -> 0 | D42: =(IF('Set de base'!C80=TRUE,1,0)+IF('Set de base'!C144=TRUE,1,0))/2 -> 0
A43: Marino Sato | B43: 2 | C43: =IF('Set de base'!C84=TRUE,1,0)+IF('Set de base'!C147=TRUE,1,0) -> 0 | D43: =(IF('Set de base'!C84=TRUE,1,0)+IF('Set de base'!C147=TRUE,1,0))/2 -> 0
A44: Matteo Nannini | B44: 2 | C44: =IF('Set de base'!C81=TRUE,1,0)+IF('Set de base'!C145=TRUE,1,0) -> 0 | D44: =(IF('Set de base'!C81=TRUE,1,0)+IF('Set de base'!C145=TRUE,1,0))/2 -> 0
A45: Max Verstappen | B45: 12 | C45: =IF('Set de base'!C8=TRUE,1,0)+IF('Set de base'!C48=TRUE,1,0)+IF('Set de base'!C53=TRUE,1,0)+IF('Set de base'!C60=TRUE,1,0)+IF('Set de base'!C109=TRUE,1,0)+IF('Set de base'!C157=TRUE,1,0)+IF('Set de base'!C169=TRUE,1,0)+IF('Set de base'!C172=TRUE,1,0)+IF('Set de base'!C178=TRUE,1,0)+IF('Set de base'!C184=TRUE,1,0)+IF('Set de base'!C185=TRUE,1,0)+IF('Set de base'!C201=TRUE,1,0) -> 0 | D45: =(IF('Set de base'!C8=TRUE,1,0)+IF('Set de base'!C48=TRUE,1,0)+IF('Set de base'!C53=TRUE,1,0)+IF('Set de base'!C60=TRUE,1,0)+IF('Set de base'!C109=TRUE,1,0)+IF('Set de base'!C157=TRUE,1,0)+IF('Set de base'!C169=TRUE,1,0)+IF('Set de base'!C172=TRUE,1,0)+IF('Set de base'!C178=TRUE,1,0)+IF('Set de base'!C184=TRUE,1,0)+IF('Set de base'!C185=TRUE,1,0)+IF('Set de base'!C201=TRUE,1,0))/12 -> 0
A46: Mick Schumacher | B46: 5 | C46: =IF('Set de base'!C22=TRUE,1,0)+IF('Set de base'!C56=TRUE,1,0)+IF('Set de base'!C123=TRUE,1,0)+IF('Set de base'!C195=TRUE,1,0)+IF('Set de base'!C207=TRUE,1,0) -> 0 | D46: =(IF('Set de base'!C22=TRUE,1,0)+IF('Set de base'!C56=TRUE,1,0)+IF('Set de base'!C123=TRUE,1,0)+IF('Set de base'!C195=TRUE,1,0)+IF('Set de base'!C207=TRUE,1,0))/5 -> 0
A47: Nicholas Latifi | B47: 3 | C47: =IF('Set de base'!C25=TRUE,1,0)+IF('Set de base'!C47=TRUE,1,0)+IF('Set de base'!C126=TRUE,1,0) -> 0 | D47: =(IF('Set de base'!C25=TRUE,1,0)+IF('Set de base'!C47=TRUE,1,0)+IF('Set de base'!C126=TRUE,1,0))/3 -> 0
A48: Nikita Mazepin | B48: 5 | C48: =IF('Set de base'!C23=TRUE,1,0)+IF('Set de base'!C62=TRUE,1,0)+IF('Set de base'!C124=TRUE,1,0)+IF('Set de base'!C196=TRUE,1,0)+IF('Set de base'!C208=TRUE,1,0) -> 0 | D48: =(IF('Set de base'!C23=TRUE,1,0)+IF('Set de base'!C62=TRUE,1,0)+IF('Set de base'!C124=TRUE,1,0)+IF('Set de base'!C196=TRUE,1,0)+IF('Set de base'!C208=TRUE,1,0))/5 -> 0
A49: Oscar Piastri | B49: 2 | C49: =IF('Set de base'!C66=TRUE,1,0)+IF('Set de base'!C130=TRUE,1,0) -> 0 | D49: =(IF('Set de base'!C66=TRUE,1,0)+IF('Set de base'!C130=TRUE,1,0))/2 -> 0
A50: Pierre Gasly | B50: 7 | C50: =IF('Set de base'!C18=TRUE,1,0)+IF('Set de base'!C35=TRUE,1,0)+IF('Set de base'!C41=TRUE,1,0)+IF('Set de base'!C119=TRUE,1,0)+IF('Set de base'!C160=TRUE,1,0)+IF('Set de base'!C180=TRUE,1,0)+IF('Set de base'!C181=TRUE,1,0) -> 0 | D50: =(IF('Set de base'!C18=TRUE,1,0)+IF('Set de base'!C35=TRUE,1,0)+IF('Set de base'!C41=TRUE,1,0)+IF('Set de base'!C119=TRUE,1,0)+IF('Set de base'!C160=TRUE,1,0)+IF('Set de base'!C180=TRUE,1,0)+IF('Set de base'!C181=TRUE,1,0))/7 -> 0
A51: Ralph Boschung | B51: 2 | C51: =IF('Set de base'!C71=TRUE,1,0)+IF('Set de base'!C135=TRUE,1,0) -> 0 | D51: =(IF('Set de base'!C71=TRUE,1,0)+IF('Set de base'!C135=TRUE,1,0))/2 -> 0
A52: Richard Verschoor | B52: 2 | C52: =IF('Set de base'!C70=TRUE,1,0)+IF('Set de base'!C134=TRUE,1,0) -> 0 | D52: =(IF('Set de base'!C70=TRUE,1,0)+IF('Set de base'!C134=TRUE,1,0))/2 -> 0
A53: Robert Shwartzman | B53: 2 | C53: =IF('Set de base'!C65=TRUE,1,0)+IF('Set de base'!C129=TRUE,1,0) -> 0 | D53: =(IF('Set de base'!C65=TRUE,1,0)+IF('Set de base'!C129=TRUE,1,0))/2 -> 0
A54: Roy Nissany | B54: 2 | C54: =IF('Set de base'!C79=TRUE,1,0)+IF('Set de base'!C143=TRUE,1,0) -> 0 | D54: =(IF('Set de base'!C79=TRUE,1,0)+IF('Set de base'!C143=TRUE,1,0))/2 -> 0
A55: Sebastian Vettel | B55: 8 | C55: =IF('Set de base'!C12=TRUE,1,0)+IF('Set de base'!C28=TRUE,1,0)+IF('Set de base'!C32=TRUE,1,0)+IF('Set de base'!C52=TRUE,1,0)+IF('Set de base'!C113=TRUE,1,0)+IF('Set de base'!C175=TRUE,1,0)+IF('Set de base'!C182=TRUE,1,0)+IF('Set de base'!C203=TRUE,1,0) -> 0 | D55: =(IF('Set de base'!C12=TRUE,1,0)+IF('Set de base'!C28=TRUE,1,0)+IF('Set de base'!C32=TRUE,1,0)+IF('Set de base'!C52=TRUE,1,0)+IF('Set de base'!C113=TRUE,1,0)+IF('Set de base'!C175=TRUE,1,0)+IF('Set de base'!C182=TRUE,1,0)+IF('Set de base'!C203=TRUE,1,0))/8 -> 0
A56: Sergio Pérez | B56: 7 | C56: =IF('Set de base'!C9=TRUE,1,0)+IF('Set de base'!C51=TRUE,1,0)+IF('Set de base'!C110=TRUE,1,0)+IF('Set de base'!C168=TRUE,1,0)+IF('Set de base'!C177=TRUE,1,0)+IF('Set de base'!C186=TRUE,1,0)+IF('Set de base'!C202=TRUE,1,0) -> 0 | D56: =(IF('Set de base'!C9=TRUE,1,0)+IF('Set de base'!C51=TRUE,1,0)+IF('Set de base'!C110=TRUE,1,0)+IF('Set de base'!C168=TRUE,1,0)+IF('Set de base'!C177=TRUE,1,0)+IF('Set de base'!C186=TRUE,1,0)+IF('Set de base'!C202=TRUE,1,0))/7 -> 0
A57: Théo Pourchaire | B57: 2 | C57: =IF('Set de base'!C85=TRUE,1,0)+IF('Set de base'!C149=TRUE,1,0) -> 0 | D57: =(IF('Set de base'!C85=TRUE,1,0)+IF('Set de base'!C149=TRUE,1,0))/2 -> 0
A58: Valtteri Bottas | B58: 8 | C58: =IF('Set de base'!C7=TRUE,1,0)+IF('Set de base'!C26=TRUE,1,0)+IF('Set de base'!C49=TRUE,1,0)+IF('Set de base'!C108=TRUE,1,0)+IF('Set de base'!C153=TRUE,1,0)+IF('Set de base'!C162=TRUE,1,0)+IF('Set de base'!C191=TRUE,1,0)+IF('Set de base'!C200=TRUE,1,0) -> 0 | D58: =(IF('Set de base'!C7=TRUE,1,0)+IF('Set de base'!C26=TRUE,1,0)+IF('Set de base'!C49=TRUE,1,0)+IF('Set de base'!C108=TRUE,1,0)+IF('Set de base'!C153=TRUE,1,0)+IF('Set de base'!C162=TRUE,1,0)+IF('Set de base'!C191=TRUE,1,0)+IF('Set de base'!C200=TRUE,1,0))/8 -> 0
A59: Yuki Tsunoda | B59: 6 | C59: =IF('Set de base'!C19=TRUE,1,0)+IF('Set de base'!C42=TRUE,1,0)+IF('Set de base'!C54=TRUE,1,0)+IF('Set de base'!C120=TRUE,1,0)+IF('Set de base'!C194=TRUE,1,0)+IF('Set de base'!C205=TRUE,1,0) -> 0 | D59: =(IF('Set de base'!C19=TRUE,1,0)+IF('Set de base'!C42=TRUE,1,0)+IF('Set de base'!C54=TRUE,1,0)+IF('Set de base'!C120=TRUE,1,0)+IF('Set de base'!C194=TRUE,1,0)+IF('Set de base'!C205=TRUE,1,0))/6 -> 0
A60: Zhou Guanyu | B60: 2 | C60: =IF('Set de base'!C68=TRUE,1,0)+IF('Set de base'!C132=TRUE,1,0) -> 0 | D60: =(IF('Set de base'!C68=TRUE,1,0)+IF('Set de base'!C132=TRUE,1,0))/2 -> 0
A61: Romain Grosjean | B61: 1 | C61: =IF('Set de base'!C174=TRUE,1,0) -> 0 | D61: =(IF('Set de base'!C174=TRUE,1,0))/1 -> 0
A62: Alexander Albon | B62: 1 | C62: =IF('Set de base'!C187=TRUE,1,0) -> 0 | D62: =(IF('Set de base'!C187=TRUE,1,0))/1 -> 0

Sheet Set de base
A1: Topps Chrome F1 2021 — Set de base
A2: Suivi de collection — checklist complète
A3: Cochez les cartes possédées. Utilisez les boutons − / + à gauche pour replier ou déplier chaque subset.
A4: N° | B4: Carte | C4: Standard | D4: Refractor | E4: Black & White Raywave | F4: Purple Refractor /399 | G4: Checkered Flag | H4: Green Raywave /99 | I4: Purple Checker Flag /199 | J4: Purple/Green Refractor | K4: Gold/Purple Refractor | L4: Gold Checker Flag /50 | M4: Orange/Red Refractor | N4: Gold Refractor /50 | O4: Gold Wave Refractor /50 | P4: Red/Green Refractor | Q4: Orange Refractor /25 | R4: Orange Wave Refractor /25 | S4: Orange Checker Flag /25 | T4: Red RayWave /5 | U4: Red Checker Flag /5 | V4: Red Refractor /5 | W4: Red Wave Refractor /5 | X4: Printing plate /1 | Y4: Black RayWave /1 | Z4: Superfractor /1 | AA4: Progression
A5: F1 RACERS · 57 cartes | AA5: =COUNTIF(C6:Z62,TRUE)/1368 -> 0
A6: #1 | B6: Lewis Hamilton | C6: FALSE | D6: FALSE | E6: FALSE | F6: FALSE | G6: FALSE | H6: FALSE | I6: FALSE | J6: FALSE | K6: FALSE | L6: FALSE | M6: FALSE | N6: FALSE | O6: FALSE | P6: FALSE | Q6: FALSE | R6: FALSE | S6: FALSE | T6: FALSE | U6: FALSE | V6: FALSE | W6: FALSE | X6: FALSE | Y6: FALSE | Z6: FALSE | AA6: =COUNTIF(C6:Z6,TRUE)/24 -> 0
A7: #2 | B7: Valtteri Bottas | C7: FALSE | D7: FALSE | E7: FALSE | F7: FALSE | G7: FALSE | H7: FALSE | I7: FALSE | J7: FALSE | K7: FALSE | L7: FALSE | M7: FALSE | N7: FALSE | O7: FALSE | P7: FALSE | Q7: FALSE | R7: FALSE | S7: FALSE | T7: FALSE | U7: FALSE | V7: FALSE | W7: FALSE | X7: FALSE | Y7: FALSE | Z7: FALSE | AA7: =COUNTIF(C7:Z7,TRUE)/24 -> 0
A8: #3 | B8: Max Verstappen | C8: FALSE | D8: FALSE | E8: FALSE | F8: FALSE | G8: FALSE | H8: FALSE | I8: FALSE | J8: FALSE | K8: FALSE | L8: FALSE | M8: FALSE | N8: FALSE | O8: FALSE | P8: FALSE | Q8: FALSE | R8: FALSE | S8: FALSE | T8: FALSE | U8: FALSE | V8: FALSE | W8: FALSE | X8: FALSE | Y8: FALSE | Z8: FALSE | AA8: =COUNTIF(C8:Z8,TRUE)/24 -> 0
A9: #4 | B9: Sergio Pérez | C9: FALSE | D9: FALSE | E9: FALSE | F9: FALSE | G9: FALSE | H9: FALSE | I9: FALSE | J9: FALSE | K9: FALSE | L9: FALSE | M9: FALSE | N9: FALSE | O9: FALSE | P9: FALSE | Q9: FALSE | R9: FALSE | S9: FALSE | T9: FALSE | U9: FALSE | V9: FALSE | W9: FALSE | X9: FALSE | Y9: FALSE | Z9: FALSE | AA9: =COUNTIF(C9:Z9,TRUE)/24 -> 0
A10: #5 | B10: Daniel Ricciardo | C10: FALSE | D10: FALSE | E10: FALSE | F10: FALSE | G10: FALSE | H10: FALSE | I10: FALSE | J10: FALSE | K10: FALSE | L10: FALSE | M10: FALSE | N10: FALSE | O10: FALSE | P10: FALSE | Q10: FALSE | R10: FALSE | S10: FALSE | T10: FALSE | U10: FALSE | V10: FALSE | W10: FALSE | X10: FALSE | Y10: FALSE | Z10: FALSE | AA10: =COUNTIF(C10:Z10,TRUE)/24 -> 0
A11: #6 | B11: Lando Norris | C11: FALSE | D11: FALSE | E11: FALSE | F11: FALSE | G11: FALSE | H11: FALSE | I11: FALSE | J11: FALSE | K11: FALSE | L11: FALSE | M11: FALSE | N11: FALSE | O11: FALSE | P11: FALSE | Q11: FALSE | R11: FALSE | S11: FALSE | T11: FALSE | U11: FALSE | V11: FALSE | W11: FALSE | X11: FALSE | Y11: FALSE | Z11: FALSE | AA11: =COUNTIF(C11:Z11,TRUE)/24 -> 0
A12: #7 | B12: Sebastian Vettel | C12: FALSE | D12: FALSE | E12: FALSE | F12: FALSE | G12: FALSE | H12: FALSE | I12: FALSE | J12: FALSE | K12: FALSE | L12: FALSE | M12: FALSE | N12: FALSE | O12: FALSE | P12: FALSE | Q12: FALSE | R12: FALSE | S12: FALSE | T12: FALSE | U12: FALSE | V12: FALSE | W12: FALSE | X12: FALSE | Y12: FALSE | Z12: FALSE | AA12: =COUNTIF(C12:Z12,TRUE)/24 -> 0
A13: #8 | B13: Lance Stroll | C13: FALSE | D13: FALSE | E13: FALSE | F13: FALSE | G13: FALSE | H13: FALSE | I13: FALSE | J13: FALSE | K13: FALSE | L13: FALSE | M13: FALSE | N13: FALSE | O13: FALSE | P13: FALSE | Q13: FALSE | R13: FALSE | S13: FALSE | T13: FALSE | U13: FALSE | V13: FALSE | W13: FALSE | X13: FALSE | Y13: FALSE | Z13: FALSE | AA13: =COUNTIF(C13:Z13,TRUE)/24 -> 0
A14: #9 | B14: Fernando Alonso | C14: FALSE | D14: FALSE | E14: FALSE | F14: FALSE | G14: FALSE | H14: FALSE | I14: FALSE | J14: FALSE | K14: FALSE | L14: FALSE | M14: FALSE | N14: FALSE | O14: FALSE | P14: FALSE | Q14: FALSE | R14: FALSE | S14: FALSE | T14: FALSE | U14: FALSE | V14: FALSE | W14: FALSE | X14: FALSE | Y14: FALSE | Z14: FALSE | AA14: =COUNTIF(C14:Z14,TRUE)/24 -> 0
A15: #10 | B15: Esteban Ocon | C15: FALSE | D15: FALSE | E15: FALSE | F15: FALSE | G15: FALSE | H15: FALSE | I15: FALSE | J15: FALSE | K15: FALSE | L15: FALSE | M15: FALSE | N15: FALSE | O15: FALSE | P15: FALSE | Q15: FALSE | R15: FALSE | S15: FALSE | T15: FALSE | U15: FALSE | V15: FALSE | W15: FALSE | X15: FALSE | Y15: FALSE | Z15: FALSE | AA15: =COUNTIF(C15:Z15,TRUE)/24 -> 0
A16: #11 | B16: Charles Leclerc | C16: FALSE | D16: FALSE | E16: FALSE | F16: FALSE | G16: FALSE | H16: FALSE | I16: FALSE | J16: FALSE | K16: FALSE | L16: FALSE | M16: FALSE | N16: FALSE | O16: FALSE | P16: FALSE | Q16: FALSE | R16: FALSE | S16: FALSE | T16: FALSE | U16: FALSE | V16: FALSE | W16: FALSE | X16: FALSE | Y16: FALSE | Z16: FALSE | AA16: =COUNTIF(C16:Z16,TRUE)/24 -> 0
A17: #12 | B17: Carlos Sainz | C17: FALSE | D17: FALSE | E17: FALSE | F17: FALSE | G17: FALSE | H17: FALSE | I17: FALSE | J17: FALSE | K17: FALSE | L17: FALSE | M17: FALSE | N17: FALSE | O17: FALSE | P17: FALSE | Q17: FALSE | R17: FALSE | S17: FALSE | T17: FALSE | U17: FALSE | V17: FALSE | W17: FALSE | X17: FALSE | Y17: FALSE | Z17: FALSE | AA17: =COUNTIF(C17:Z17,TRUE)/24 -> 0
... A62: #57 | B62: Nikita Mazepin (RC) | C62: FALSE | D62: FALSE | E62: FALSE | F62: FALSE | G62: FALSE | H62: FALSE | I62: FALSE | J62: FALSE | K62: FALSE | L62: FALSE | M62: FALSE | N62: FALSE | O62: FALSE | P62: FALSE | Q62: FALSE | R62: FALSE | S62: FALSE | T62: FALSE | U62: FALSE | V62: FALSE | W62: FALSE | X62: FALSE | Y62: FALSE | Z62: FALSE | AA62: =COUNTIF(C62:Z62,TRUE)/24 -> 0
A64: F2 RACERS FUTURE STARS · 22 cartes | AA64: =COUNTIF(C65:Z86,TRUE)/528 -> 0
A65: #58 | B65: Robert Shwartzman | C65: FALSE | D65: FALSE | E65: FALSE | F65: FALSE | G65: FALSE | H65: FALSE | I65: FALSE | J65: FALSE | K65: FALSE | L65: FALSE | M65: FALSE | N65: FALSE | O65: FALSE | P65: FALSE | Q65: FALSE | R65: FALSE | S65: FALSE | T65: FALSE | U65: FALSE | V65: FALSE | W65: FALSE | X65: FALSE | Y65: FALSE | Z65: FALSE | AA65: =COUNTIF(C65:Z65,TRUE)/24 -> 0
A66: #59 | B66: Oscar Piastri | C66: FALSE | D66: FALSE | E66: FALSE | F66: FALSE | G66: FALSE | H66: FALSE | I66: FALSE | J66: FALSE | K66: FALSE | L66: FALSE | M66: FALSE | N66: FALSE | O66: FALSE | P66: FALSE | Q66: FALSE | R66: FALSE | S66: FALSE | T66: FALSE | U66: FALSE | V66: FALSE | W66: FALSE | X66: FALSE | Y66: FALSE | Z66: FALSE | AA66: =COUNTIF(C66:Z66,TRUE)/24 -> 0
A67: #60 | B67: Felipe Drugovich | C67: FALSE | D67: FALSE | E67: FALSE | F67: FALSE | G67: FALSE | H67: FALSE | I67: FALSE | J67: FALSE | K67: FALSE | L67: FALSE | M67: FALSE | N67: FALSE | O67: FALSE | P67: FALSE | Q67: FALSE | R67: FALSE | S67: FALSE | T67: FALSE | U67: FALSE | V67: FALSE | W67: FALSE | X67: FALSE | Y67: FALSE | Z67: FALSE | AA67: =COUNTIF(C67:Z67,TRUE)/24 -> 0
A68: #61 | B68: Zhou Guanyu | C68: FALSE | D68: FALSE | E68: FALSE | F68: FALSE | G68: FALSE | H68: FALSE | I68: FALSE | J68: FALSE | K68: FALSE | L68: FALSE | M68: FALSE | N68: FALSE | O68: FALSE | P68: FALSE | Q68: FALSE | R68: FALSE | S68: FALSE | T68: FALSE | U68: FALSE | V68: FALSE | W68: FALSE | X68: FALSE | Y68: FALSE | Z68: FALSE | AA68: =COUNTIF(C68:Z68,TRUE)/24 -> 0
A69: #62 | B69: Lirim Zendeli | C69: FALSE | D69: FALSE | E69: FALSE | F69: FALSE | G69: FALSE | H69: FALSE | I69: FALSE | J69: FALSE | K69: FALSE | L69: FALSE | M69: FALSE | N69: FALSE | O69: FALSE | P69: FALSE | Q69: FALSE | R69: FALSE | S69: FALSE | T69: FALSE | U69: FALSE | V69: FALSE | W69: FALSE | X69: FALSE | Y69: FALSE | Z69: FALSE | AA69: =COUNTIF(C69:Z69,TRUE)/24 -> 0
A70: #63 | B70: Richard Verschoor | C70: FALSE | D70: FALSE | E70: FALSE | F70: FALSE | G70: FALSE | H70: FALSE | I70: FALSE | J70: FALSE | K70: FALSE | L70: FALSE | M70: FALSE | N70: FALSE | O70: FALSE | P70: FALSE | Q70: FALSE | R70: FALSE | S70: FALSE | T70: FALSE | U70: FALSE | V70: FALSE | W70: FALSE | X70: FALSE | Y70: FALSE | Z70: FALSE | AA70: =COUNTIF(C70:Z70,TRUE)/24 -> 0
A71: #64 | B71: Ralph Boschung | C71: FALSE | D71: FALSE | E71: FALSE | F71: FALSE | G71: FALSE | H71: FALSE | I71: FALSE | J71: FALSE | K71: FALSE | L71: FALSE | M71: FALSE | N71: FALSE | O71: FALSE | P71: FALSE | Q71: FALSE | R71: FALSE | S71: FALSE | T71: FALSE | U71: FALSE | V71: FALSE | W71: FALSE | X71: FALSE | Y71: FALSE | Z71: FALSE | AA71: =COUNTIF(C71:Z71,TRUE)/24 -> 0
A72: #65 | B72: Gianluca Petecof | C72: FALSE | D72: FALSE | E72: FALSE | F72: FALSE | G72: FALSE | H72: FALSE | I72: FALSE | J72: FALSE | K72: FALSE | L72: FALSE | M72: FALSE | N72: FALSE | O72: FALSE | P72: FALSE | Q72: FALSE | R72: FALSE | S72: FALSE | T72: FALSE | U72: FALSE | V72: FALSE | W72: FALSE | X72: FALSE | Y72: FALSE | Z72: FALSE | AA72: =COUNTIF(C72:Z72,TRUE)/24 -> 0
A73: #66 | B73: Dan Ticktum | C73: FALSE | D73: FALSE | E73: FALSE | F73: FALSE | G73: FALSE | H73: FALSE | I73: FALSE | J73: FALSE | K73: FALSE | L73: FALSE | M73: FALSE | N73: FALSE | O73: FALSE | P73: FALSE | Q73: FALSE | R73: FALSE | S73: FALSE | T73: FALSE | U73: FALSE | V73: FALSE | W73: FALSE | X73: FALSE | Y73: FALSE | Z73: FALSE | AA73: =COUNTIF(C73:Z73,TRUE)/24 -> 0
A74: #67 | B74: Jehan Daruvala | C74: FALSE | D74: FALSE | E74: FALSE | F74: FALSE | G74: FALSE | H74: FALSE | I74: FALSE | J74: FALSE | K74: FALSE | L74: FALSE | M74: FALSE | N74: FALSE | O74: FALSE | P74: FALSE | Q74: FALSE | R74: FALSE | S74: FALSE | T74: FALSE | U74: FALSE | V74: FALSE | W74: FALSE | X74: FALSE | Y74: FALSE | Z74: FALSE | AA74: =COUNTIF(C74:Z74,TRUE)/24 -> 0
A75: #68 | B75: Liam Lawson | C75: FALSE | D75: FALSE | E75: FALSE | F75: FALSE | G75: FALSE | H75: FALSE | I75: FALSE | J75: FALSE | K75: FALSE | L75: FALSE | M75: FALSE | N75: FALSE | O75: FALSE | P75: FALSE | Q75: FALSE | R75: FALSE | S75: FALSE | T75: FALSE | U75: FALSE | V75: FALSE | W75: FALSE | X75: FALSE | Y75: FALSE | Z75: FALSE | AA75: =COUNTIF(C75:Z75,TRUE)/24 -> 0
A76: #69 | B76: Jüri Vips | C76: FALSE | D76: FALSE | E76: FALSE | F76: FALSE | G76: FALSE | H76: FALSE | I76: FALSE | J76: FALSE | K76: FALSE | L76: FALSE | M76: FALSE | N76: FALSE | O76: FALSE | P76: FALSE | Q76: FALSE | R76: FALSE | S76: FALSE | T76: FALSE | U76: FALSE | V76: FALSE | W76: FALSE | X76: FALSE | Y76: FALSE | Z76: FALSE | AA76: =COUNTIF(C76:Z76,TRUE)/24 -> 0
... A86: #79 | B86: Christian Lundgaard | C86: FALSE | D86: FALSE | E86: FALSE | F86: FALSE | G86: FALSE | H86: FALSE | I86: FALSE | J86: FALSE | K86: FALSE | L86: FALSE | M86: FALSE | N86: FALSE | O86: FALSE | P86: FALSE | Q86: FALSE | R86: FALSE | S86: FALSE | T86: FALSE | U86: FALSE | V86: FALSE | W86: FALSE | X86: FALSE | Y86: FALSE | Z86: FALSE | AA86: =COUNTIF(C86:Z86,TRUE)/24 -> 0
A88: F1 CREW · 16 cartes | AA88: =COUNTIF(C89:Z104,TRUE)/384 -> 0
A89: #80 | B89: James Allison | C89: FALSE | D89: FALSE | E89: FALSE | F89: FALSE | G89: FALSE | H89: FALSE | I89: FALSE | J89: FALSE | K89: FALSE | L89: FALSE | M89: FALSE | N89: FALSE | O89: FALSE | P89: FALSE | Q89: FALSE | R89: FALSE | S89: FALSE | T89: FALSE | U89: FALSE | V89: FALSE | W89: FALSE | X89: FALSE | Y89: FALSE | Z89: FALSE | AA89: =COUNTIF(C89:Z89,TRUE)/24 -> 0
A90: #81 | B90: Toto Wolff | C90: FALSE | D90: FALSE | E90: FALSE | F90: FALSE | G90: FALSE | H90: FALSE | I90: FALSE | J90: FALSE | K90: FALSE | L90: FALSE | M90: FALSE | N90: FALSE | O90: FALSE | P90: FALSE | Q90: FALSE | R90: FALSE | S90: FALSE | T90: FALSE | U90: FALSE | V90: FALSE | W90: FALSE | X90: FALSE | Y90: FALSE | Z90: FALSE | AA90: =COUNTIF(C90:Z90,TRUE)/24 -> 0
A91: #82 | B91: Davide Brivio | C91: FALSE | D91: FALSE | E91: FALSE | F91: FALSE | G91: FALSE | H91: FALSE | I91: FALSE | J91: FALSE | K91: FALSE | L91: FALSE | M91: FALSE | N91: FALSE | O91: FALSE | P91: FALSE | Q91: FALSE | R91: FALSE | S91: FALSE | T91: FALSE | U91: FALSE | V91: FALSE | W91: FALSE | X91: FALSE | Y91: FALSE | Z91: FALSE | AA91: =COUNTIF(C91:Z91,TRUE)/24 -> 0
A92: #83 | B92: Mattia Binotto | C92: FALSE | D92: FALSE | E92: FALSE | F92: FALSE | G92: FALSE | H92: FALSE | I92: FALSE | J92: FALSE | K92: FALSE | L92: FALSE | M92: FALSE | N92: FALSE | O92: FALSE | P92: FALSE | Q92: FALSE | R92: FALSE | S92: FALSE | T92: FALSE | U92: FALSE | V92: FALSE | W92: FALSE | X92: FALSE | Y92: FALSE | Z92: FALSE | AA92: =COUNTIF(C92:Z92,TRUE)/24 -> 0
A93: #84 | B93: Christian Horner | C93: FALSE | D93: FALSE | E93: FALSE | F93: FALSE | G93: FALSE | H93: FALSE | I93: FALSE | J93: FALSE | K93: FALSE | L93: FALSE | M93: FALSE | N93: FALSE | O93: FALSE | P93: FALSE | Q93: FALSE | R93: FALSE | S93: FALSE | T93: FALSE | U93: FALSE | V93: FALSE | W93: FALSE | X93: FALSE | Y93: FALSE | Z93: FALSE | AA93: =COUNTIF(C93:Z93,TRUE)/24 -> 0
A94: #85 | B94: Pierre Waché | C94: FALSE | D94: FALSE | E94: FALSE | F94: FALSE | G94: FALSE | H94: FALSE | I94: FALSE | J94: FALSE | K94: FALSE | L94: FALSE | M94: FALSE | N94: FALSE | O94: FALSE | P94: FALSE | Q94: FALSE | R94: FALSE | S94: FALSE | T94: FALSE | U94: FALSE | V94: FALSE | W94: FALSE | X94: FALSE | Y94: FALSE | Z94: FALSE | AA94: =COUNTIF(C94:Z94,TRUE)/24 -> 0
A95: #86 | B95: Andreas Seidl | C95: FALSE | D95: FALSE | E95: FALSE | F95: FALSE | G95: FALSE | H95: FALSE | I95: FALSE | J95: FALSE | K95: FALSE | L95: FALSE | M95: FALSE | N95: FALSE | O95: FALSE | P95: FALSE | Q95: FALSE | R95: FALSE | S95: FALSE | T95: FALSE | U95: FALSE | V95: FALSE | W95: FALSE | X95: FALSE | Y95: FALSE | Z95: FALSE | AA95: =COUNTIF(C95:Z95,TRUE)/24 -> 0
A96: #87 | B96: James Key | C96: FALSE | D96: FALSE | E96: FALSE | F96: FALSE | G96: FALSE | H96: FALSE | I96: FALSE | J96: FALSE | K96: FALSE | L96: FALSE | M96: FALSE | N96: FALSE | O96: FALSE | P96: FALSE | Q96: FALSE | R96: FALSE | S96: FALSE | T96: FALSE | U96: FALSE | V96: FALSE | W96: FALSE | X96: FALSE | Y96: FALSE | Z96: FALSE | AA96: =COUNTIF(C96:Z96,TRUE)/24 -> 0
A97: #88 | B97: Franz Tost | C97: FALSE | D97: FALSE | E97: FALSE | F97: FALSE | G97: FALSE | H97: FALSE | I97: FALSE | J97: FALSE | K97: FALSE | L97: FALSE | M97: FALSE | N97: FALSE | O97: FALSE | P97: FALSE | Q97: FALSE | R97: FALSE | S97: FALSE | T97: FALSE | U97: FALSE | V97: FALSE | W97: FALSE | X97: FALSE | Y97: FALSE | Z97: FALSE | AA97: =COUNTIF(C97:Z97,TRUE)/24 -> 0
A98: #89 | B98: Jody Egginton | C98: FALSE | D98: FALSE | E98: FALSE | F98: FALSE | G98: FALSE | H98: FALSE | I98: FALSE | J98: FALSE | K98: FALSE | L98: FALSE | M98: FALSE | N98: FALSE | O98: FALSE | P98: FALSE | Q98: FALSE | R98: FALSE | S98: FALSE | T98: FALSE | U98: FALSE | V98: FALSE | W98: FALSE | X98: FALSE | Y98: FALSE | Z98: FALSE | AA98: =COUNTIF(C98:Z98,TRUE)/24 -> 0
A99: #90 | B99: Jost Capito | C99: FALSE | D99: FALSE | E99: FALSE | F99: FALSE | G99: FALSE | H99: FALSE | I99: FALSE | J99: FALSE | K99: FALSE | L99: FALSE | M99: FALSE | N99: FALSE | O99: FALSE | P99: FALSE | Q99: FALSE | R99: FALSE | S99: FALSE | T99: FALSE | U99: FALSE | V99: FALSE | W99: FALSE | X99: FALSE | Y99: FALSE | Z99: FALSE | AA99: =COUNTIF(C99:Z99,TRUE)/24 -> 0
A100: #91 | B100: Otmar Szafnauer | C100: FALSE | D100: FALSE | E100: FALSE | F100: FALSE | G100: FALSE | H100: FALSE | I100: FALSE | J100: FALSE | K100: FALSE | L100: FALSE | M100: FALSE | N100: FALSE | O100: FALSE | P100: FALSE | Q100: FALSE | R100: FALSE | S100: FALSE | T100: FALSE | U100: FALSE | V100: FALSE | W100: FALSE | X100: FALSE | Y100: FALSE | Z100: FALSE | AA100: =COUNTIF(C100:Z100,TRUE)/24 -> 0
... A104: #95 | B104: Jan Monchaux | C104: FALSE | D104: FALSE | E104: FALSE | F104: FALSE | G104: FALSE | H104: FALSE | I104: FALSE | J104: FALSE | K104: FALSE | L104: FALSE | M104: FALSE | N104: FALSE | O104: FALSE | P104: FALSE | Q104: FALSE | R104: FALSE | S104: FALSE | T104: FALSE | U104: FALSE | V104: FALSE | W104: FALSE | X104: FALSE | Y104: FALSE | Z104: FALSE | AA104: =COUNTIF(C104:Z104,TRUE)/24 -> 0
A106: F1 CARS · 20 cartes | AA106: =COUNTIF(C107:Z126,TRUE)/480 -> 0
A107: #96 | B107: Lewis Hamilton | C107: FALSE | D107: FALSE | E107: FALSE | F107: FALSE | G107: FALSE | H107: FALSE | I107: FALSE | J107: FALSE | K107: FALSE | L107: FALSE | M107: FALSE | N107: FALSE | O107: FALSE | P107: FALSE | Q107: FALSE | R107: FALSE | S107: FALSE | T107: FALSE | U107: FALSE | V107: FALSE | W107: FALSE | X107: FALSE | Y107: FALSE | Z107: FALSE | AA107: =COUNTIF(C107:Z107,TRUE)/24 -> 0
A108: #97 | B108: Valtteri Bottas | C108: FALSE | D108: FALSE | E108: FALSE | F108: FALSE | G108: FALSE | H108: FALSE | I108: FALSE | J108: FALSE | K108: FALSE | L108: FALSE | M108: FALSE | N108: FALSE | O108: FALSE | P108: FALSE | Q108: FALSE | R108: FALSE | S108: FALSE | T108: FALSE | U108: FALSE | V108: FALSE | W108: FALSE | X108: FALSE | Y108: FALSE | Z108: FALSE | AA108: =COUNTIF(C108:Z108,TRUE)/24 -> 0
A109: #98 | B109: Max Verstappen | C109: FALSE | D109: FALSE | E109: FALSE | F109: FALSE | G109: FALSE | H109: FALSE | I109: FALSE | J109: FALSE | K109: FALSE | L109: FALSE | M109: FALSE | N109: FALSE | O109: FALSE | P109: FALSE | Q109: FALSE | R109: FALSE | S109: FALSE | T109: FALSE | U109: FALSE | V109: FALSE | W109: FALSE | X109: FALSE | Y109: FALSE | Z109: FALSE | AA109: =COUNTIF(C109:Z109,TRUE)/24 -> 0
A110: #99 | B110: Sergio Pérez | C110: FALSE | D110: FALSE | E110: FALSE | F110: FALSE | G110: FALSE | H110: FALSE | I110: FALSE | J110: FALSE | K110: FALSE | L110: FALSE | M110: FALSE | N110: FALSE | O110: FALSE | P110: FALSE | Q110: FALSE | R110: FALSE | S110: FALSE | T110: FALSE | U110: FALSE | V110: FALSE | W110: FALSE | X110: FALSE | Y110: FALSE | Z110: FALSE | AA110: =COUNTIF(C110:Z110,TRUE)/24 -> 0
A111: #100 | B111: Daniel Ricciardo | C111: FALSE | D111: FALSE | E111: FALSE | F111: FALSE | G111: FALSE | H111: FALSE | I111: FALSE | J111: FALSE | K111: FALSE | L111: FALSE | M111: FALSE | N111: FALSE | O111: FALSE | P111: FALSE | Q111: FALSE | R111: FALSE | S111: FALSE | T111: FALSE | U111: FALSE | V111: FALSE | W111: FALSE | X111: FALSE | Y111: FALSE | Z111: FALSE | AA111: =COUNTIF(C111:Z111,TRUE)/24 -> 0
A112: #101 | B112: Lando Norris | C112: FALSE | D112: FALSE | E112: FALSE | F112: FALSE | G112: FALSE | H112: FALSE | I112: FALSE | J112: FALSE | K112: FALSE | L112: FALSE | M112: FALSE | N112: FALSE | O112: FALSE | P112: FALSE | Q112: FALSE | R112: FALSE | S112: FALSE | T112: FALSE | U112: FALSE | V112: FALSE | W112: FALSE | X112: FALSE | Y112: FALSE | Z112: FALSE | AA112: =COUNTIF(C112:Z112,TRUE)/24 -> 0
A113: #102 | B113: Sebastian Vettel | C113: FALSE | D113: FALSE | E113: FALSE | F113: FALSE | G113: FALSE | H113: FALSE | I113: FALSE | J113: FALSE | K113: FALSE | L113: FALSE | M113: FALSE | N113: FALSE | O113: FALSE | P113: FALSE | Q113: FALSE | R113: FALSE | S113: FALSE | T113: FALSE | U113: FALSE | V113: FALSE | W113: FALSE | X113: FALSE | Y113: FALSE | Z113: FALSE | AA113: =COUNTIF(C113:Z113,TRUE)/24 -> 0
A114: #103 | B114: Lance Stroll | C114: FALSE | D114: FALSE | E114: FALSE | F114: FALSE | G114: FALSE | H114: FALSE | I114: FALSE | J114: FALSE | K114: FALSE | L114: FALSE | M114: FALSE | N114: FALSE | O114: FALSE | P114: FALSE | Q114: FALSE | R114: FALSE | S114: FALSE | T114: FALSE | U114: FALSE | V114: FALSE | W114: FALSE | X114: FALSE | Y114: FALSE | Z114: FALSE | AA114: =COUNTIF(C114:Z114,TRUE)/24 -> 0
A115: #104 | B115: Fernando Alonso | C115: FALSE | D115: FALSE | E115: FALSE | F115: FALSE | G115: FALSE | H115: FALSE | I115: FALSE | J115: FALSE | K115: FALSE | L115: FALSE | M115: FALSE | N115: FALSE | O115: FALSE | P115: FALSE | Q115: FALSE | R115: FALSE | S115: FALSE | T115: FALSE | U115: FALSE | V115: FALSE | W115: FALSE | X115: FALSE | Y115: FALSE | Z115: FALSE | AA115: =COUNTIF(C115:Z115,TRUE)/24 -> 0
A116: #105 | B116: Esteban Ocon | C116: FALSE | D116: FALSE | E116: FALSE | F116: FALSE | G116: FALSE | H116: FALSE | I116: FALSE | J116: FALSE | K116: FALSE | L116: FALSE | M116: FALSE | N116: FALSE | O116: FALSE | P116: FALSE | Q116: FALSE | R116: FALSE | S116: FALSE | T116: FALSE | U116: FALSE | V116: FALSE | W116: FALSE | X116: FALSE | Y116: FALSE | Z116: FALSE | AA116: =COUNTIF(C116:Z116,TRUE)/24 -> 0
A117: #106 | B117: Charles Leclerc | C117: FALSE | D117: FALSE | E117: FALSE | F117: FALSE | G117: FALSE | H117: FALSE | I117: FALSE | J117: FALSE | K117: FALSE | L117: FALSE | M117: FALSE | N117: FALSE | O117: FALSE | P117: FALSE | Q117: FALSE | R117: FALSE | S117: FALSE | T117: FALSE | U117: FALSE | V117: FALSE | W117: FALSE | X117: FALSE | Y117: FALSE | Z117: FALSE | AA117: =COUNTIF(C117:Z117,TRUE)/24 -> 0
A118: #107 | B118: Carlos Sainz | C118: FALSE | D118: FALSE | E118: FALSE | F118: FALSE | G118: FALSE | H118: FALSE | I118: FALSE | J118: FALSE | K118: FALSE | L118: FALSE | M118: FALSE | N118: FALSE | O118: FALSE | P118: FALSE | Q118: FALSE | R118: FALSE | S118: FALSE | T118: FALSE | U118: FALSE | V118: FALSE | W118: FALSE | X118: FALSE | Y118: FALSE | Z118: FALSE | AA118: =COUNTIF(C118:Z118,TRUE)/24 -> 0
... A126: #115 | B126: Nicholas Latifi | C126: FALSE | D126: FALSE | E126: FALSE | F126: FALSE | G126: FALSE | H126: FALSE | I126: FALSE | J126: FALSE | K126: FALSE | L126: FALSE | M126: FALSE | N126: FALSE | O126: FALSE | P126: FALSE | Q126: FALSE | R126: FALSE | S126: FALSE | T126: FALSE | U126: FALSE | V126: FALSE | W126: FALSE | X126: FALSE | Y126: FALSE | Z126: FALSE | AA126: =COUNTIF(C126:Z126,TRUE)/24 -> 0
A128: F2 CARS · 22 cartes | AA128: =COUNTIF(C129:Z150,TRUE)/528 -> 0
A129: #116 | B129: Robert Shwartzman | C129: FALSE | D129: FALSE | E129: FALSE | F129: FALSE | G129: FALSE | H129: FALSE | I129: FALSE | J129: FALSE | K129: FALSE | L129: FALSE | M129: FALSE | N129: FALSE | O129: FALSE | P129: FALSE | Q129: FALSE | R129: FALSE | S129: FALSE | T129: FALSE | U129: FALSE | V129: FALSE | W129: FALSE | X129: FALSE | Y129: FALSE | Z129: FALSE | AA129: =COUNTIF(C129:Z129,TRUE)/24 -> 0
A130: #117 | B130: Oscar Piastri | C130: FALSE | D130: FALSE | E130: FALSE | F130: FALSE | G130: FALSE | H130: FALSE | I130: FALSE | J130: FALSE | K130: FALSE | L130: FALSE | M130: FALSE | N130: FALSE | O130: FALSE | P130: FALSE | Q130: FALSE | R130: FALSE | S130: FALSE | T130: FALSE | U130: FALSE | V130: FALSE | W130: FALSE | X130: FALSE | Y130: FALSE | Z130: FALSE | AA130: =COUNTIF(C130:Z130,TRUE)/24 -> 0
A131: #118 | B131: Felipe Drugovich | C131: FALSE | D131: FALSE | E131: FALSE | F131: FALSE | G131: FALSE | H131: FALSE | I131: FALSE | J131: FALSE | K131: FALSE | L131: FALSE | M131: FALSE | N131: FALSE | O131: FALSE | P131: FALSE | Q131: FALSE | R131: FALSE | S131: FALSE | T131: FALSE | U131: FALSE | V131: FALSE | W131: FALSE | X131: FALSE | Y131: FALSE | Z131: FALSE | AA131: =COUNTIF(C131:Z131,TRUE)/24 -> 0
A132: #119 | B132: Zhou Guanyu | C132: FALSE | D132: FALSE | E132: FALSE | F132: FALSE | G132: FALSE | H132: FALSE | I132: FALSE | J132: FALSE | K132: FALSE | L132: FALSE | M132: FALSE | N132: FALSE | O132: FALSE | P132: FALSE | Q132: FALSE | R132: FALSE | S132: FALSE | T132: FALSE | U132: FALSE | V132: FALSE | W132: FALSE | X132: FALSE | Y132: FALSE | Z132: FALSE | AA132: =COUNTIF(C132:Z132,TRUE)/24 -> 0
A133: #120 | B133: Lirim Zendeli | C133: FALSE | D133: FALSE | E133: FALSE | F133: FALSE | G133: FALSE | H133: FALSE | I133: FALSE | J133: FALSE | K133: FALSE | L133: FALSE | M133: FALSE | N133: FALSE | O133: FALSE | P133: FALSE | Q133: FALSE | R133: FALSE | S133: FALSE | T133: FALSE | U133: FALSE | V133: FALSE | W133: FALSE | X133: FALSE | Y133: FALSE | Z133: FALSE | AA133: =COUNTIF(C133:Z133,TRUE)/24 -> 0
A134: #121 | B134: Richard Verschoor | C134: FALSE | D134: FALSE | E134: FALSE | F134: FALSE | G134: FALSE | H134: FALSE | I134: FALSE | J134: FALSE | K134: FALSE | L134: FALSE | M134: FALSE | N134: FALSE | O134: FALSE | P134: FALSE | Q134: FALSE | R134: FALSE | S134: FALSE | T134: FALSE | U134: FALSE | V134: FALSE | W134: FALSE | X134: FALSE | Y134: FALSE | Z134: FALSE | AA134: =COUNTIF(C134:Z134,TRUE)/24 -> 0
A135: #122 | B135: Ralph Boschung | C135: FALSE | D135: FALSE | E135: FALSE | F135: FALSE | G135: FALSE | H135: FALSE | I135: FALSE | J135: FALSE | K135: FALSE | L135: FALSE | M135: FALSE | N135: FALSE | O135: FALSE | P135: FALSE | Q135: FALSE | R135: FALSE | S135: FALSE | T135: FALSE | U135: FALSE | V135: FALSE | W135: FALSE | X135: FALSE | Y135: FALSE | Z135: FALSE | AA135: =COUNTIF(C135:Z135,TRUE)/24 -> 0
A136: #123 | B136: Gianluca Petecof | C136: FALSE | D136: FALSE | E136: FALSE | F136: FALSE | G136: FALSE | H136: FALSE | I136: FALSE | J136: FALSE | K136: FALSE | L136: FALSE | M136: FALSE | N136: FALSE | O136: FALSE | P136: FALSE | Q136: FALSE | R136: FALSE | S136: FALSE | T136: FALSE | U136: FALSE | V136: FALSE | W136: FALSE | X136: FALSE | Y136: FALSE | Z136: FALSE | AA136: =COUNTIF(C136:Z136,TRUE)/24 -> 0
A137: #124 | B137: Dan Ticktum | C137: FALSE | D137: FALSE | E137: FALSE | F137: FALSE | G137: FALSE | H137: FALSE | I137: FALSE | J137: FALSE | K137: FALSE | L137: FALSE | M137: FALSE | N137: FALSE | O137: FALSE | P137: FALSE | Q137: FALSE | R137: FALSE | S137: FALSE | T137: FALSE | U137: FALSE | V137: FALSE | W137: FALSE | X137: FALSE | Y137: FALSE | Z137: FALSE | AA137: =COUNTIF(C137:Z137,TRUE)/24 -> 0
A138: #125 | B138: Jehan Daruvala | C138: FALSE | D138: FALSE | E138: FALSE | F138: FALSE | G138: FALSE | H138: FALSE | I138: FALSE | J138: FALSE | K138: FALSE | L138: FALSE | M138: FALSE | N138: FALSE | O138: FALSE | P138: FALSE | Q138: FALSE | R138: FALSE | S138: FALSE | T138: FALSE | U138: FALSE | V138: FALSE | W138: FALSE | X138: FALSE | Y138: FALSE | Z138: FALSE | AA138: =COUNTIF(C138:Z138,TRUE)/24 -> 0
A139: #126 | B139: Liam Lawson | C139: FALSE | D139: FALSE | E139: FALSE | F139: FALSE | G139: FALSE | H139: FALSE | I139: FALSE | J139: FALSE | K139: FALSE | L139: FALSE | M139: FALSE | N139: FALSE | O139: FALSE | P139: FALSE | Q139: FALSE | R139: FALSE | S139: FALSE | T139: FALSE | U139: FALSE | V139: FALSE | W139: FALSE | X139: FALSE | Y139: FALSE | Z139: FALSE | AA139: =COUNTIF(C139:Z139,TRUE)/24 -> 0
A140: #127 | B140: Jüri Vips | C140: FALSE | D140: FALSE | E140: FALSE | F140: FALSE | G140: FALSE | H140: FALSE | I140: FALSE | J140: FALSE | K140: FALSE | L140: FALSE | M140: FALSE | N140: FALSE | O140: FALSE | P140: FALSE | Q140: FALSE | R140: FALSE | S140: FALSE | T140: FALSE | U140: FALSE | V140: FALSE | W140: FALSE | X140: FALSE | Y140: FALSE | Z140: FALSE | AA140: =COUNTIF(C140:Z140,TRUE)/24 -> 0
... A150: #137 | B150: Christian Lundgaard | C150: FALSE | D150: FALSE | E150: FALSE | F150: FALSE | G150: FALSE | H150: FALSE | I150: FALSE | J150: FALSE | K150: FALSE | L150: FALSE | M150: FALSE | N150: FALSE | O150: FALSE | P150: FALSE | Q150: FALSE | R150: FALSE | S150: FALSE | T150: FALSE | U150: FALSE | V150: FALSE | W150: FALSE | X150: FALSE | Y150: FALSE | Z150: FALSE | AA150: =COUNTIF(C150:Z150,TRUE)/24 -> 0
A152: GRAND PRIX WINNERS · 17 cartes | AA152: =COUNTIF(C153:Z169,TRUE)/408 -> 0
A153: #138 | B153: Valtteri Bottas | C153: FALSE | D153: FALSE | E153: FALSE | F153: FALSE | G153: FALSE | H153: FALSE | I153: FALSE | J153: FALSE | K153: FALSE | L153: FALSE | M153: FALSE | N153: FALSE | O153: FALSE | P153: FALSE | Q153: FALSE | R153: FALSE | S153: FALSE | T153: FALSE | U153: FALSE | V153: FALSE | W153: FALSE | X153: FALSE | Y153: FALSE | Z153: FALSE | AA153: =COUNTIF(C153:Z153,TRUE)/24 -> 0
A154: #139 | B154: Lewis Hamilton | C154: FALSE | D154: FALSE | E154: FALSE | F154: FALSE | G154: FALSE | H154: FALSE | I154: FALSE | J154: FALSE | K154: FALSE | L154: FALSE | M154: FALSE | N154: FALSE | O154: FALSE | P154: FALSE | Q154: FALSE | R154: FALSE | S154: FALSE | T154: FALSE | U154: FALSE | V154: FALSE | W154: FALSE | X154: FALSE | Y154: FALSE | Z154: FALSE | AA154: =COUNTIF(C154:Z154,TRUE)/24 -> 0
A155: #140 | B155: Lewis Hamilton | C155: FALSE | D155: FALSE | E155: FALSE | F155: FALSE | G155: FALSE | H155: FALSE | I155: FALSE | J155: FALSE | K155: FALSE | L155: FALSE | M155: FALSE | N155: FALSE | O155: FALSE | P155: FALSE | Q155: FALSE | R155: FALSE | S155: FALSE | T155: FALSE | U155: FALSE | V155: FALSE | W155: FALSE | X155: FALSE | Y155: FALSE | Z155: FALSE | AA155: =COUNTIF(C155:Z155,TRUE)/24 -> 0
A156: #141 | B156: Lewis Hamilton | C156: FALSE | D156: FALSE | E156: FALSE | F156: FALSE | G156: FALSE | H156: FALSE | I156: FALSE | J156: FALSE | K156: FALSE | L156: FALSE | M156: FALSE | N156: FALSE | O156: FALSE | P156: FALSE | Q156: FALSE | R156: FALSE | S156: FALSE | T156: FALSE | U156: FALSE | V156: FALSE | W156: FALSE | X156: FALSE | Y156: FALSE | Z156: FALSE | AA156: =COUNTIF(C156:Z156,TRUE)/24 -> 0
A157: #142 | B157: Max Verstappen | C157: FALSE | D157: FALSE | E157: FALSE | F157: FALSE | G157: FALSE | H157: FALSE | I157: FALSE | J157: FALSE | K157: FALSE | L157: FALSE | M157: FALSE | N157: FALSE | O157: FALSE | P157: FALSE | Q157: FALSE | R157: FALSE | S157: FALSE | T157: FALSE | U157: FALSE | V157: FALSE | W157: FALSE | X157: FALSE | Y157: FALSE | Z157: FALSE | AA157: =COUNTIF(C157:Z157,TRUE)/24 -> 0
A158: #143 | B158: Lewis Hamilton | C158: FALSE | D158: FALSE | E158: FALSE | F158: FALSE | G158: FALSE | H158: FALSE | I158: FALSE | J158: FALSE | K158: FALSE | L158: FALSE | M158: FALSE | N158: FALSE | O158: FALSE | P158: FALSE | Q158: FALSE | R158: FALSE | S158: FALSE | T158: FALSE | U158: FALSE | V158: FALSE | W158: FALSE | X158: FALSE | Y158: FALSE | Z158: FALSE | AA158: =COUNTIF(C158:Z158,TRUE)/24 -> 0
A159: #144 | B159: Lewis Hamilton | C159: FALSE | D159: FALSE | E159: FALSE | F159: FALSE | G159: FALSE | H159: FALSE | I159: FALSE | J159: FALSE | K159: FALSE | L159: FALSE | M159: FALSE | N159: FALSE | O159: FALSE | P159: FALSE | Q159: FALSE | R159: FALSE | S159: FALSE | T159: FALSE | U159: FALSE | V159: FALSE | W159: FALSE | X159: FALSE | Y159: FALSE | Z159: FALSE | AA159: =COUNTIF(C159:Z159,TRUE)/24 -> 0
A160: #145 | B160: Pierre Gasly | C160: FALSE | D160: FALSE | E160: FALSE | F160: FALSE | G160: FALSE | H160: FALSE | I160: FALSE | J160: FALSE | K160: FALSE | L160: FALSE | M160: FALSE | N160: FALSE | O160: FALSE | P160: FALSE | Q160: FALSE | R160: FALSE | S160: FALSE | T160: FALSE | U160: FALSE | V160: FALSE | W160: FALSE | X160: FALSE | Y160: FALSE | Z160: FALSE | AA160: =COUNTIF(C160:Z160,TRUE)/24 -> 0
A161: #146 | B161: Lewis Hamilton | C161: FALSE | D161: FALSE | E161: FALSE | F161: FALSE | G161: FALSE | H161: FALSE | I161: FALSE | J161: FALSE | K161: FALSE | L161: FALSE | M161: FALSE | N161: FALSE | O161: FALSE | P161: FALSE | Q161: FALSE | R161: FALSE | S161: FALSE | T161: FALSE | U161: FALSE | V161: FALSE | W161: FALSE | X161: FALSE | Y161: FALSE | Z161: FALSE | AA161: =COUNTIF(C161:Z161,TRUE)/24 -> 0
A162: #147 | B162: Valtteri Bottas | C162: FALSE | D162: FALSE | E162: FALSE | F162: FALSE | G162: FALSE | H162: FALSE | I162: FALSE | J162: FALSE | K162: FALSE | L162: FALSE | M162: FALSE | N162: FALSE | O162: FALSE | P162: FALSE | Q162: FALSE | R162: FALSE | S162: FALSE | T162: FALSE | U162: FALSE | V162: FALSE | W162: FALSE | X162: FALSE | Y162: FALSE | Z162: FALSE | AA162: =COUNTIF(C162:Z162,TRUE)/24 -> 0
A163: #148 | B163: Lewis Hamilton | C163: FALSE | D163: FALSE | E163: FALSE | F163: FALSE | G163: FALSE | H163: FALSE | I163: FALSE | J163: FALSE | K163: FALSE | L163: FALSE | M163: FALSE | N163: FALSE | O163: FALSE | P163: FALSE | Q163: FALSE | R163: FALSE | S163: FALSE | T163: FALSE | U163: FALSE | V163: FALSE | W163: FALSE | X163: FALSE | Y163: FALSE | Z163: FALSE | AA163: =COUNTIF(C163:Z163,TRUE)/24 -> 0
A164: #149 | B164: Lewis Hamilton | C164: FALSE | D164: FALSE | E164: FALSE | F164: FALSE | G164: FALSE | H164: FALSE | I164: FALSE | J164: FALSE | K164: FALSE | L164: FALSE | M164: FALSE | N164: FALSE | O164: FALSE | P164: FALSE | Q164: FALSE | R164: FALSE | S164: FALSE | T164: FALSE | U164: FALSE | V164: FALSE | W164: FALSE | X164: FALSE | Y164: FALSE | Z164: FALSE | AA164: =COUNTIF(C164:Z164,TRUE)/24 -> 0
... A169: #154 | B169: Max Verstappen | C169: FALSE | D169: FALSE | E169: FALSE | F169: FALSE | G169: FALSE | H169: FALSE | I169: FALSE | J169: FALSE | K169: FALSE | L169: FALSE | M169: FALSE | N169: FALSE | O169: FALSE | P169: FALSE | Q169: FALSE | R169: FALSE | S169: FALSE | T169: FALSE | U169: FALSE | V169: FALSE | W169: FALSE | X169: FALSE | Y169: FALSE | Z169: FALSE | AA169: =COUNTIF(C169:Z169,TRUE)/24 -> 0
A171: GRAND PRIX DRIVER OF THE DAY · 16 cartes | AA171: =COUNTIF(C172:Z187,TRUE)/384 -> 0
A172: #155 | B172: Max Verstappen | C172: FALSE | D172: FALSE | E172: FALSE | F172: FALSE | G172: FALSE | H172: FALSE | I172: FALSE | J172: FALSE | K172: FALSE | L172: FALSE | M172: FALSE | N172: FALSE | O172: FALSE | P172: FALSE | Q172: FALSE | R172: FALSE | S172: FALSE | T172: FALSE | U172: FALSE | V172: FALSE | W172: FALSE | X172: FALSE | Y172: FALSE | Z172: FALSE | AA172: =COUNTIF(C172:Z172,TRUE)/24 -> 0
A173: #156 | B173: George Russell | C173: FALSE | D173: FALSE | E173: FALSE | F173: FALSE | G173: FALSE | H173: FALSE | I173: FALSE | J173: FALSE | K173: FALSE | L173: FALSE | M173: FALSE | N173: FALSE | O173: FALSE | P173: FALSE | Q173: FALSE | R173: FALSE | S173: FALSE | T173: FALSE | U173: FALSE | V173: FALSE | W173: FALSE | X173: FALSE | Y173: FALSE | Z173: FALSE | AA173: =COUNTIF(C173:Z173,TRUE)/24 -> 0
A174: #157 | B174: Romain Grosjean | C174: FALSE | D174: FALSE | E174: FALSE | F174: FALSE | G174: FALSE | H174: FALSE | I174: FALSE | J174: FALSE | K174: FALSE | L174: FALSE | M174: FALSE | N174: FALSE | O174: FALSE | P174: FALSE | Q174: FALSE | R174: FALSE | S174: FALSE | T174: FALSE | U174: FALSE | V174: FALSE | W174: FALSE | X174: FALSE | Y174: FALSE | Z174: FALSE | AA174: =COUNTIF(C174:Z174,TRUE)/24 -> 0
A175: #158 | B175: Sebastian Vettel | C175: FALSE | D175: FALSE | E175: FALSE | F175: FALSE | G175: FALSE | H175: FALSE | I175: FALSE | J175: FALSE | K175: FALSE | L175: FALSE | M175: FALSE | N175: FALSE | O175: FALSE | P175: FALSE | Q175: FALSE | R175: FALSE | S175: FALSE | T175: FALSE | U175: FALSE | V175: FALSE | W175: FALSE | X175: FALSE | Y175: FALSE | Z175: FALSE | AA175: =COUNTIF(C175:Z175,TRUE)/24 -> 0
A176: #159 | B176: Kimi Räikkönen | C176: FALSE | D176: FALSE | E176: FALSE | F176: FALSE | G176: FALSE | H176: FALSE | I176: FALSE | J176: FALSE | K176: FALSE | L176: FALSE | M176: FALSE | N176: FALSE | O176: FALSE | P176: FALSE | Q176: FALSE | R176: FALSE | S176: FALSE | T176: FALSE | U176: FALSE | V176: FALSE | W176: FALSE | X176: FALSE | Y176: FALSE | Z176: FALSE | AA176: =COUNTIF(C176:Z176,TRUE)/24 -> 0
A177: #160 | B177: Sergio Pérez | C177: FALSE | D177: FALSE | E177: FALSE | F177: FALSE | G177: FALSE | H177: FALSE | I177: FALSE | J177: FALSE | K177: FALSE | L177: FALSE | M177: FALSE | N177: FALSE | O177: FALSE | P177: FALSE | Q177: FALSE | R177: FALSE | S177: FALSE | T177: FALSE | U177: FALSE | V177: FALSE | W177: FALSE | X177: FALSE | Y177: FALSE | Z177: FALSE | AA177: =COUNTIF(C177:Z177,TRUE)/24 -> 0
A178: #161 | B178: Max Verstappen | C178: FALSE | D178: FALSE | E178: FALSE | F178: FALSE | G178: FALSE | H178: FALSE | I178: FALSE | J178: FALSE | K178: FALSE | L178: FALSE | M178: FALSE | N178: FALSE | O178: FALSE | P178: FALSE | Q178: FALSE | R178: FALSE | S178: FALSE | T178: FALSE | U178: FALSE | V178: FALSE | W178: FALSE | X178: FALSE | Y178: FALSE | Z178: FALSE | AA178: =COUNTIF(C178:Z178,TRUE)/24 -> 0
A179: #162 | B179: Daniel Ricciardo | C179: FALSE | D179: FALSE | E179: FALSE | F179: FALSE | G179: FALSE | H179: FALSE | I179: FALSE | J179: FALSE | K179: FALSE | L179: FALSE | M179: FALSE | N179: FALSE | O179: FALSE | P179: FALSE | Q179: FALSE | R179: FALSE | S179: FALSE | T179: FALSE | U179: FALSE | V179: FALSE | W179: FALSE | X179: FALSE | Y179: FALSE | Z179: FALSE | AA179: =COUNTIF(C179:Z179,TRUE)/24 -> 0
A180: #163 | B180: Pierre Gasly | C180: FALSE | D180: FALSE | E180: FALSE | F180: FALSE | G180: FALSE | H180: FALSE | I180: FALSE | J180: FALSE | K180: FALSE | L180: FALSE | M180: FALSE | N180: FALSE | O180: FALSE | P180: FALSE | Q180: FALSE | R180: FALSE | S180: FALSE | T180: FALSE | U180: FALSE | V180: FALSE | W180: FALSE | X180: FALSE | Y180: FALSE | Z180: FALSE | AA180: =COUNTIF(C180:Z180,TRUE)/24 -> 0
A181: #164 | B181: Pierre Gasly | C181: FALSE | D181: FALSE | E181: FALSE | F181: FALSE | G181: FALSE | H181: FALSE | I181: FALSE | J181: FALSE | K181: FALSE | L181: FALSE | M181: FALSE | N181: FALSE | O181: FALSE | P181: FALSE | Q181: FALSE | R181: FALSE | S181: FALSE | T181: FALSE | U181: FALSE | V181: FALSE | W181: FALSE | X181: FALSE | Y181: FALSE | Z181: FALSE | AA181: =COUNTIF(C181:Z181,TRUE)/24 -> 0
A182: #165 | B182: Sebastian Vettel | C182: FALSE | D182: FALSE | E182: FALSE | F182: FALSE | G182: FALSE | H182: FALSE | I182: FALSE | J182: FALSE | K182: FALSE | L182: FALSE | M182: FALSE | N182: FALSE | O182: FALSE | P182: FALSE | Q182: FALSE | R182: FALSE | S182: FALSE | T182: FALSE | U182: FALSE | V182: FALSE | W182: FALSE | X182: FALSE | Y182: FALSE | Z182: FALSE | AA182: =COUNTIF(C182:Z182,TRUE)/24 -> 0
...

Sheet Inserts
A1: Topps Chrome F1 2021 — Inserts
A2: Suivi de collection — checklist complète
A3: Cochez les cartes possédées. Utilisez les boutons − / + à gauche pour replier ou déplier chaque subset.
A4: N° | B4: Carte | C4: Standard | D4: Gold Wave Refractor /50 | E4: Green Refractor /99 | F4: Gold Refractor /50 | G4: Orange Refractor /25 | H4: Red Refractor /5 | I4: Printing Plates /1 | J4: Superfractor /1 | K4: Progression
A5: 1961 TOPPS SPORTS · 25 cartes | K5: =COUNTIF(C6:J30,TRUE)/200 -> 0
A6: #T61-LH | B6: Lewis Hamilton | C6: FALSE | D6: FALSE | E6: FALSE | F6: FALSE | G6: FALSE | H6: FALSE | I6: FALSE | J6: FALSE | K6: =COUNTIF(C6:J6,TRUE)/8 -> 0
A7: #T61-VB | B7: Valtteri Bottas | C7: FALSE | D7: FALSE | E7: FALSE | F7: FALSE | G7: FALSE | H7: FALSE | I7: FALSE | J7: FALSE | K7: =COUNTIF(C7:J7,TRUE)/8 -> 0
A8: #T61-MV | B8: Max Verstappen | C8: FALSE | D8: FALSE | E8: FALSE | F8: FALSE | G8: FALSE | H8: FALSE | I8: FALSE | J8: FALSE | K8: =COUNTIF(C8:J8,TRUE)/8 -> 0
A9: #T61-SP | B9: Sergio Pérez | C9: FALSE | D9: FALSE | E9: FALSE | F9: FALSE | G9: FALSE | H9: FALSE | I9: FALSE | J9: FALSE | K9: =COUNTIF(C9:J9,TRUE)/8 -> 0
A10: #T61-DR | B10: Daniel Ricciardo | C10: FALSE | D10: FALSE | E10: FALSE | F10: FALSE | G10: FALSE | H10: FALSE | I10: FALSE | J10: FALSE | K10: =COUNTIF(C10:J10,TRUE)/8 -> 0
A11: #T61-LN | B11: Lando Norris | C11: FALSE | D11: FALSE | E11: FALSE | F11: FALSE | G11: FALSE | H11: FALSE | I11: FALSE | J11: FALSE | K11: =COUNTIF(C11:J11,TRUE)/8 -> 0
A12: #T61-SV | B12: Sebastian Vettel | C12: FALSE | D12: FALSE | E12: FALSE | F12: FALSE | G12: FALSE | H12: FALSE | I12: FALSE | J12: FALSE | K12: =COUNTIF(C12:J12,TRUE)/8 -> 0
A13: #T61-LS | B13: Lance Stroll | C13: FALSE | D13: FALSE | E13: FALSE | F13: FALSE | G13: FALSE | H13: FALSE | I13: FALSE | J13: FALSE | K13: =COUNTIF(C13:J13,TRUE)/8 -> 0
A14: #T61-FA | B14: Fernando Alonso | C14: FALSE | D14: FALSE | E14: FALSE | F14: FALSE | G14: FALSE | H14: FALSE | I14: FALSE | J14: FALSE | K14: =COUNTIF(C14:J14,TRUE)/8 -> 0
A15: #T61-EO | B15: Esteban Ocon | C15: FALSE | D15: FALSE | E15: FALSE | F15: FALSE | G15: FALSE | H15: FALSE | I15: FALSE | J15: FALSE | K15: =COUNTIF(C15:J15,TRUE)/8 -> 0
A16: #T61-CL | B16: Charles Leclerc | C16: FALSE | D16: FALSE | E16: FALSE | F16: FALSE | G16: FALSE | H16: FALSE | I16: FALSE | J16: FALSE | K16: =COUNTIF(C16:J16,TRUE)/8 -> 0
A17: #T61-CS | B17: Carlos Sainz | C17: FALSE | D17: FALSE | E17: FALSE | F17: FALSE | G17: FALSE | H17: FALSE | I17: FALSE | J17: FALSE | K17: =COUNTIF(C17:J17,TRUE)/8 -> 0
... A30: #T61-RB | B30: Ralph Boschung | C30: FALSE | D30: FALSE | E30: FALSE | F30: FALSE | G30: FALSE | H30: FALSE | I30: FALSE | J30: FALSE | K30: =COUNTIF(C30:J30,TRUE)/8 -> 0
A32: REDLINERS · 15 cartes | K32: =COUNTIF(C33:J47,TRUE)/105 -> 0
A33: #RL-1 | B33: Lewis Hamilton | C33: FALSE | D33: FALSE | F33: FALSE | G33: FALSE | H33: FALSE | I33: FALSE | J33: FALSE | K33: =COUNTIF(C33:J33,TRUE)/7 -> 0
A34: #RL-2 | B34: Valtteri Bottas | C34: FALSE | D34: FALSE | F34: FALSE | G34: FALSE | H34: FALSE | I34: FALSE | J34: FALSE | K34: =COUNTIF(C34:J34,TRUE)/7 -> 0
A35: #RL-3 | B35: Max Verstappen | C35: FALSE | D35: FALSE | F35: FALSE | G35: FALSE | H35: FALSE | I35: FALSE | J35: FALSE | K35: =COUNTIF(C35:J35,TRUE)/7 -> 0
A36: #RL-4 | B36: Daniel Ricciardo | C36: FALSE | D36: FALSE | F36: FALSE | G36: FALSE | H36: FALSE | I36: FALSE | J36: FALSE | K36: =COUNTIF(C36:J36,TRUE)/7 -> 0
A37: #RL-5 | B37: Sebastian Vettel | C37: FALSE | D37: FALSE | F37: FALSE | G37: FALSE | H37: FALSE | I37: FALSE | J37: FALSE | K37: =COUNTIF(C37:J37,TRUE)/7 -> 0
A38: #RL-6 | B38: Fernando Alonso | C38: FALSE | D38: FALSE | F38: FALSE | G38: FALSE | H38: FALSE | I38: FALSE | J38: FALSE | K38: =COUNTIF(C38:J38,TRUE)/7 -> 0
A39: #RL-7 | B39: Charles Leclerc | C39: FALSE | D39: FALSE | F39: FALSE | G39: FALSE | H39: FALSE | I39: FALSE | J39: FALSE | K39: =COUNTIF(C39:J39,TRUE)/7 -> 0
A40: #RL-8 | B40: Carlos Sainz | C40: FALSE | D40: FALSE | F40: FALSE | G40: FALSE | H40: FALSE | I40: FALSE | J40: FALSE | K40: =COUNTIF(C40:J40,TRUE)/7 -> 0
A41: #RL-9 | B41: Yuki Tsunoda (RC) | C41: FALSE | D41: FALSE | F41: FALSE | G41: FALSE | H41: FALSE | I41: FALSE | J41: FALSE | K41: =COUNTIF(C41:J41,TRUE)/7 -> 0
A42: #RL-10 | B42: Mick Schumacher (RC) | C42: FALSE | D42: FALSE | F42: FALSE | G42: FALSE | H42: FALSE | I42: FALSE | J42: FALSE | K42: =COUNTIF(C42:J42,TRUE)/7 -> 0
A43: #RL-15 | B43: Robert Shwartzman | C43: FALSE | D43: FALSE | F43: FALSE | G43: FALSE | H43: FALSE | I43: FALSE | J43: FALSE | K43: =COUNTIF(C43:J43,TRUE)/7 -> 0
A44: #RL-12 | B44: Dan Ticktum | C44: FALSE | D44: FALSE | F44: FALSE | G44: FALSE | H44: FALSE | I44: FALSE | J44: FALSE | K44: =COUNTIF(C44:J44,TRUE)/7 -> 0
... A47: #RL-13 | B47: Théo Pourchaire | C47: FALSE | D47: FALSE | F47: FALSE | G47: FALSE | H47: FALSE | I47: FALSE | J47: FALSE | K47: =COUNTIF(C47:J47,TRUE)/7 -> 0
A49: PATH TO THE PODIUM · 10 cartes | K49: =COUNTIF(C50:J59,TRUE)/70 -> 0
A50: #PTP-LH | B50: Lewis Hamilton | C50: FALSE | D50: FALSE | F50: FALSE | G50: FALSE | H50: FALSE | I50: FALSE | J50: FALSE | K50: =COUNTIF(C50:J50,TRUE)/7 -> 0
A51: #PTP-VB | B51: Valtteri Bottas | C51: FALSE | D51: FALSE | F51: FALSE | G51: FALSE | H51: FALSE | I51: FALSE | J51: FALSE | K51: =COUNTIF(C51:J51,TRUE)/7 -> 0
A52: #PTP-MV | B52: Max Verstappen | C52: FALSE | D52: FALSE | F52: FALSE | G52: FALSE | H52: FALSE | I52: FALSE | J52: FALSE | K52: =COUNTIF(C52:J52,TRUE)/7 -> 0
A53: #PTP-SP | B53: Sergio Pérez | C53: FALSE | D53: FALSE | F53: FALSE | G53: FALSE | H53: FALSE | I53: FALSE | J53: FALSE | K53: =COUNTIF(C53:J53,TRUE)/7 -> 0
A54: #PTP-LN | B54: Lando Norris | C54: FALSE | D54: FALSE | F54: FALSE | G54: FALSE | H54: FALSE | I54: FALSE | J54: FALSE | K54: =COUNTIF(C54:J54,TRUE)/7 -> 0
A55: #PTP-SV | B55: Sebastian Vettel | C55: FALSE | D55: FALSE | F55: FALSE | G55: FALSE | H55: FALSE | I55: FALSE | J55: FALSE | K55: =COUNTIF(C55:J55,TRUE)/7 -> 0
A56: #PTP-EO | B56: Esteban Ocon | C56: FALSE | D56: FALSE | F56: FALSE | G56: FALSE | H56: FALSE | I56: FALSE | J56: FALSE | K56: =COUNTIF(C56:J56,TRUE)/7 -> 0
A57: #PTP-CL | B57: Charles Leclerc | C57: FALSE | D57: FALSE | F57: FALSE | G57: FALSE | H57: FALSE | I57: FALSE | J57: FALSE | K57: =COUNTIF(C57:J57,TRUE)/7 -> 0
A58: #PTP-CS | B58: Carlos Sainz | C58: FALSE | D58: FALSE | F58: FALSE | G58: FALSE | H58: FALSE | I58: FALSE | J58: FALSE | K58: =COUNTIF(C58:J58,TRUE)/7 -> 0
A59: #PTP-PG | B59: Pierre Gasly | C59: FALSE | D59: FALSE | F59: FALSE | G59: FALSE | H59: FALSE | I59: FALSE | J59: FALSE | K59: =COUNTIF(C59:J59,TRUE)/7 -> 0

Sheet Autographes
A1: Topps Chrome F1 2021 — Autographes
A2: Suivi de collection — checklist complète
A3: Cochez les cartes possédées. Utilisez les boutons − / + à gauche pour replier ou déplier chaque subset.
A4: N° | B4: Carte | C4: Standard | D4: Gold Refractor /50 | E4: Gold Wave Refractor /50 | F4: Orange Refractor /25 | G4: Red Refractor /5 | H4: Printing Plates /1 | I4: Superfractor /1 | J4: Progression
A5: SET DE BASE · 53 cartes | J5: =COUNTIF(C6:I58,TRUE)/371 -> 0
A6: #CA-LH | B6: Lewis Hamilton | C6: FALSE | D6: FALSE | E6: FALSE | F6: FALSE | G6: FALSE | H6: FALSE | I6: FALSE | J6: =COUNTIF(C6:I6,TRUE)/7 -> 0
A7: #CA-VB | B7: Valtteri Bottas | C7: FALSE | D7: FALSE | E7: FALSE | F7: FALSE | G7: FALSE | H7: FALSE | I7: FALSE | J7: =COUNTIF(C7:I7,TRUE)/7 -> 0
A8: #CA-MV | B8: Max Verstappen | C8: FALSE | D8: FALSE | E8: FALSE | F8: FALSE | G8: FALSE | H8: FALSE | I8: FALSE | J8: =COUNTIF(C8:I8,TRUE)/7 -> 0
A9: #CA-SP | B9: Sergio Pérez | C9: FALSE | D9: FALSE | E9: FALSE | F9: FALSE | G9: FALSE | H9: FALSE | I9: FALSE | J9: =COUNTIF(C9:I9,TRUE)/7 -> 0
A10: #CA-DR | B10: Daniel Ricciardo | C10: FALSE | D10: FALSE | E10: FALSE | F10: FALSE | G10: FALSE | H10: FALSE | I10: FALSE | J10: =COUNTIF(C10:I10,TRUE)/7 -> 0
A11: #CA-LN | B11: Lando Norris | C11: FALSE | D11: FALSE | E11: FALSE | F11: FALSE | G11: FALSE | H11: FALSE | I11: FALSE | J11: =COUNTIF(C11:I11,TRUE)/7 -> 0
A12: #CA-SV | B12: Sebastian Vettel | C12: FALSE | D12: FALSE | E12: FALSE | F12: FALSE | G12: FALSE | H12: FALSE | I12: FALSE | J12: =COUNTIF(C12:I12,TRUE)/7 -> 0
A13: #CA-LS | B13: Lance Stroll | C13: FALSE | D13: FALSE | E13: FALSE | F13: FALSE | G13: FALSE | H13: FALSE | I13: FALSE | J13: =COUNTIF(C13:I13,TRUE)/7 -> 0
A14: #CA-FA | B14: Fernando Alonso | C14: FALSE | D14: FALSE | E14: FALSE | F14: FALSE | G14: FALSE | H14: FALSE | I14: FALSE | J14: =COUNTIF(C14:I14,TRUE)/7 -> 0
A15: #CA-EO | B15: Esteban Ocon | C15: FALSE | D15: FALSE | E15: FALSE | F15: FALSE | G15: FALSE | H15: FALSE | I15: FALSE | J15: =COUNTIF(C15:I15,TRUE)/7 -> 0
A16: #CA-CL | B16: Charles Leclerc | C16: FALSE | D16: FALSE | E16: FALSE | F16: FALSE | G16: FALSE | H16: FALSE | I16: FALSE | J16: =COUNTIF(C16:I16,TRUE)/7 -> 0
A17: #CA-CS | B17: Carlos Sainz | C17: FALSE | D17: FALSE | E17: FALSE | F17: FALSE | G17: FALSE | H17: FALSE | I17: FALSE | J17: =COUNTIF(C17:I17,TRUE)/7 -> 0
... A58: #CA-CLU | B58: Christian Lundgaard | C58: FALSE | D58: FALSE | E58: FALSE | F58: FALSE | G58: FALSE | H58: FALSE | I58: FALSE | J58: =COUNTIF(C58:I58,TRUE)/7 -> 0
