Workbook

Sheet Aperçu
A1: Topps Chrome F1 2021
A2: Tracker de collection — checklist complète
A4: SET DE BASE (versions Standard) | C4: CARTES STANDARDS (tous les onglets) | E4: PARALLÈLES (variantes) | G4: COLLECTION TOTALE
A5: =(COUNTIF('Set de base'!C6:C208,TRUE))/185 -> 0 | C5: =(COUNTIF('Set de base'!C6:C208,TRUE)+COUNTIF('Inserts'!C6:C59,TRUE)+COUNTIF('Autographes'!C6:C58,TRUE))/288 -> 0 | E5: =(COUNTIF('Set de base'!D6:Z208,TRUE)+COUNTIF('Inserts'!D6:J59,TRUE)+COUNTIF('Autographes'!D6:I58,TRUE))/4898 -> 0 | G5: =(COUNTIF('Set de base'!C6:Z208,TRUE)+COUNTIF('Inserts'!C6:J59,TRUE)+COUNTIF('Autographes'!C6:I58,TRUE))/5186 -> 0
A7: =(COUNTIF('Set de base'!C6:C208,TRUE))&" / 185" -> 0 / 185 | C7: =(COUNTIF('Set de base'!C6:C208,TRUE)+COUNTIF('Inserts'!C6:C59,TRUE)+COUNTIF('Autographes'!C6:C58,TRUE))&" / 288" -> 0 / 288 | E7: =(COUNTIF('Set de base'!D6:Z208,TRUE)+COUNTIF('Inserts'!D6:J59,TRUE)+COUNTIF('Autographes'!D6:I58,TRUE))&" / 4898" -> 0 / 4898 | G7: =(COUNTIF('Set de base'!C6:Z208,TRUE)+COUNTIF('Inserts'!C6:J59,TRUE)+COUNTIF('Autographes'!C6:I58,TRUE))&" / 5186" -> 0 / 5186
A8: Set de base = versions Standard de l’onglet « Set de base » • Cartes Standards = version principale non parallèle lorsqu’elle existe, tous onglets confondus.
A10: Progression par onglet
A11: Onglet | B11: Versions | C11: Possédées | D11: Progression
A12: Set de base | B12: 4440 | C12: =COUNTIF('Set de base'!C6:Z208,TRUE) -> 0 | D12: =(COUNTIF('Set de base'!C6:Z208,TRUE))/4440 -> 0
A13: Inserts | B13: 375 | C13: =COUNTIF('Inserts'!C6:J59,TRUE) -> 0 | D13: =(COUNTIF('Inserts'!C6:J59,TRUE))/375 -> 0
A14: Autographes | B14: 371 | C14: =COUNTIF('Autographes'!C6:I58,TRUE) -> 0 | D14: =(COUNTIF('Autographes'!C6:I58,TRUE))/371 -> 0
A17: Cartes de base par pilote
A18: Pilote | B18: Cartes de base | C18: Possédées | D18: Progression
A19: Alessio Deledda | B19: 2 | C19: =IF('Set de base'!C82=TRUE,1,0)+IF('Set de base'!C146=TRUE,1,0) -> 0 | D19: =(IF('Set de base'!C82=TRUE,1,0)+IF('Set de base'!C146=TRUE,1,0))/2 -> 0
A20: Antonio Giovinazzi | B20: 3 | C20: =IF('Set de base'!C21=TRUE,1,0)+IF('Set de base'!C58=TRUE,1,0)+IF('Set de base'!C122=TRUE,1,0) -> 0 | D20: =(IF('Set de base'!C21=TRUE,1,0)+IF('Set de base'!C58=TRUE,1,0)+IF('Set de base'!C122=TRUE,1,0))/3 -> 0
A21: Bent Viscaal | B21: 2 | C21: =IF('Set de base'!C83=TRUE,1,0)+IF('Set de base'!C148=TRUE,1,0) -> 0 | D21: =(IF('Set de base'!C83=TRUE,1,0)+IF('Set de base'!C148=TRUE,1,0))/2 -> 0
A22: Carlos Sainz | B22: 3 | C22: =IF('Set de base'!C17=TRUE,1,0)+IF('Set de base'!C59=TRUE,1,0)+IF('Set de base'!C118=TRUE,1,0) -> 0 | D22: =(IF('Set de base'!C17=TRUE,1,0)+IF('Set de base'!C59=TRUE,1,0)+IF('Set de base'!C118=TRUE,1,0))/3 -> 0
A23: Charles Leclerc | B23: 5 | C23: =IF('Set de base'!C16=TRUE,1,0)+IF('Set de base'!C30=TRUE,1,0)+IF('Set de base'!C37=TRUE,1,0)+IF('Set de base'!C38=TRUE,1,0)+IF('Set de base'!C117=TRUE,1,0) -> 0 | D23: =(IF('Set de base'!C16=TRUE,1,0)+IF('Set de base'!C30=TRUE,1,0)+IF('Set de base'!C37=TRUE,1,0)+IF('Set de base'!C38=TRUE,1,0)+IF('Set de base'!C117=TRUE,1,0))/5 -> 0
A24: Christian Lundgaard | B24: 2 | C24: =IF('Set de base'!C86=TRUE,1,0)+IF('Set de base'!C150=TRUE,1,0) -> 0 | D24: =(IF('Set de base'!C86=TRUE,1,0)+IF('Set de base'!C150=TRUE,1,0))/2 -> 0
A25: Dan Ticktum | B25: 2 | C25: =IF('Set de base'!C73=TRUE,1,0)+IF('Set de base'!C137=TRUE,1,0) -> 0 | D25: =(IF('Set de base'!C73=TRUE,1,0)+IF('Set de base'!C137=TRUE,1,0))/2 -> 0
A26: Daniel Ricciardo | B26: 5 | C26: =IF('Set de base'!C10=TRUE,1,0)+IF('Set de base'!C33=TRUE,1,0)+IF('Set de base'!C34=TRUE,1,0)+IF('Set de base'!C111=TRUE,1,0)+IF('Set de base'!C179=TRUE,1,0) -> 0 | D26: =(IF('Set de base'!C10=TRUE,1,0)+IF('Set de base'!C33=TRUE,1,0)+IF('Set de base'!C34=TRUE,1,0)+IF('Set de base'!C111=TRUE,1,0)+IF('Set de base'!C179=TRUE,1,0))/5 -> 0
A27: David Beckmann | B27: 2 | C27: =IF('Set de base'!C77=TRUE,1,0)+IF('Set de base'!C141=TRUE,1,0) -> 0 | D27: =(IF('Set de base'!C77=TRUE,1,0)+IF('Set de base'!C141=TRUE,1,0))/2 -> 0
A28: Esteban Ocon | B28: 4 | C28: =IF('Set de base'!C15=TRUE,1,0)+IF('Set de base'!C36=TRUE,1,0)+IF('Set de base'!C50=TRUE,1,0)+IF('Set de base'!C116=TRUE,1,0) -> 0 | D28: =(IF('Set de base'!C15=TRUE,1,0)+IF('Set de base'!C36=TRUE,1,0)+IF('Set de base'!C50=TRUE,1,0)+IF('Set de base'!C116=TRUE,1,0))/4 -> 0
A29: Felipe Drugovich | B29: 2 | C29: =IF('Set de base'!C67=TRUE,1,0)+IF('Set de base'!C131=TRUE,1,0) -> 0 | D29: =(IF('Set de base'!C67=TRUE,1,0)+IF('Set de base'!C131=TRUE,1,0))/2 -> 0
A30: Fernando Alonso | B30: 5 | C30: =IF('Set de base'!C14=TRUE,1,0)+IF('Set de base'!C43=TRUE,1,0)+IF('Set de base'!C46=TRUE,1,0)+IF('Set de base'!C115=TRUE,1,0)+IF('Set de base'!C204=TRUE,1,0) -> 0 | D30: =(IF('Set de base'!C14=TRUE,1,0)+IF('Set de base'!C43=TRUE,1,0)+IF('Set de base'!C46=TRUE,1,0)+IF('Set de base'!C115=TRUE,1,0)+IF('Set de base'!C204=TRUE,1,0))/5 -> 0
A31: George Russell | B31: 5 | C31: =IF('Set de base'!C24=TRUE,1,0)+IF('Set de base'!C40=TRUE,1,0)+IF('Set de base'!C44=TRUE,1,0)+IF('Set de base'!C125=TRUE,1,0)+IF('Set de base'!C173=TRUE,1,0) -> 0 | D31: =(IF('Set de base'!C24=TRUE,1,0)+IF('Set de base'!C40=TRUE,1,0)+IF('Set de base'!C44=TRUE,1,0)+IF('Set de base'!C125=TRUE,1,0)+IF('Set de base'!C173=TRUE,1,0))/5 -> 0
A32: Gianluca Petecof | B32: 2 | C32: =IF('Set de base'!C72=TRUE,1,0)+IF('Set de base'!C136=TRUE,1,0) -> 0 | D32: =(IF('Set de base'!C72=TRUE,1,0)+IF('Set de base'!C136=TRUE,1,0))/2 -> 0
A33: Guilherme Samaia | B33: 2 | C33: =IF('Set de base'!C78=TRUE,1,0)+IF('Set de base'!C142=TRUE,1,0) -> 0 | D33: =(IF('Set de base'!C78=TRUE,1,0)+IF('Set de base'!C142=TRUE,1,0))/2 -> 0
A34: Jehan Daruvala | B34: 2 | C34: =IF('Set de base'!C74=TRUE,1,0)+IF('Set de base'!C138=TRUE,1,0) -> 0 | D34: =(IF('Set de base'!C74=TRUE,1,0)+IF('Set de base'!C138=TRUE,1,0))/2 -> 0
A35: Jüri Vips | B35: 2 | C35: =IF('Set de base'!C76=TRUE,1,0)+IF('Set de base'!C140=TRUE,1,0) -> 0 | D35: =(IF('Set de base'!C76=TRUE,1,0)+IF('Set de base'!C140=TRUE,1,0))/2 -> 0
A36: Kimi Räikkönen | B36: 6 | C36: =IF('Set de base'!C20=TRUE,1,0)+IF('Set de base'!C31=TRUE,1,0)+IF('Set de base'!C39=TRUE,1,0)+IF('Set de base'!C121=TRUE,1,0)+IF('Set de base'!C176=TRUE,1,0)+IF('Set de base'!C206=TRUE,1,0) -> 0 | D36: =(IF('Set de base'!C20=TRUE,1,0)+IF('Set de base'!C31=TRUE,1,0)+IF('Set de base'!C39=TRUE,1,0)+IF('Set de base'!C121=TRUE,1,0)+IF('Set de base'!C176=TRUE,1,0)+IF('Set de base'!C206=TRUE,1,0))/6 -> 0
A37: Lance Stroll | B37: 3 | C37: =IF('Set de base'!C13=TRUE,1,0)+IF('Set de base'!C29=TRUE,1,0)+IF('Set de base'!C114=TRUE,1,0) -> 0 | D37: =(IF('Set de base'!C13=TRUE,1,0)+IF('Set de base'!C29=TRUE,1,0)+IF('Set de base'!C114=TRUE,1,0))/3 -> 0
A38: Lando Norris | B38: 4 | C38: =IF('Set de base'!C11=TRUE,1,0)+IF('Set de base'!C27=TRUE,1,0)+IF('Set de base'!C57=TRUE,1,0)+IF('Set de base'!C112=TRUE,1,0) -> 0 | D38: =(IF('Set de base'!C11=TRUE,1,0)+IF('Set de base'!C27=TRUE,1,0)+IF('Set de base'!C57=TRUE,1,0)+IF('Set de base'!C112=TRUE,1,0))/4 -> 0
A39: Lewis Hamilton | B39: 19 | C39: =IF('Set de base'!C6=TRUE,1,0)+IF('Set de base'!C45=TRUE,1,0)+IF('Set de base'!C55=TRUE,1,0)+IF('Set de base'!C61=TRUE,1,0)+IF('Set de base'!C107=TRUE,1,0)+IF('Set de base'!C154=TRUE,1,0)+IF('Set de base'!C155=TRUE,1,0)+IF('Set de base'!C156=TRUE,1,0)+IF('Set de base'!C158=TRUE,1,0)+IF('Set de base'!C159=TRUE,1,0)+IF('Set de base'!C161=TRUE,1,0)+IF('Set de base'!C163=TRUE,1,0)+IF('Set de base'!C164=TRUE,1,0)+IF('Set de base'!C165=TRUE,1,0)+IF('Set de base'!C166=TRUE,1,0)+IF('Set de base'!C167=TRUE,1,0)+IF('Set de base'!C183=TRUE,1,0)+IF('Set de base'!C190=TRUE,1,0)+IF('Set de base'!C199=TRUE,1,0) -> 0 | D39: =(IF('Set de base'!C6=TRUE,1,0)+IF('Set de base'!C45=TRUE,1,0)+IF('Set de base'!C55=TRUE,1,0)+IF('Set de base'!C61=TRUE,1,0)+IF('Set de base'!C107=TRUE,1,0)+IF('Set de base'!C154=TRUE,1,0)+IF('Set de base'!C155=TRUE,1,0)+IF('Set de base'!C156=TRUE,1,0)+IF('Set de base'!C158=TRUE,1,0)+IF('Set de base'!C159=TRUE,1,0)+IF('Set de base'!C161=TRUE,1,0)+IF('Set de base'!C163=TRUE,1,0)+IF('Set de base'!C164=TRUE,1,0)+IF('Set de base'!C165=TRUE,1,0)+IF('Set de base'!C166=TRUE,1,0)+IF('Set de base'!C167=TRUE,1,0)+IF('Set de base'!C183=TRUE,1,0)+IF('Set de base'!C190=TRUE,1,0)+IF('Set de base'!C199=TRUE,1,0))/19 -> 0
A40: Liam Lawson | B40: 2 | C40: =IF('Set de base'!C75=TRUE,1,0)+IF('Set de base'!C139=TRUE,1,0) -> 0 | D40: =(IF('Set de base'!C75=TRUE,1,0)+IF('Set de base'!C139=TRUE,1,0))/2 -> 0
A41: Lirim Zendeli | B41: 2 | C41: =IF('Set de base'!C69=TRUE,1,0)+IF('Set de base'!C133=TRUE,1,0) -> 0 | D41: =(IF('Set de base'!C69=TRUE,1,0)+IF('Set de base'!C133=TRUE,1,0))/2 -> 0
A42: Marcus Armstrong | B42: 2 | C42: =IF('Set de base'!C80=TRUE,1,0)+IF('Set de base'!C144=TRUE,1,0) -> 0 | D42: =(IF('Set de base'!C80=TRUE,1,0)+IF('Set de base'!C144=TRUE,1,0))/2 -> 0
A43: Marino Sato | B43: 2 | C43: =IF('Set de base'!C84=TRUE,1,0)+IF('Set de base'!C147=TRUE,1,0) -> 0 | D43: =(IF('Set de base'!C84=TRUE,1,0)+IF('Set de base'!C147=TRUE,1,0))/2 -> 0
A44: Matteo Nannini | B44: 2 | C44: =IF('Set de base'!C81=TRUE,1,0)+IF('Set de base'!C145=TRUE,1,0) -> 0 | D44: =(IF('Set de base'!C81=TRUE,1,0)+IF('Set de base'!C145=TRUE,1,0))/2 -> 0
A45: Max Verstappen | B45: 12 | C45: =IF('Set de base'!C8=TRUE,1,0)+IF('Set de base'!C48=TRUE,1,0)+IF('Set de base'!C53=TRUE,1,0)+IF('Set de base'!C60=TRUE,1,0)+IF('Set de base'!C109=TRUE,1,0)+IF('Set de base'!C157=TRUE,1,0)+IF('Set de base'!C169=TRUE,1,0)+IF('Set de base'!C172=TRUE,1,0)+IF('Set de base'!C178=TRUE,1,0)+IF('Set de base'!C184=TRUE,1,0)+IF('Set de base'!C185=TRUE,1,0)+IF('Set de base'!C201=TRUE,1,0) -> 0 | D45: =(IF('Set de base'!C8=TRUE,1,0)+IF('Set de base'!C48=TRUE,1,0)+IF('Set de base'!C53=TRUE,1,0)+IF('Set de base'!C60=TRUE,1,0)+IF('Set de base'!C109=TRUE,1,0)+IF('Set de base'!C157=TRUE,1,0)+IF('Set de base'!C169=TRUE,1,0)+IF('Set de base'!C172=TRUE,1,0)+IF('Set de base'!C178=TRUE,1,0)+IF('Set de base'!C184=TRUE,1,0)+IF('Set de base'!C185=TRUE,1,0)+IF('Set de base'!C201=TRUE,1,0))/12 -> 0
...

Sheet Set de base
A1: Topps Chrome F1 2021 — Set de base
A2: Suivi de collection — checklist complète
A3: Cochez les cartes possédées. Utilisez les boutons − / + à gauche pour replier ou déplier chaque subset.
A4: N° | B4: Carte | C4: Standard | D4: Refractor | E4: Black & White Raywave | F4: Purple Refractor /399 | G4: Checkered Flag | H4: Green Raywave /99 | I4: Purple Checker Flag /199 | J4: Purple/Green Refractor | K4: Gold/Purple Refractor | L4: Gold Checker Flag /50 | M4: Orange/Red Refractor | N4: Gold Refractor /50 | O4: Gold Wave Refractor /50 | P4: Red/Green Refractor | Q4: Orange Refractor /25 | R4: Orange Wave Refractor /25 | S4: Orange Checker Flag /25 | T4: Red RayWave /5 | U4: Red Checker Flag /5 | V4: Red Refractor /5 | W4: Red Wave Refractor /5 | X4: Printing plate /1 | Y4: Black RayWave /1 | Z4: Superfractor /1 | AA4: Progression
A5: F1 RACERS · 57 cartes | AA5: =COUNTIF(C6:Z62,TRUE)/1368 -> 0
A6: #1 | B6: Lewis Hamilton | C6: FALSE | D6: FALSE | E6: FALSE | F6: FALSE | G6: FALSE | H6: FALSE | I6: FALSE | J6: FALSE | K6: FALSE | L6: FALSE | M6: FALSE | N6: FALSE | O6: FALSE | P6: FALSE | Q6: FALSE | R6: FALSE | S6: FALSE | T6: FALSE | U6: FALSE | V6: FALSE | W6: FALSE | X6: FALSE | Y6: FALSE | Z6: FALSE | AA6: =COUNTIF(C6:Z6,TRUE)/24 -> 0
A7: #2 | B7: Valtteri Bottas | C7: FALSE | D7: FALSE | E7: FALSE | F7: FALSE | G7: FALSE | H7: FALSE | I7: FALSE | J7: FALSE | K7: FALSE | L7: FALSE | M7: FALSE | N7: FALSE | O7: FALSE | P7: FALSE | Q7: FALSE | R7: FALSE | S7: FALSE | T7: FALSE | U7: FALSE | V7: FALSE | W7: FALSE | X7: FALSE | Y7: FALSE | Z7: FALSE | AA7: =COUNTIF(C7:Z7,TRUE)/24 -> 0
A8: #3 | B8: Max Verstappen | C8: FALSE | D8: FALSE | E8: FALSE | F8: FALSE | G8: FALSE | H8: FALSE | I8: FALSE | J8: FALSE | K8: FALSE | L8: FALSE | M8: FALSE | N8: FALSE | O8: FALSE | P8: FALSE | Q8: FALSE | R8: FALSE | S8: FALSE | T8: FALSE | U8: FALSE | V8: FALSE | W8: FALSE | X8: FALSE | Y8: FALSE | Z8: FALSE | AA8: =COUNTIF(C8:Z8,TRUE)/24 -> 0
A9: #4 | B9: Sergio Pérez | C9: FALSE | D9: FALSE | E9: FALSE | F9: FALSE | G9: FALSE | H9: FALSE | I9: FALSE | J9: FALSE | K9: FALSE | L9: FALSE | M9: FALSE | N9: FALSE | O9: FALSE | P9: FALSE | Q9: FALSE | R9: FALSE | S9: FALSE | T9: FALSE | U9: FALSE | V9: FALSE | W9: FALSE | X9: FALSE | Y9: FALSE | Z9: FALSE | AA9: =COUNTIF(C9:Z9,TRUE)/24 -> 0
A10: #5 | B10: Daniel Ricciardo | C10: FALSE | D10: FALSE | E10: FALSE | F10: FALSE | G10: FALSE | H10: FALSE | I10: FALSE | J10: FALSE | K10: FALSE | L10: FALSE | M10: FALSE | N10: FALSE | O10: FALSE | P10: FALSE | Q10: FALSE | R10: FALSE | S10: FALSE | T10: FALSE | U10: FALSE | V10: FALSE | W10: FALSE | X10: FALSE | Y10: FALSE | Z10: FALSE | AA10: =COUNTIF(C10:Z10,TRUE)/24 -> 0
A11: #6 | B11: Lando Norris | C11: FALSE | D11: FALSE | E11: FALSE | F11: FALSE | G11: FALSE | H11: FALSE | I11: FALSE | J11: FALSE | K11: FALSE | L11: FALSE | M11: FALSE | N11: FALSE | O11: FALSE | P11: FALSE | Q11: FALSE | R11: FALSE | S11: FALSE | T11: FALSE | U11: FALSE | V11: FALSE | W11: FALSE | X11: FALSE | Y11: FALSE | Z11: FALSE | AA11: =COUNTIF(C11:Z11,TRUE)/24 -> 0
A12: #7 | B12: Sebastian Vettel | C12: FALSE | D12: FALSE | E12: FALSE | F12: FALSE | G12: FALSE | H12: FALSE | I12: FALSE | J12: FALSE | K12: FALSE | L12: FALSE | M12: FALSE | N12: FALSE | O12: FALSE | P12: FALSE | Q12: FALSE | R12: FALSE | S12: FALSE | T12: FALSE | U12: FALSE | V12: FALSE | W12: FALSE | X12: FALSE | Y12: FALSE | Z12: FALSE | AA12: =COUNTIF(C12:Z12,TRUE)/24 -> 0
A13: #8 | B13: Lance Stroll | C13: FALSE | D13: FALSE | E13: FALSE | F13: FALSE | G13: FALSE | H13: FALSE | I13: FALSE | J13: FALSE | K13: FALSE | L13: FALSE | M13: FALSE | N13: FALSE | O13: FALSE | P13: FALSE | Q13: FALSE | R13: FALSE | S13: FALSE | T13: FALSE | U13: FALSE | V13: FALSE | W13: FALSE | X13: FALSE | Y13: FALSE | Z13: FALSE | AA13: =COUNTIF(C13:Z13,TRUE)/24 -> 0
A14: #9 | B14: Fernando Alonso | C14: FALSE | D14: FALSE | E14: FALSE | F14: FALSE | G14: FALSE | H14: FALSE | I14: FALSE | J14: FALSE | K14: FALSE | L14: FALSE | M14: FALSE | N14: FALSE | O14: FALSE | P14: FALSE | Q14: FALSE | R14: FALSE | S14: FALSE | T14: FALSE | U14: FALSE | V14: FALSE | W14: FALSE | X14: FALSE | Y14: FALSE | Z14: FALSE | AA14: =COUNTIF(C14:Z14,TRUE)/24 -> 0
A15: #10 | B15: Esteban Ocon | C15: FALSE | D15: FALSE | E15: FALSE | F15: FALSE | G15: FALSE | H15: FALSE | I15: FALSE | J15: FALSE | K15: FALSE | L15: FALSE | M15: FALSE | N15: FALSE | O15: FALSE | P15: FALSE | Q15: FALSE | R15: FALSE | S15: FALSE | T15: FALSE | U15: FALSE | V15: FALSE | W15: FALSE | X15: FALSE | Y15: FALSE | Z15: FALSE | AA15: =COUNTIF(C15:Z15,TRUE)/24 -> 0
A16: #11 | B16: Charles Leclerc | C16: FALSE | D16: FALSE | E16: FALSE | F16: FALSE | G16: FALSE | H16: FALSE | I16: FALSE | J16: FALSE | K16: FALSE | L16: FALSE | M16: FALSE | N16: FALSE | O16: FALSE | P16: FALSE | Q16: FALSE | R16: FALSE | S16: FALSE | T16: FALSE | U16: FALSE | V16: FALSE | W16: FALSE | X16: FALSE | Y16: FALSE | Z16: FALSE | AA16: =COUNTIF(C16:Z16,TRUE)/24 -> 0
A17: #12 | B17: Carlos Sainz | C17: FALSE | D17: FALSE | E17: FALSE | F17: FALSE | G17: FALSE | H17: FALSE | I17: FALSE | J17: FALSE | K17: FALSE | L17: FALSE | M17: FALSE | N17: FALSE | O17: FALSE | P17: FALSE | Q17: FALSE | R17: FALSE | S17: FALSE | T17: FALSE | U17: FALSE | V17: FALSE | W17: FALSE | X17: FALSE | Y17: FALSE | Z17: FALSE | AA17: =COUNTIF(C17:Z17,TRUE)/24 -> 0
... A62: #57 | B62: Nikita Mazepin (RC) | C62: FALSE | D62: FALSE | E62: FALSE | F62: FALSE | G62: FALSE | H62: FALSE | I62: FALSE | J62: FALSE | K62: FALSE | L62: FALSE | M62: FALSE | N62: FALSE | O62: FALSE | P62: FALSE | Q62: FALSE | R62: FALSE | S62: FALSE | T62: FALSE | U62: FALSE | V62: FALSE | W62: FALSE | X62: FALSE | Y62: FALSE | Z62: FALSE | AA62: =COUNTIF(C62:Z62,TRUE)/24 -> 0
A64: F2 RACERS FUTURE STARS · 22 cartes | AA64: =COUNTIF(C65:Z86,TRUE)/528 -> 0
A65: #58 | B65: Robert Shwartzman | C65: FALSE | D65: FALSE | E65: FALSE | F65: FALSE | G65: FALSE | H65: FALSE | I65: FALSE | J65: FALSE | K65: FALSE | L65: FALSE | M65: FALSE | N65: FALSE | O65: FALSE | P65: FALSE | Q65: FALSE | R65: FALSE | S65: FALSE | T65: FALSE | U65: FALSE | V65: FALSE | W65: FALSE | X65: FALSE | Y65: FALSE | Z65: FALSE | AA65: =COUNTIF(C65:Z65,TRUE)/24 -> 0
A66: #59 | B66: Oscar Piastri | C66: FALSE | D66: FALSE | E66: FALSE | F66: FALSE | G66: FALSE | H66: FALSE | I66: FALSE | J66: FALSE | K66: FALSE | L66: FALSE | M66: FALSE | N66: FALSE | O66: FALSE | P66: FALSE | Q66: FALSE | R66: FALSE | S66: FALSE | T66: FALSE | U66: FALSE | V66: FALSE | W66: FALSE | X66: FALSE | Y66: FALSE | Z66: FALSE | AA66: =COUNTIF(C66:Z66,TRUE)/24 -> 0
A67: #60 | B67: Felipe Drugovich | C67: FALSE | D67: FALSE | E67: FALSE | F67: FALSE | G67: FALSE | H67: FALSE | I67: FALSE | J67: FALSE | K67: FALSE | L67: FALSE | M67: FALSE | N67: FALSE | O67: FALSE | P67: FALSE | Q67: FALSE | R67: FALSE | S67: FALSE | T67: FALSE | U67: FALSE | V67: FALSE | W67: FALSE | X67: FALSE | Y67: FALSE | Z67: FALSE | AA67: =COUNTIF(C67:Z67,TRUE)/24 -> 0
A68: #61 | B68: Zhou Guanyu | C68: FALSE | D68: FALSE | E68: FALSE | F68: FALSE | G68: FALSE | H68: FALSE | I68: FALSE | J68: FALSE | K68: FALSE | L68: FALSE | M68: FALSE | N68: FALSE | O68: FALSE | P68: FALSE | Q68: FALSE | R68: FALSE | S68: FALSE | T68: FALSE | U68: FALSE | V68: FALSE | W68: FALSE | X68: FALSE | Y68: FALSE | Z68: FALSE | AA68: =COUNTIF(C68:Z68,TRUE)/24 -> 0
A69: #62 | B69: Lirim Zendeli | C69: FALSE | D69: FALSE | E69: FALSE | F69: FALSE | G69: FALSE | H69: FALSE | I69: FALSE | J69: FALSE | K69: FALSE | L69: FALSE | M69: FALSE | N69: FALSE | O69: FALSE | P69: FALSE | Q69: FALSE | R69: FALSE | S69: FALSE | T69: FALSE | U69: FALSE | V69: FALSE | W69: FALSE | X69: FALSE | Y69: FALSE | Z69: FALSE | AA69: =COUNTIF(C69:Z69,TRUE)/24 -> 0
A70: #63 | B70: Richard Verschoor | C70: FALSE | D70: FALSE | E70: FALSE | F70: FALSE | G70: FALSE | H70: FALSE | I70: FALSE | J70: FALSE | K70: FALSE | L70: FALSE | M70: FALSE | N70: FALSE | O70: FALSE | P70: FALSE | Q70: FALSE | R70: FALSE | S70: FALSE | T70: FALSE | U70: FALSE | V70: FALSE | W70: FALSE | X70: FALSE | Y70: FALSE | Z70: FALSE | AA70: =COUNTIF(C70:Z70,TRUE)/24 -> 0
A71: #64 | B71: Ralph Boschung | C71: FALSE | D71: FALSE | E71: FALSE | F71: FALSE | G71: FALSE | H71: FALSE | I71: FALSE | J71: FALSE | K71: FALSE | L71: FALSE | M71: FALSE | N71: FALSE | O71: FALSE | P71: FALSE | Q71: FALSE | R71: FALSE | S71: FALSE | T71: FALSE | U71: FALSE | V71: FALSE | W71: FALSE | X71: FALSE | Y71: FALSE | Z71: FALSE | AA71: =COUNTIF(C71:Z71,TRUE)/24 -> 0
A72: #65 | B72: Gianluca Petecof | C72: FALSE | D72: FALSE | E72: FALSE | F72: FALSE | G72: FALSE | H72: FALSE | I72: FALSE | J72: FALSE | K72: FALSE | L72: FALSE | M72: FALSE | N72: FALSE | O72: FALSE | P72: FALSE | Q72: FALSE | R72: FALSE | S72: FALSE | T72: FALSE | U72: FALSE | V72: FALSE | W72: FALSE | X72: FALSE | Y72: FALSE | Z72: FALSE | AA72: =COUNTIF(C72:Z72,TRUE)/24 -> 0
A73: #66 | B73: Dan Ticktum | C73: FALSE | D73: FALSE | E73: FALSE | F73: FALSE | G73: FALSE | H73: FALSE | I73: FALSE | J73: FALSE | K73: FALSE | L73: FALSE | M73: FALSE | N73: FALSE | O73: FALSE | P73: FALSE | Q73: FALSE | R73: FALSE | S73: FALSE | T73: FALSE | U73: FALSE | V73: FALSE | W73: FALSE | X73: FALSE | Y73: FALSE | Z73: FALSE | AA73: =COUNTIF(C73:Z73,TRUE)/24 -> 0
A74: #67 | B74: Jehan Daruvala | C74: FALSE | D74: FALSE | E74: FALSE | F74: FALSE | G74: FALSE | H74: FALSE | I74: FALSE | J74: FALSE | K74: FALSE | L74: FALSE | M74: FALSE | N74: FALSE | O74: FALSE | P74: FALSE | Q74: FALSE | R74: FALSE | S74: FALSE | T74: FALSE | U74: FALSE | V74: FALSE | W74: FALSE | X74: FALSE | Y74: FALSE | Z74: FALSE | AA74: =COUNTIF(C74:Z74,TRUE)/24 -> 0
A75: #68 | B75: Liam Lawson | C75: FALSE | D75: FALSE | E75: FALSE | F75: FALSE | G75: FALSE | H75: FALSE | I75: FALSE | J75: FALSE | K75: FALSE | L75: FALSE | M75: FALSE | N75: FALSE | O75: FALSE | P75: FALSE | Q75: FALSE | R75: FALSE | S75: FALSE | T75: FALSE | U75: FALSE | V75: FALSE | W75: FALSE | X75: FALSE | Y75: FALSE | Z75: FALSE | AA75: =COUNTIF(C75:Z75,TRUE)/24 -> 0
A76: #69 | B76: Jüri Vips | C76: FALSE | D76: FALSE | E76: FALSE | F76: FALSE | G76: FALSE | H76: FALSE | I76: FALSE | J76: FALSE | K76: FALSE | L76: FALSE | M76: FALSE | N76: FALSE | O76: FALSE | P76: FALSE | Q76: FALSE | R76: FALSE | S76: FALSE | T76: FALSE | U76: FALSE | V76: FALSE | W76: FALSE | X76: FALSE | Y76: FALSE | Z76: FALSE | AA76: =COUNTIF(C76:Z76,TRUE)/24 -> 0
... A86: #79 | B86: Christian Lundgaard | C86: FALSE | D86: FALSE | E86: FALSE | F86: FALSE | G86: FALSE | H86: FALSE | I86: FALSE | J86: FALSE | K86: FALSE | L86: FALSE | M86: FALSE | N86: FALSE | O86: FALSE | P86: FALSE | Q86: FALSE | R86: FALSE | S86: FALSE | T86: FALSE | U86: FALSE | V86: FALSE | W86: FALSE | X86: FALSE | Y86: FALSE | Z86: FALSE | AA86: =COUNTIF(C86:Z86,TRUE)/24 -> 0
A88: F1 CREW · 16 cartes | AA88: =COUNTIF(C89:Z104,TRUE)/384 -> 0
A89: #80 | B89: James Allison | C89: FALSE | D89: FALSE | E89: FALSE | F89: FALSE | G89: FALSE | H89: FALSE | I89: FALSE | J89: FALSE | K89: FALSE | L89: FALSE | M89: FALSE | N89: FALSE | O89: FALSE | P89: FALSE | Q89: FALSE | R89: FALSE | S89: FALSE | T89: FALSE | U89: FALSE | V89: FALSE | W89: FALSE | X89: FALSE | Y89: FALSE | Z89: FALSE | AA89: =COUNTIF(C89:Z89,TRUE)/24 -> 0
A90: #81 | B90: Toto Wolff | C90: FALSE | D90: FALSE | E90: FALSE | F90: FALSE | G90: FALSE | H90: FALSE | I90: FALSE | J90: FALSE | K90: FALSE | L90: FALSE | M90: FALSE | N90: FALSE | O90: FALSE | P90: FALSE | Q90: FALSE | R90: FALSE | S90: FALSE | T90: FALSE | U90: FALSE | V90: FALSE | W90: FALSE | X90: FALSE | Y90: FALSE | Z90: FALSE | AA90: =COUNTIF(C90:Z90,TRUE)/24 -> 0
A91: #82 | B91: Davide Brivio | C91: FALSE | D91: FALSE | E91: FALSE | F91: FALSE | G91: FALSE | H91: FALSE | I91: FALSE | J91: FALSE | K91: FALSE | L91: FALSE | M91: FALSE | N91: FALSE | O91: FALSE | P91: FALSE | Q91: FALSE | R91: FALSE | S91: FALSE | T91: FALSE | U91: FALSE | V91: FALSE | W91: FALSE | X91: FALSE | Y91: FALSE | Z91: FALSE | AA91: =COUNTIF(C91:Z91,TRUE)/24 -> 0
A92: #83 | B92: Mattia Binotto | C92: FALSE | D92: FALSE | E92: FALSE | F92: FALSE | G92: FALSE | H92: FALSE | I92: FALSE | J92: FALSE | K92: FALSE | L92: FALSE | M92: FALSE | N92: FALSE | O92: FALSE | P92: FALSE | Q92: FALSE | R92: FALSE | S92: FALSE | T92: FALSE | U92: FALSE | V92: FALSE | W92: FALSE | X92: FALSE | Y92: FALSE | Z92: FALSE | AA92: =COUNTIF(C92:Z92,TRUE)/24 -> 0
A93: #84 | B93: Christian Horner | C93: FALSE | D93: FALSE | E93: FALSE | F93: FALSE | G93: FALSE | H93: FALSE | I93: FALSE | J93: FALSE | K93: FALSE | L93: FALSE | M93: FALSE | N93: FALSE | O93: FALSE | P93: FALSE | Q93: FALSE | R93: FALSE | S93: FALSE | T93: FALSE | U93: FALSE | V93: FALSE | W93: FALSE | X93: FALSE | Y93: FALSE | Z93: FALSE | AA93: =COUNTIF(C93:Z93,TRUE)/24 -> 0
A94: #85 | B94: Pierre Waché | C94: FALSE | D94: FALSE | E94: FALSE | F94: FALSE | G94: FALSE | H94: FALSE | I94: FALSE | J94: FALSE | K94: FALSE | L94: FALSE | M94: FALSE | N94: FALSE | O94: FALSE | P94: FALSE | Q94: FALSE | R94: FALSE | S94: FALSE | T94: FALSE | U94: FALSE | V94: FALSE | W94: FALSE | X94: FALSE | Y94: FALSE | Z94: FALSE | AA94: =COUNTIF(C94:Z94,TRUE)/24 -> 0
A95: #86 | B95: Andreas Seidl | C95: FALSE | D95: FALSE | E95: FALSE | F95: FALSE | G95: FALSE | H95: FALSE | I95: FALSE | J95: FALSE | K95: FALSE | L95: FALSE | M95: FALSE | N95: FALSE | O95: FALSE | P95: FALSE | Q95: FALSE | R95: FALSE | S95: FALSE | T95: FALSE | U95: FALSE | V95: FALSE | W95: FALSE | X95: FALSE | Y95: FALSE | Z95: FALSE | AA95: =COUNTIF(C95:Z95,TRUE)/24 -> 0
...

Sheet Inserts
A1: Topps Chrome F1 2021 — Inserts
A2: Suivi de collection — checklist complète
A3: Cochez les cartes possédées. Utilisez les boutons − / + à gauche pour replier ou déplier chaque subset.
A4: N° | B4: Carte | C4: Standard | D4: Gold Wave Refractor /50 | E4: Green Refractor /99 | F4: Gold Refractor /50 | G4: Orange Refractor /25 | H4: Red Refractor /5 | I4: Printing Plates /1 | J4: Superfractor /1 | K4: Progression
A5: 1961 TOPPS SPORTS · 25 cartes | K5: =COUNTIF(C6:J30,TRUE)/200 -> 0
A6: #T61-LH | B6: Lewis Hamilton | C6: FALSE | D6: FALSE | E6: FALSE | F6: FALSE | G6: FALSE | H6: FALSE | I6: FALSE | J6: FALSE | K6: =COUNTIF(C6:J6,TRUE)/8 -> 0
A7: #T61-VB | B7: Valtteri Bottas | C7: FALSE | D7: FALSE | E7: FALSE | F7: FALSE | G7: FALSE | H7: FALSE | I7: FALSE | J7: FALSE | K7: =COUNTIF(C7:J7,TRUE)/8 -> 0
A8: #T61-MV | B8: Max Verstappen | C8: FALSE | D8: FALSE | E8: FALSE | F8: FALSE | G8: FALSE | H8: FALSE | I8: FALSE | J8: FALSE | K8: =COUNTIF(C8:J8,TRUE)/8 -> 0
A9: #T61-SP | B9: Sergio Pérez | C9: FALSE | D9: FALSE | E9: FALSE | F9: FALSE | G9: FALSE | H9: FALSE | I9: FALSE | J9: FALSE | K9: =COUNTIF(C9:J9,TRUE)/8 -> 0
A10: #T61-DR | B10: Daniel Ricciardo | C10: FALSE | D10: FALSE | E10: FALSE | F10: FALSE | G10: FALSE | H10: FALSE | I10: FALSE | J10: FALSE | K10: =COUNTIF(C10:J10,TRUE)/8 -> 0
A11: #T61-LN | B11: Lando Norris | C11: FALSE | D11: FALSE | E11: FALSE | F11: FALSE | G11: FALSE | H11: FALSE | I11: FALSE | J11: FALSE | K11: =COUNTIF(C11:J11,TRUE)/8 -> 0
A12: #T61-SV | B12: Sebastian Vettel | C12: FALSE | D12: FALSE | E12: FALSE | F12: FALSE | G12: FALSE | H12: FALSE | I12: FALSE | J12: FALSE | K12: =COUNTIF(C12:J12,TRUE)/8 -> 0
A13: #T61-LS | B13: Lance Stroll | C13: FALSE | D13: FALSE | E13: FALSE | F13: FALSE | G13: FALSE | H13: FALSE | I13: FALSE | J13: FALSE | K13: =COUNTIF(C13:J13,TRUE)/8 -> 0
A14: #T61-FA | B14: Fernando Alonso | C14: FALSE | D14: FALSE | E14: FALSE | F14: FALSE | G14: FALSE | H14: FALSE | I14: FALSE | J14: FALSE | K14: =COUNTIF(C14:J14,TRUE)/8 -> 0
A15: #T61-EO | B15: Esteban Ocon | C15: FALSE | D15: FALSE | E15: FALSE | F15: FALSE | G15: FALSE | H15: FALSE | I15: FALSE | J15: FALSE | K15: =COUNTIF(C15:J15,TRUE)/8 -> 0
A16: #T61-CL | B16: Charles Leclerc | C16: FALSE | D16: FALSE | E16: FALSE | F16: FALSE | G16: FALSE | H16: FALSE | I16: FALSE | J16: FALSE | K16: =COUNTIF(C16:J16,TRUE)/8 -> 0
A17: #T61-CS | B17: Carlos Sainz | C17: FALSE | D17: FALSE | E17: FALSE | F17: FALSE | G17: FALSE | H17: FALSE | I17: FALSE | J17: FALSE | K17: =COUNTIF(C17:J17,TRUE)/8 -> 0
... A30: #T61-RB | B30: Ralph Boschung | C30: FALSE | D30: FALSE | E30: FALSE | F30: FALSE | G30: FALSE | H30: FALSE | I30: FALSE | J30: FALSE | K30: =COUNTIF(C30:J30,TRUE)/8 -> 0
A32: REDLINERS · 15 cartes | K32: =COUNTIF(C33:J47,TRUE)/105 -> 0
A33: #RL-1 | B33: Lewis Hamilton | C33: FALSE | D33: FALSE | F33: FALSE | G33: FALSE | H33: FALSE | I33: FALSE | J33: FALSE | K33: =COUNTIF(C33:J33,TRUE)/7 -> 0
A34: #RL-2 | B34: Valtteri Bottas | C34: FALSE | D34: FALSE | F34: FALSE | G34: FALSE | H34: FALSE | I34: FALSE | J34: FALSE | K34: =COUNTIF(C34:J34,TRUE)/7 -> 0
A35: #RL-3 | B35: Max Verstappen | C35: FALSE | D35: FALSE | F35: FALSE | G35: FALSE | H35: FALSE | I35: FALSE | J35: FALSE | K35: =COUNTIF(C35:J35,TRUE)/7 -> 0
A36: #RL-4 | B36: Daniel Ricciardo | C36: FALSE | D36: FALSE | F36: FALSE | G36: FALSE | H36: FALSE | I36: FALSE | J36: FALSE | K36: =COUNTIF(C36:J36,TRUE)/7 -> 0
A37: #RL-5 | B37: Sebastian Vettel | C37: FALSE | D37: FALSE | F37: FALSE | G37: FALSE | H37: FALSE | I37: FALSE | J37: FALSE | K37: =COUNTIF(C37:J37,TRUE)/7 -> 0
A38: #RL-6 | B38: Fernando Alonso | C38: FALSE | D38: FALSE | F38: FALSE | G38: FALSE | H38: FALSE | I38: FALSE | J38: FALSE | K38: =COUNTIF(C38:J38,TRUE)/7 -> 0
A39: #RL-7 | B39: Charles Leclerc | C39: FALSE | D39: FALSE | F39: FALSE | G39: FALSE | H39: FALSE | I39: FALSE | J39: FALSE | K39: =COUNTIF(C39:J39,TRUE)/7 -> 0
A40: #RL-8 | B40: Carlos Sainz | C40: FALSE | D40: FALSE | F40: FALSE | G40: FALSE | H40: FALSE | I40: FALSE | J40: FALSE | K40: =COUNTIF(C40:J40,TRUE)/7 -> 0
A41: #RL-9 | B41: Yuki Tsunoda (RC) | C41: FALSE | D41: FALSE | F41: FALSE | G41: FALSE | H41: FALSE | I41: FALSE | J41: FALSE | K41: =COUNTIF(C41:J41,TRUE)/7 -> 0
A42: #RL-10 | B42: Mick Schumacher (RC) | C42: FALSE | D42: FALSE | F42: FALSE | G42: FALSE | H42: FALSE | I42: FALSE | J42: FALSE | K42: =COUNTIF(C42:J42,TRUE)/7 -> 0
A43: #RL-15 | B43: Robert Shwartzman | C43: FALSE | D43: FALSE | F43: FALSE | G43: FALSE | H43: FALSE | I43: FALSE | J43: FALSE | K43: =COUNTIF(C43:J43,TRUE)/7 -> 0
A44: #RL-12 | B44: Dan Ticktum | C44: FALSE | D44: FALSE | F44: FALSE | G44: FALSE | H44: FALSE | I44: FALSE | J44: FALSE | K44: =COUNTIF(C44:J44,TRUE)/7 -> 0
... A47: #RL-13 | B47: Théo Pourchaire | C47: FALSE | D47: FALSE | F47: FALSE | G47: FALSE | H47: FALSE | I47: FALSE | J47: FALSE | K47: =COUNTIF(C47:J47,TRUE)/7 -> 0
A49: PATH TO THE PODIUM · 10 cartes | K49: =COUNTIF(C50:J59,TRUE)/70 -> 0
A50: #PTP-LH | B50: Lewis Hamilton | C50: FALSE | D50: FALSE | F50: FALSE | G50: FALSE | H50: FALSE | I50: FALSE | J50: FALSE | K50: =COUNTIF(C50:J50,TRUE)/7 -> 0
A51: #PTP-VB | B51: Valtteri Bottas | C51: FALSE | D51: FALSE | F51: FALSE | G51: FALSE | H51: FALSE | I51: FALSE | J51: FALSE | K51: =COUNTIF(C51:J51,TRUE)/7 -> 0
A52: #PTP-MV | B52: Max Verstappen | C52: FALSE | D52: FALSE | F52: FALSE | G52: FALSE | H52: FALSE | I52: FALSE | J52: FALSE | K52: =COUNTIF(C52:J52,TRUE)/7 -> 0
A53: #PTP-SP | B53: Sergio Pérez | C53: FALSE | D53: FALSE | F53: FALSE | G53: FALSE | H53: FALSE | I53: FALSE | J53: FALSE | K53: =COUNTIF(C53:J53,TRUE)/7 -> 0
A54: #PTP-LN | B54: Lando Norris | C54: FALSE | D54: FALSE | F54: FALSE | G54: FALSE | H54: FALSE | I54: FALSE | J54: FALSE | K54: =COUNTIF(C54:J54,TRUE)/7 -> 0
A55: #PTP-SV | B55: Sebastian Vettel | C55: FALSE | D55: FALSE | F55: FALSE | G55: FALSE | H55: FALSE | I55: FALSE | J55: FALSE | K55: =COUNTIF(C55:J55,TRUE)/7 -> 0
A56: #PTP-EO | B56: Esteban Ocon | C56: FALSE | D56: FALSE | F56: FALSE | G56: FALSE | H56: FALSE | I56: FALSE | J56: FALSE | K56: =COUNTIF(C56:J56,TRUE)/7 -> 0
...

Sheet Autographes
A1: Topps Chrome F1 2021 — Autographes
A2: Suivi de collection — checklist complète
A3: Cochez les cartes possédées. Utilisez les boutons − / + à gauche pour replier ou déplier chaque subset.
A4: N° | B4: Carte | C4: Standard | D4: Gold Refractor /50 | E4: Gold Wave Refractor /50 | F4: Orange Refractor /25 | G4: Red Refractor /5 | H4: Printing Plates /1 | I4: Superfractor /1 | J4: Progression
A5: SET DE BASE · 53 cartes | J5: =COUNTIF(C6:I58,TRUE)/371 -> 0
A6: #CA-LH | B6: Lewis Hamilton | C6: FALSE | D6: FALSE | E6: FALSE | F6: FALSE | G6: FALSE | H6: FALSE | I6: FALSE | J6: =COUNTIF(C6:I6,TRUE)/7 -> 0
A7: #CA-VB | B7: Valtteri Bottas | C7: FALSE | D7: FALSE | E7: FALSE | F7: FALSE | G7: FALSE | H7: FALSE | I7: FALSE | J7: =COUNTIF(C7:I7,TRUE)/7 -> 0
A8: #CA-MV | B8: Max Verstappen | C8: FALSE | D8: FALSE | E8: FALSE | F8: FALSE | G8: FALSE | H8: FALSE | I8: FALSE | J8: =COUNTIF(C8:I8,TRUE)/7 -> 0
A9: #CA-SP | B9: Sergio Pérez | C9: FALSE | D9: FALSE | E9: FALSE | F9: FALSE | G9: FALSE | H9: FALSE | I9: FALSE | J9: =COUNTIF(C9:I9,TRUE)/7 -> 0
A10: #CA-DR | B10: Daniel Ricciardo | C10: FALSE | D10: FALSE | E10: FALSE | F10: FALSE | G10: FALSE | H10: FALSE | I10: FALSE | J10: =COUNTIF(C10:I10,TRUE)/7 -> 0
A11: #CA-LN | B11: Lando Norris | C11: FALSE | D11: FALSE | E11: FALSE | F11: FALSE | G11: FALSE | H11: FALSE | I11: FALSE | J11: =COUNTIF(C11:I11,TRUE)/7 -> 0
A12: #CA-SV | B12: Sebastian Vettel | C12: FALSE | D12: FALSE | E12: FALSE | F12: FALSE | G12: FALSE | H12: FALSE | I12: FALSE | J12: =COUNTIF(C12:I12,TRUE)/7 -> 0
A13: #CA-LS | B13: Lance Stroll | C13: FALSE | D13: FALSE | E13: FALSE | F13: FALSE | G13: FALSE | H13: FALSE | I13: FALSE | J13: =COUNTIF(C13:I13,TRUE)/7 -> 0
A14: #CA-FA | B14: Fernando Alonso | C14: FALSE | D14: FALSE | E14: FALSE | F14: FALSE | G14: FALSE | H14: FALSE | I14: FALSE | J14: =COUNTIF(C14:I14,TRUE)/7 -> 0
A15: #CA-EO | B15: Esteban Ocon | C15: FALSE | D15: FALSE | E15: FALSE | F15: FALSE | G15: FALSE | H15: FALSE | I15: FALSE | J15: =COUNTIF(C15:I15,TRUE)/7 -> 0
A16: #CA-CL | B16: Charles Leclerc | C16: FALSE | D16: FALSE | E16: FALSE | F16: FALSE | G16: FALSE | H16: FALSE | I16: FALSE | J16: =COUNTIF(C16:I16,TRUE)/7 -> 0
A17: #CA-CS | B17: Carlos Sainz | C17: FALSE | D17: FALSE | E17: FALSE | F17: FALSE | G17: FALSE | H17: FALSE | I17: FALSE | J17: =COUNTIF(C17:I17,TRUE)/7 -> 0
... A58: #CA-CLU | B58: Christian Lundgaard | C58: FALSE | D58: FALSE | E58: FALSE | F58: FALSE | G58: FALSE | H58: FALSE | I58: FALSE | J58: =COUNTIF(C58:I58,TRUE)/7 -> 0
