Workbook

Sheet Aperçu
A1: Topps Chrome F1 2020
A2: Tracker de collection — checklist complète
A4: SET DE BASE (versions principales) | C4: VERSIONS PRINCIPALES (tous les onglets) | E4: PARALLÈLES (variantes) | G4: COLLECTION TOTALE
A5: =(SUM('Set de base'!T6:T237))/210 -> 0 | C5: =(SUM('Set de base'!T6:T237)+SUM('Inserts'!K6:K57)+SUM('Autographes'!L6:L57))/312 -> 0 | E5: =(SUM('Set de base'!U6:U237)+SUM('Inserts'!L6:L57)+SUM('Autographes'!M6:M57))/3664 -> 0 | G5: =(SUM('Set de base'!V6:V237)+SUM('Inserts'!M6:M57)+SUM('Autographes'!N6:N57))/3976 -> 0
A7: =(SUM('Set de base'!T6:T237))&" / 210" -> 0 / 210 | C7: =(SUM('Set de base'!T6:T237)+SUM('Inserts'!K6:K57)+SUM('Autographes'!L6:L57))&" / 312" -> 0 / 312 | E7: =(SUM('Set de base'!U6:U237)+SUM('Inserts'!L6:L57)+SUM('Autographes'!M6:M57))&" / 3664" -> 0 / 3664 | G7: =(SUM('Set de base'!V6:V237)+SUM('Inserts'!M6:M57)+SUM('Autographes'!N6:N57))&" / 3976" -> 0 / 3976
A8: Set de base = versions principales de l’onglet « Set de base » • Versions principales = Standard ou version nominale lorsqu’elle existe, numérotée ou non, tous onglets confondus.
A10: Progression par onglet
A11: Onglet | B11: Versions | C11: Possédées | D11: Progression
A12: Set de base | B12: 3210 | C12: =SUM('Set de base'!V6:V237) -> 0 | D12: =(SUM('Set de base'!V6:V237))/3210 -> 0
A13: Inserts | B13: 350 | C13: =SUM('Inserts'!M6:M57) -> 0 | D13: =(SUM('Inserts'!M6:M57))/350 -> 0
A14: Autographes | B14: 416 | C14: =SUM('Autographes'!N6:N57) -> 0 | D14: =(SUM('Autographes'!N6:N57))/416 -> 0
A17: Cartes de base par pilote
A18: Pilote | B18: Cartes de base | C18: Possédées | D18: Progression
A19: Alexander Albon | B19: 7 | C19: =IF('Set de base'!C10=TRUE,1,0)+IF('Set de base'!C30=TRUE,1,0)+IF('Set de base'!C52=TRUE,1,0)+IF('Set de base'!C197=TRUE,1,0)+IF('Set de base'!C213=TRUE,1,0)+IF('Set de base'!C223=TRUE,1,0)+IF('Set de base'!C232=TRUE,1,0) -> 0 | D19: =(IF('Set de base'!C10=TRUE,1,0)+IF('Set de base'!C30=TRUE,1,0)+IF('Set de base'!C52=TRUE,1,0)+IF('Set de base'!C197=TRUE,1,0)+IF('Set de base'!C213=TRUE,1,0)+IF('Set de base'!C223=TRUE,1,0)+IF('Set de base'!C232=TRUE,1,0))/7 -> 0
A20: Antonio Giovinazzi | B20: 3 | C20: =IF('Set de base'!C21=TRUE,1,0)+IF('Set de base'!C41=TRUE,1,0)+IF('Set de base'!C63=TRUE,1,0) -> 0 | D20: =(IF('Set de base'!C21=TRUE,1,0)+IF('Set de base'!C41=TRUE,1,0)+IF('Set de base'!C63=TRUE,1,0))/3 -> 0
A21: Artem Markelov | B21: 2 | C21: =IF('Set de base'!C80=TRUE,1,0)+IF('Set de base'!C104=TRUE,1,0) -> 0 | D21: =(IF('Set de base'!C80=TRUE,1,0)+IF('Set de base'!C104=TRUE,1,0))/2 -> 0
A22: Callum Ilott | B22: 2 | C22: =IF('Set de base'!C73=TRUE,1,0)+IF('Set de base'!C97=TRUE,1,0) -> 0 | D22: =(IF('Set de base'!C73=TRUE,1,0)+IF('Set de base'!C97=TRUE,1,0))/2 -> 0
A23: Carlos Sainz | B23: 3 | C23: =IF('Set de base'!C13=TRUE,1,0)+IF('Set de base'!C33=TRUE,1,0)+IF('Set de base'!C55=TRUE,1,0) -> 0 | D23: =(IF('Set de base'!C13=TRUE,1,0)+IF('Set de base'!C33=TRUE,1,0)+IF('Set de base'!C55=TRUE,1,0))/3 -> 0
A24: Charles Leclerc | B24: 10 | C24: =IF('Set de base'!C9=TRUE,1,0)+IF('Set de base'!C29=TRUE,1,0)+IF('Set de base'!C51=TRUE,1,0)+IF('Set de base'!C184=TRUE,1,0)+IF('Set de base'!C185=TRUE,1,0)+IF('Set de base'!C196=TRUE,1,0)+IF('Set de base'!C198=TRUE,1,0)+IF('Set de base'!C204=TRUE,1,0)+IF('Set de base'!C208=TRUE,1,0)+IF('Set de base'!C231=TRUE,1,0) -> 0 | D24: =(IF('Set de base'!C9=TRUE,1,0)+IF('Set de base'!C29=TRUE,1,0)+IF('Set de base'!C51=TRUE,1,0)+IF('Set de base'!C184=TRUE,1,0)+IF('Set de base'!C185=TRUE,1,0)+IF('Set de base'!C196=TRUE,1,0)+IF('Set de base'!C198=TRUE,1,0)+IF('Set de base'!C204=TRUE,1,0)+IF('Set de base'!C208=TRUE,1,0)+IF('Set de base'!C231=TRUE,1,0))/10 -> 0
A25: Christian Lundgaard | B25: 2 | C25: =IF('Set de base'!C75=TRUE,1,0)+IF('Set de base'!C99=TRUE,1,0) -> 0 | D25: =(IF('Set de base'!C75=TRUE,1,0)+IF('Set de base'!C99=TRUE,1,0))/2 -> 0
A26: Dan Ticktum | B26: 2 | C26: =IF('Set de base'!C71=TRUE,1,0)+IF('Set de base'!C95=TRUE,1,0) -> 0 | D26: =(IF('Set de base'!C71=TRUE,1,0)+IF('Set de base'!C95=TRUE,1,0))/2 -> 0
A27: Daniel Ricciardo | B27: 3 | C27: =IF('Set de base'!C14=TRUE,1,0)+IF('Set de base'!C34=TRUE,1,0)+IF('Set de base'!C56=TRUE,1,0) -> 0 | D27: =(IF('Set de base'!C14=TRUE,1,0)+IF('Set de base'!C34=TRUE,1,0)+IF('Set de base'!C56=TRUE,1,0))/3 -> 0
A28: Daniil Kvyat | B28: 3 | C28: =IF('Set de base'!C17=TRUE,1,0)+IF('Set de base'!C37=TRUE,1,0)+IF('Set de base'!C59=TRUE,1,0) -> 0 | D28: =(IF('Set de base'!C17=TRUE,1,0)+IF('Set de base'!C37=TRUE,1,0)+IF('Set de base'!C59=TRUE,1,0))/3 -> 0
A29: Esteban Ocon | B29: 4 | C29: =IF('Set de base'!C15=TRUE,1,0)+IF('Set de base'!C35=TRUE,1,0)+IF('Set de base'!C57=TRUE,1,0)+IF('Set de base'!C235=TRUE,1,0) -> 0 | D29: =(IF('Set de base'!C15=TRUE,1,0)+IF('Set de base'!C35=TRUE,1,0)+IF('Set de base'!C57=TRUE,1,0)+IF('Set de base'!C235=TRUE,1,0))/4 -> 0
A30: Felipe Drugovich | B30: 2 | C30: =IF('Set de base'!C79=TRUE,1,0)+IF('Set de base'!C103=TRUE,1,0) -> 0 | D30: =(IF('Set de base'!C79=TRUE,1,0)+IF('Set de base'!C103=TRUE,1,0))/2 -> 0
A31: George Russell | B31: 5 | C31: =IF('Set de base'!C24=TRUE,1,0)+IF('Set de base'!C44=TRUE,1,0)+IF('Set de base'!C66=TRUE,1,0)+IF('Set de base'!C225=TRUE,1,0)+IF('Set de base'!C237=TRUE,1,0) -> 0 | D31: =(IF('Set de base'!C24=TRUE,1,0)+IF('Set de base'!C44=TRUE,1,0)+IF('Set de base'!C66=TRUE,1,0)+IF('Set de base'!C225=TRUE,1,0)+IF('Set de base'!C237=TRUE,1,0))/5 -> 0
A32: Giuliano Alesi | B32: 2 | C32: =IF('Set de base'!C81=TRUE,1,0)+IF('Set de base'!C105=TRUE,1,0) -> 0 | D32: =(IF('Set de base'!C81=TRUE,1,0)+IF('Set de base'!C105=TRUE,1,0))/2 -> 0
A33: Guilherme Samaia | B33: 2 | C33: =IF('Set de base'!C91=TRUE,1,0)+IF('Set de base'!C115=TRUE,1,0) -> 0 | D33: =(IF('Set de base'!C91=TRUE,1,0)+IF('Set de base'!C115=TRUE,1,0))/2 -> 0
A34: Jack Aitken | B34: 2 | C34: =IF('Set de base'!C90=TRUE,1,0)+IF('Set de base'!C114=TRUE,1,0) -> 0 | D34: =(IF('Set de base'!C90=TRUE,1,0)+IF('Set de base'!C114=TRUE,1,0))/2 -> 0
A35: Jehan Daruvala | B35: 2 | C35: =IF('Set de base'!C88=TRUE,1,0)+IF('Set de base'!C112=TRUE,1,0) -> 0 | D35: =(IF('Set de base'!C88=TRUE,1,0)+IF('Set de base'!C112=TRUE,1,0))/2 -> 0
A36: Kevin Magnussen | B36: 3 | C36: =IF('Set de base'!C23=TRUE,1,0)+IF('Set de base'!C43=TRUE,1,0)+IF('Set de base'!C65=TRUE,1,0) -> 0 | D36: =(IF('Set de base'!C23=TRUE,1,0)+IF('Set de base'!C43=TRUE,1,0)+IF('Set de base'!C65=TRUE,1,0))/3 -> 0
A37: Kimi Räikkönen | B37: 3 | C37: =IF('Set de base'!C20=TRUE,1,0)+IF('Set de base'!C40=TRUE,1,0)+IF('Set de base'!C62=TRUE,1,0) -> 0 | D37: =(IF('Set de base'!C20=TRUE,1,0)+IF('Set de base'!C40=TRUE,1,0)+IF('Set de base'!C62=TRUE,1,0))/3 -> 0
A38: Lance Stroll | B38: 3 | C38: =IF('Set de base'!C19=TRUE,1,0)+IF('Set de base'!C39=TRUE,1,0)+IF('Set de base'!C61=TRUE,1,0) -> 0 | D38: =(IF('Set de base'!C19=TRUE,1,0)+IF('Set de base'!C39=TRUE,1,0)+IF('Set de base'!C61=TRUE,1,0))/3 -> 0
A39: Lando Norris | B39: 7 | C39: =IF('Set de base'!C12=TRUE,1,0)+IF('Set de base'!C32=TRUE,1,0)+IF('Set de base'!C54=TRUE,1,0)+IF('Set de base'!C202=TRUE,1,0)+IF('Set de base'!C207=TRUE,1,0)+IF('Set de base'!C224=TRUE,1,0)+IF('Set de base'!C234=TRUE,1,0) -> 0 | D39: =(IF('Set de base'!C12=TRUE,1,0)+IF('Set de base'!C32=TRUE,1,0)+IF('Set de base'!C54=TRUE,1,0)+IF('Set de base'!C202=TRUE,1,0)+IF('Set de base'!C207=TRUE,1,0)+IF('Set de base'!C224=TRUE,1,0)+IF('Set de base'!C234=TRUE,1,0))/7 -> 0
A40: Lewis Hamilton | B40: 18 | C40: =IF('Set de base'!C6=TRUE,1,0)+IF('Set de base'!C26=TRUE,1,0)+IF('Set de base'!C48=TRUE,1,0)+IF('Set de base'!C173=TRUE,1,0)+IF('Set de base'!C174=TRUE,1,0)+IF('Set de base'!C176=TRUE,1,0)+IF('Set de base'!C177=TRUE,1,0)+IF('Set de base'!C178=TRUE,1,0)+IF('Set de base'!C179=TRUE,1,0)+IF('Set de base'!C181=TRUE,1,0)+IF('Set de base'!C183=TRUE,1,0)+IF('Set de base'!C187=TRUE,1,0)+IF('Set de base'!C189=TRUE,1,0)+IF('Set de base'!C192=TRUE,1,0)+IF('Set de base'!C218=TRUE,1,0)+IF('Set de base'!C219=TRUE,1,0)+IF('Set de base'!C220=TRUE,1,0)+IF('Set de base'!C228=TRUE,1,0) -> 0 | D40: =(IF('Set de base'!C6=TRUE,1,0)+IF('Set de base'!C26=TRUE,1,0)+IF('Set de base'!C48=TRUE,1,0)+IF('Set de base'!C173=TRUE,1,0)+IF('Set de base'!C174=TRUE,1,0)+IF('Set de base'!C176=TRUE,1,0)+IF('Set de base'!C177=TRUE,1,0)+IF('Set de base'!C178=TRUE,1,0)+IF('Set de base'!C179=TRUE,1,0)+IF('Set de base'!C181=TRUE,1,0)+IF('Set de base'!C183=TRUE,1,0)+IF('Set de base'!C187=TRUE,1,0)+IF('Set de base'!C189=TRUE,1,0)+IF('Set de base'!C192=TRUE,1,0)+IF('Set de base'!C218=TRUE,1,0)+IF('Set de base'!C219=TRUE,1,0)+IF('Set de base'!C220=TRUE,1,0)+IF('Set de base'!C228=TRUE,1,0))/18 -> 0
A41: Louis Delétraz | B41: 2 | C41: =IF('Set de base'!C76=TRUE,1,0)+IF('Set de base'!C100=TRUE,1,0) -> 0 | D41: =(IF('Set de base'!C76=TRUE,1,0)+IF('Set de base'!C100=TRUE,1,0))/2 -> 0
A42: Luca Ghiotto | B42: 2 | C42: =IF('Set de base'!C87=TRUE,1,0)+IF('Set de base'!C111=TRUE,1,0) -> 0 | D42: =(IF('Set de base'!C87=TRUE,1,0)+IF('Set de base'!C111=TRUE,1,0))/2 -> 0
A43: Marcus Armstrong | B43: 2 | C43: =IF('Set de base'!C74=TRUE,1,0)+IF('Set de base'!C98=TRUE,1,0) -> 0 | D43: =(IF('Set de base'!C74=TRUE,1,0)+IF('Set de base'!C98=TRUE,1,0))/2 -> 0
A44: Marino Sato | B44: 2 | C44: =IF('Set de base'!C85=TRUE,1,0)+IF('Set de base'!C109=TRUE,1,0) -> 0 | D44: =(IF('Set de base'!C85=TRUE,1,0)+IF('Set de base'!C109=TRUE,1,0))/2 -> 0
A45: Max Verstappen | B45: 14 | C45: =IF('Set de base'!C11=TRUE,1,0)+IF('Set de base'!C31=TRUE,1,0)+IF('Set de base'!C53=TRUE,1,0)+IF('Set de base'!C180=TRUE,1,0)+IF('Set de base'!C182=TRUE,1,0)+IF('Set de base'!C191=TRUE,1,0)+IF('Set de base'!C199=TRUE,1,0)+IF('Set de base'!C200=TRUE,1,0)+IF('Set de base'!C203=TRUE,1,0)+IF('Set de base'!C205=TRUE,1,0)+IF('Set de base'!C206=TRUE,1,0)+IF('Set de base'!C212=TRUE,1,0)+IF('Set de base'!C214=TRUE,1,0)+IF('Set de base'!C233=TRUE,1,0) -> 0 | D45: =(IF('Set de base'!C11=TRUE,1,0)+IF('Set de base'!C31=TRUE,1,0)+IF('Set de base'!C53=TRUE,1,0)+IF('Set de base'!C180=TRUE,1,0)+IF('Set de base'!C182=TRUE,1,0)+IF('Set de base'!C191=TRUE,1,0)+IF('Set de base'!C199=TRUE,1,0)+IF('Set de base'!C200=TRUE,1,0)+IF('Set de base'!C203=TRUE,1,0)+IF('Set de base'!C205=TRUE,1,0)+IF('Set de base'!C206=TRUE,1,0)+IF('Set de base'!C212=TRUE,1,0)+IF('Set de base'!C214=TRUE,1,0)+IF('Set de base'!C233=TRUE,1,0))/14 -> 0
...

Sheet Set de base
A1: Topps Chrome F1 2020 — Set de base
A2: Suivi de collection — checklist complète
A3: Cochez les cartes possédées. Utilisez les boutons − / + à gauche pour replier ou déplier chaque subset.
A4: N° | B4: Carte | C4: Version principale | D4: Carte Variation | E4: Refractor | F4: Purple Refractor /399 | G4: Gold Refractor /50 | H4: Gold Wave Refractor /50 | I4: 70th Anniversary Gold Refractor | J4: Orange Refractor /25 | K4: Orange Wave Refractor /25 | L4: 70th Anniversary Orange Refractor | M4: Red Refractor /5 | N4: Red Wave Refractor /5 | O4: 70th Anniversary Red | P4: Superfractor /1 | Q4: 70th Anniversary Superfractors | R4: Printing Plates /1 | S4: Progression | T4: Principales possédées | U4: Parallèles possédés | V4: Versions possédées
A5: F1 RACERS · 40 cartes | S5: =SUM(V6:V45)/640 -> 0
A6: #1 | B6: Lewis Hamilton | C6: FALSE | D6: FALSE | E6: FALSE | F6: FALSE | G6: FALSE | H6: FALSE | I6: FALSE | J6: FALSE | K6: FALSE | L6: FALSE | M6: FALSE | N6: FALSE | O6: FALSE | P6: FALSE | Q6: FALSE | R6: FALSE | S6: =V6/16 -> 0 | T6: =COUNTIF(C6,TRUE) -> 0 | U6: =COUNTIF(D6:R6,TRUE) -> 0 | V6: =T6+U6 -> 0
A7: #2 | B7: Valtteri Bottas | C7: FALSE | D7: FALSE | E7: FALSE | F7: FALSE | G7: FALSE | H7: FALSE | I7: FALSE | J7: FALSE | K7: FALSE | L7: FALSE | M7: FALSE | N7: FALSE | O7: FALSE | P7: FALSE | Q7: FALSE | R7: FALSE | S7: =V7/16 -> 0 | T7: =COUNTIF(C7,TRUE) -> 0 | U7: =COUNTIF(D7:R7,TRUE) -> 0 | V7: =T7+U7 -> 0
A8: #3 | B8: Sebastian Vettel | C8: FALSE | D8: FALSE | E8: FALSE | F8: FALSE | G8: FALSE | H8: FALSE | I8: FALSE | J8: FALSE | K8: FALSE | L8: FALSE | M8: FALSE | N8: FALSE | O8: FALSE | P8: FALSE | Q8: FALSE | R8: FALSE | S8: =V8/16 -> 0 | T8: =COUNTIF(C8,TRUE) -> 0 | U8: =COUNTIF(D8:R8,TRUE) -> 0 | V8: =T8+U8 -> 0
A9: #4 | B9: Charles Leclerc | C9: FALSE | D9: FALSE | E9: FALSE | F9: FALSE | G9: FALSE | H9: FALSE | I9: FALSE | J9: FALSE | K9: FALSE | L9: FALSE | M9: FALSE | N9: FALSE | O9: FALSE | P9: FALSE | Q9: FALSE | R9: FALSE | S9: =V9/16 -> 0 | T9: =COUNTIF(C9,TRUE) -> 0 | U9: =COUNTIF(D9:R9,TRUE) -> 0 | V9: =T9+U9 -> 0
A10: #5 | B10: Alexander Albon (RC) | C10: FALSE | D10: FALSE | E10: FALSE | F10: FALSE | G10: FALSE | H10: FALSE | I10: FALSE | J10: FALSE | K10: FALSE | L10: FALSE | M10: FALSE | N10: FALSE | O10: FALSE | P10: FALSE | Q10: FALSE | R10: FALSE | S10: =V10/16 -> 0 | T10: =COUNTIF(C10,TRUE) -> 0 | U10: =COUNTIF(D10:R10,TRUE) -> 0 | V10: =T10+U10 -> 0
A11: #6 | B11: Max Verstappen | C11: FALSE | D11: FALSE | E11: FALSE | F11: FALSE | G11: FALSE | H11: FALSE | I11: FALSE | J11: FALSE | K11: FALSE | L11: FALSE | M11: FALSE | N11: FALSE | O11: FALSE | P11: FALSE | Q11: FALSE | R11: FALSE | S11: =V11/16 -> 0 | T11: =COUNTIF(C11,TRUE) -> 0 | U11: =COUNTIF(D11:R11,TRUE) -> 0 | V11: =T11+U11 -> 0
A12: #7 | B12: Lando Norris (RC) | C12: FALSE | D12: FALSE | E12: FALSE | F12: FALSE | G12: FALSE | H12: FALSE | I12: FALSE | J12: FALSE | K12: FALSE | L12: FALSE | M12: FALSE | N12: FALSE | O12: FALSE | P12: FALSE | Q12: FALSE | R12: FALSE | S12: =V12/16 -> 0 | T12: =COUNTIF(C12,TRUE) -> 0 | U12: =COUNTIF(D12:R12,TRUE) -> 0 | V12: =T12+U12 -> 0
A13: #8 | B13: Carlos Sainz | C13: FALSE | D13: FALSE | E13: FALSE | F13: FALSE | G13: FALSE | H13: FALSE | I13: FALSE | J13: FALSE | K13: FALSE | L13: FALSE | M13: FALSE | N13: FALSE | O13: FALSE | P13: FALSE | Q13: FALSE | R13: FALSE | S13: =V13/16 -> 0 | T13: =COUNTIF(C13,TRUE) -> 0 | U13: =COUNTIF(D13:R13,TRUE) -> 0 | V13: =T13+U13 -> 0
A14: #9 | B14: Daniel Ricciardo | C14: FALSE | D14: FALSE | E14: FALSE | F14: FALSE | G14: FALSE | H14: FALSE | I14: FALSE | J14: FALSE | K14: FALSE | L14: FALSE | M14: FALSE | N14: FALSE | O14: FALSE | P14: FALSE | Q14: FALSE | R14: FALSE | S14: =V14/16 -> 0 | T14: =COUNTIF(C14,TRUE) -> 0 | U14: =COUNTIF(D14:R14,TRUE) -> 0 | V14: =T14+U14 -> 0
A15: #10 | B15: Esteban Ocon | C15: FALSE | D15: FALSE | E15: FALSE | F15: FALSE | G15: FALSE | H15: FALSE | I15: FALSE | J15: FALSE | K15: FALSE | L15: FALSE | M15: FALSE | N15: FALSE | O15: FALSE | P15: FALSE | Q15: FALSE | R15: FALSE | S15: =V15/16 -> 0 | T15: =COUNTIF(C15,TRUE) -> 0 | U15: =COUNTIF(D15:R15,TRUE) -> 0 | V15: =T15+U15 -> 0
A16: #11 | B16: Pierre Gasly | C16: FALSE | D16: FALSE | E16: FALSE | F16: FALSE | G16: FALSE | H16: FALSE | I16: FALSE | J16: FALSE | K16: FALSE | L16: FALSE | M16: FALSE | N16: FALSE | O16: FALSE | P16: FALSE | Q16: FALSE | R16: FALSE | S16: =V16/16 -> 0 | T16: =COUNTIF(C16,TRUE) -> 0 | U16: =COUNTIF(D16:R16,TRUE) -> 0 | V16: =T16+U16 -> 0
A17: #12 | B17: Daniil Kvyat | C17: FALSE | D17: FALSE | E17: FALSE | F17: FALSE | G17: FALSE | H17: FALSE | I17: FALSE | J17: FALSE | K17: FALSE | L17: FALSE | M17: FALSE | N17: FALSE | O17: FALSE | P17: FALSE | Q17: FALSE | R17: FALSE | S17: =V17/16 -> 0 | T17: =COUNTIF(C17,TRUE) -> 0 | U17: =COUNTIF(D17:R17,TRUE) -> 0 | V17: =T17+U17 -> 0
... A45: #193 | B45: Nicholas Latifi | C45: FALSE | D45: FALSE | E45: FALSE | F45: FALSE | G45: FALSE | H45: FALSE | I45: FALSE | J45: FALSE | K45: FALSE | L45: FALSE | M45: FALSE | N45: FALSE | O45: FALSE | P45: FALSE | Q45: FALSE | R45: FALSE | S45: =V45/16 -> 0 | T45: =COUNTIF(C45,TRUE) -> 0 | U45: =COUNTIF(D45:R45,TRUE) -> 0 | V45: =T45+U45 -> 0
A47: F1 CARS · 20 cartes | S47: =SUM(V48:V67)/320 -> 0
A48: #21 | B48: Lewis Hamilton | C48: FALSE | D48: FALSE | E48: FALSE | F48: FALSE | G48: FALSE | H48: FALSE | I48: FALSE | J48: FALSE | K48: FALSE | L48: FALSE | M48: FALSE | N48: FALSE | O48: FALSE | P48: FALSE | Q48: FALSE | R48: FALSE | S48: =V48/16 -> 0 | T48: =COUNTIF(C48,TRUE) -> 0 | U48: =COUNTIF(D48:R48,TRUE) -> 0 | V48: =T48+U48 -> 0
A49: #22 | B49: Valtteri Bottas | C49: FALSE | D49: FALSE | E49: FALSE | F49: FALSE | G49: FALSE | H49: FALSE | I49: FALSE | J49: FALSE | K49: FALSE | L49: FALSE | M49: FALSE | N49: FALSE | O49: FALSE | P49: FALSE | Q49: FALSE | R49: FALSE | S49: =V49/16 -> 0 | T49: =COUNTIF(C49,TRUE) -> 0 | U49: =COUNTIF(D49:R49,TRUE) -> 0 | V49: =T49+U49 -> 0
A50: #23 | B50: Sebastian Vettel | C50: FALSE | D50: FALSE | E50: FALSE | F50: FALSE | G50: FALSE | H50: FALSE | I50: FALSE | J50: FALSE | K50: FALSE | L50: FALSE | M50: FALSE | N50: FALSE | O50: FALSE | P50: FALSE | Q50: FALSE | R50: FALSE | S50: =V50/16 -> 0 | T50: =COUNTIF(C50,TRUE) -> 0 | U50: =COUNTIF(D50:R50,TRUE) -> 0 | V50: =T50+U50 -> 0
A51: #24 | B51: Charles Leclerc | C51: FALSE | D51: FALSE | E51: FALSE | F51: FALSE | G51: FALSE | H51: FALSE | I51: FALSE | J51: FALSE | K51: FALSE | L51: FALSE | M51: FALSE | N51: FALSE | O51: FALSE | P51: FALSE | Q51: FALSE | R51: FALSE | S51: =V51/16 -> 0 | T51: =COUNTIF(C51,TRUE) -> 0 | U51: =COUNTIF(D51:R51,TRUE) -> 0 | V51: =T51+U51 -> 0
A52: #25 | B52: Alexander Albon (RC) | C52: FALSE | D52: FALSE | E52: FALSE | F52: FALSE | G52: FALSE | H52: FALSE | I52: FALSE | J52: FALSE | K52: FALSE | L52: FALSE | M52: FALSE | N52: FALSE | O52: FALSE | P52: FALSE | Q52: FALSE | R52: FALSE | S52: =V52/16 -> 0 | T52: =COUNTIF(C52,TRUE) -> 0 | U52: =COUNTIF(D52:R52,TRUE) -> 0 | V52: =T52+U52 -> 0
A53: #26 | B53: Max Verstappen | C53: FALSE | D53: FALSE | E53: FALSE | F53: FALSE | G53: FALSE | H53: FALSE | I53: FALSE | J53: FALSE | K53: FALSE | L53: FALSE | M53: FALSE | N53: FALSE | O53: FALSE | P53: FALSE | Q53: FALSE | R53: FALSE | S53: =V53/16 -> 0 | T53: =COUNTIF(C53,TRUE) -> 0 | U53: =COUNTIF(D53:R53,TRUE) -> 0 | V53: =T53+U53 -> 0
A54: #27 | B54: Lando Norris (RC) | C54: FALSE | D54: FALSE | E54: FALSE | F54: FALSE | G54: FALSE | H54: FALSE | I54: FALSE | J54: FALSE | K54: FALSE | L54: FALSE | M54: FALSE | N54: FALSE | O54: FALSE | P54: FALSE | Q54: FALSE | R54: FALSE | S54: =V54/16 -> 0 | T54: =COUNTIF(C54,TRUE) -> 0 | U54: =COUNTIF(D54:R54,TRUE) -> 0 | V54: =T54+U54 -> 0
A55: #28 | B55: Carlos Sainz | C55: FALSE | D55: FALSE | E55: FALSE | F55: FALSE | G55: FALSE | H55: FALSE | I55: FALSE | J55: FALSE | K55: FALSE | L55: FALSE | M55: FALSE | N55: FALSE | O55: FALSE | P55: FALSE | Q55: FALSE | R55: FALSE | S55: =V55/16 -> 0 | T55: =COUNTIF(C55,TRUE) -> 0 | U55: =COUNTIF(D55:R55,TRUE) -> 0 | V55: =T55+U55 -> 0
A56: #29 | B56: Daniel Ricciardo | C56: FALSE | D56: FALSE | E56: FALSE | F56: FALSE | G56: FALSE | H56: FALSE | I56: FALSE | J56: FALSE | K56: FALSE | L56: FALSE | M56: FALSE | N56: FALSE | O56: FALSE | P56: FALSE | Q56: FALSE | R56: FALSE | S56: =V56/16 -> 0 | T56: =COUNTIF(C56,TRUE) -> 0 | U56: =COUNTIF(D56:R56,TRUE) -> 0 | V56: =T56+U56 -> 0
A57: #30 | B57: Esteban Ocon | C57: FALSE | D57: FALSE | E57: FALSE | F57: FALSE | G57: FALSE | H57: FALSE | I57: FALSE | J57: FALSE | K57: FALSE | L57: FALSE | M57: FALSE | N57: FALSE | O57: FALSE | P57: FALSE | Q57: FALSE | R57: FALSE | S57: =V57/16 -> 0 | T57: =COUNTIF(C57,TRUE) -> 0 | U57: =COUNTIF(D57:R57,TRUE) -> 0 | V57: =T57+U57 -> 0
A58: #31 | B58: Pierre Gasly | C58: FALSE | D58: FALSE | E58: FALSE | F58: FALSE | G58: FALSE | H58: FALSE | I58: FALSE | J58: FALSE | K58: FALSE | L58: FALSE | M58: FALSE | N58: FALSE | O58: FALSE | P58: FALSE | Q58: FALSE | R58: FALSE | S58: =V58/16 -> 0 | T58: =COUNTIF(C58,TRUE) -> 0 | U58: =COUNTIF(D58:R58,TRUE) -> 0 | V58: =T58+U58 -> 0
A59: #32 | B59: Daniil Kvyat | C59: FALSE | D59: FALSE | E59: FALSE | F59: FALSE | G59: FALSE | H59: FALSE | I59: FALSE | J59: FALSE | K59: FALSE | L59: FALSE | M59: FALSE | N59: FALSE | O59: FALSE | P59: FALSE | Q59: FALSE | R59: FALSE | S59: =V59/16 -> 0 | T59: =COUNTIF(C59,TRUE) -> 0 | U59: =COUNTIF(D59:R59,TRUE) -> 0 | V59: =T59+U59 -> 0
... A67: #40 | B67: Nicholas Latifi | C67: FALSE | D67: FALSE | E67: FALSE | F67: FALSE | G67: FALSE | H67: FALSE | I67: FALSE | J67: FALSE | K67: FALSE | L67: FALSE | M67: FALSE | N67: FALSE | O67: FALSE | P67: FALSE | Q67: FALSE | R67: FALSE | S67: =V67/16 -> 0 | T67: =COUNTIF(C67,TRUE) -> 0 | U67: =COUNTIF(D67:R67,TRUE) -> 0 | V67: =T67+U67 -> 0
A69: F2 RACERS – FUTURE STARS · 22 cartes | S69: =SUM(V70:V91)/352 -> 0
A70: #41 | B70: Sean Gelael | C70: FALSE | D70: FALSE | E70: FALSE | F70: FALSE | G70: FALSE | H70: FALSE | I70: FALSE | J70: FALSE | K70: FALSE | L70: FALSE | M70: FALSE | N70: FALSE | O70: FALSE | P70: FALSE | Q70: FALSE | R70: FALSE | S70: =V70/16 -> 0 | T70: =COUNTIF(C70,TRUE) -> 0 | U70: =COUNTIF(D70:R70,TRUE) -> 0 | V70: =T70+U70 -> 0
A71: #42 | B71: Dan Ticktum | C71: FALSE | D71: FALSE | E71: FALSE | F71: FALSE | G71: FALSE | H71: FALSE | I71: FALSE | J71: FALSE | K71: FALSE | L71: FALSE | M71: FALSE | N71: FALSE | O71: FALSE | P71: FALSE | Q71: FALSE | R71: FALSE | S71: =V71/16 -> 0 | T71: =COUNTIF(C71,TRUE) -> 0 | U71: =COUNTIF(D71:R71,TRUE) -> 0 | V71: =T71+U71 -> 0
A72: #43 | B72: Zhou Guanyu | C72: FALSE | D72: FALSE | E72: FALSE | F72: FALSE | G72: FALSE | H72: FALSE | I72: FALSE | J72: FALSE | K72: FALSE | L72: FALSE | M72: FALSE | N72: FALSE | O72: FALSE | P72: FALSE | Q72: FALSE | R72: FALSE | S72: =V72/16 -> 0 | T72: =COUNTIF(C72,TRUE) -> 0 | U72: =COUNTIF(D72:R72,TRUE) -> 0 | V72: =T72+U72 -> 0
A73: #44 | B73: Callum Ilott | C73: FALSE | D73: FALSE | E73: FALSE | F73: FALSE | G73: FALSE | H73: FALSE | I73: FALSE | J73: FALSE | K73: FALSE | L73: FALSE | M73: FALSE | N73: FALSE | O73: FALSE | P73: FALSE | Q73: FALSE | R73: FALSE | S73: =V73/16 -> 0 | T73: =COUNTIF(C73,TRUE) -> 0 | U73: =COUNTIF(D73:R73,TRUE) -> 0 | V73: =T73+U73 -> 0
A74: #45 | B74: Marcus Armstrong | C74: FALSE | D74: FALSE | E74: FALSE | F74: FALSE | G74: FALSE | H74: FALSE | I74: FALSE | J74: FALSE | K74: FALSE | L74: FALSE | M74: FALSE | N74: FALSE | O74: FALSE | P74: FALSE | Q74: FALSE | R74: FALSE | S74: =V74/16 -> 0 | T74: =COUNTIF(C74,TRUE) -> 0 | U74: =COUNTIF(D74:R74,TRUE) -> 0 | V74: =T74+U74 -> 0
A75: #46 | B75: Christian Lundgaard | C75: FALSE | D75: FALSE | E75: FALSE | F75: FALSE | G75: FALSE | H75: FALSE | I75: FALSE | J75: FALSE | K75: FALSE | L75: FALSE | M75: FALSE | N75: FALSE | O75: FALSE | P75: FALSE | Q75: FALSE | R75: FALSE | S75: =V75/16 -> 0 | T75: =COUNTIF(C75,TRUE) -> 0 | U75: =COUNTIF(D75:R75,TRUE) -> 0 | V75: =T75+U75 -> 0
A76: #47 | B76: Louis Delétraz | C76: FALSE | D76: FALSE | E76: FALSE | F76: FALSE | G76: FALSE | H76: FALSE | I76: FALSE | J76: FALSE | K76: FALSE | L76: FALSE | M76: FALSE | N76: FALSE | O76: FALSE | P76: FALSE | Q76: FALSE | R76: FALSE | S76: =V76/16 -> 0 | T76: =COUNTIF(C76,TRUE) -> 0 | U76: =COUNTIF(D76:R76,TRUE) -> 0 | V76: =T76+U76 -> 0
...

Sheet Inserts
A1: Topps Chrome F1 2020 — Inserts
A2: Suivi de collection — checklist complète
A3: Cochez les cartes possédées. Utilisez les boutons − / + à gauche pour replier ou déplier chaque subset.
A4: N° | B4: Carte | C4: Version principale | D4: Gold Refractor /50 | E4: Gold Wave Refractor /50 | F4: Orange Refractor /25 | G4: Red Refractor /5 | H4: Superfractor /1 | I4: Printing Plates /1 | J4: Progression | K4: Principales possédées | L4: Parallèles possédés | M4: Versions possédées
A5: 1954 WORLD ON WHEELS · 35 cartes | J5: =SUM(M6:M40)/245 -> 0
A6: #54W-2 | B6: Lewis Hamilton | C6: FALSE | D6: FALSE | E6: FALSE | F6: FALSE | G6: FALSE | H6: FALSE | I6: FALSE | J6: =M6/7 -> 0 | K6: =COUNTIF(C6,TRUE) -> 0 | L6: =COUNTIF(D6:I6,TRUE) -> 0 | M6: =K6+L6 -> 0
A7: #54W-1 | B7: Valtteri Bottas | C7: FALSE | D7: FALSE | E7: FALSE | F7: FALSE | G7: FALSE | H7: FALSE | I7: FALSE | J7: =M7/7 -> 0 | K7: =COUNTIF(C7,TRUE) -> 0 | L7: =COUNTIF(D7:I7,TRUE) -> 0 | M7: =K7+L7 -> 0
A8: #54W-31 | B8: Sebastian Vettel | C8: FALSE | D8: FALSE | E8: FALSE | F8: FALSE | G8: FALSE | H8: FALSE | I8: FALSE | J8: =M8/7 -> 0 | K8: =COUNTIF(C8,TRUE) -> 0 | L8: =COUNTIF(D8:I8,TRUE) -> 0 | M8: =K8+L8 -> 0
A9: #54W-3 | B9: Charles Leclerc | C9: FALSE | D9: FALSE | E9: FALSE | F9: FALSE | G9: FALSE | H9: FALSE | I9: FALSE | J9: =M9/7 -> 0 | K9: =COUNTIF(C9,TRUE) -> 0 | L9: =COUNTIF(D9:I9,TRUE) -> 0 | M9: =K9+L9 -> 0
A10: #54W-5 | B10: Max Verstappen | C10: FALSE | D10: FALSE | E10: FALSE | F10: FALSE | G10: FALSE | H10: FALSE | I10: FALSE | J10: =M10/7 -> 0 | K10: =COUNTIF(C10,TRUE) -> 0 | L10: =COUNTIF(D10:I10,TRUE) -> 0 | M10: =K10+L10 -> 0
A11: #54W-4 | B11: Alexander Albon (RC) | C11: FALSE | D11: FALSE | E11: FALSE | F11: FALSE | G11: FALSE | H11: FALSE | I11: FALSE | J11: =M11/7 -> 0 | K11: =COUNTIF(C11,TRUE) -> 0 | L11: =COUNTIF(D11:I11,TRUE) -> 0 | M11: =K11+L11 -> 0
A12: #54W-6 | B12: Lando Norris (RC) | C12: FALSE | D12: FALSE | E12: FALSE | F12: FALSE | G12: FALSE | H12: FALSE | I12: FALSE | J12: =M12/7 -> 0 | K12: =COUNTIF(C12,TRUE) -> 0 | L12: =COUNTIF(D12:I12,TRUE) -> 0 | M12: =K12+L12 -> 0
A13: #54W-32 | B13: Carlos Sainz | C13: FALSE | D13: FALSE | E13: FALSE | F13: FALSE | G13: FALSE | H13: FALSE | I13: FALSE | J13: =M13/7 -> 0 | K13: =COUNTIF(C13,TRUE) -> 0 | L13: =COUNTIF(D13:I13,TRUE) -> 0 | M13: =K13+L13 -> 0
A14: #54W-33 | B14: Daniel Ricciardo | C14: FALSE | D14: FALSE | E14: FALSE | F14: FALSE | G14: FALSE | H14: FALSE | I14: FALSE | J14: =M14/7 -> 0 | K14: =COUNTIF(C14,TRUE) -> 0 | L14: =COUNTIF(D14:I14,TRUE) -> 0 | M14: =K14+L14 -> 0
A15: #54W-7 | B15: Esteban Ocon | C15: FALSE | D15: FALSE | E15: FALSE | F15: FALSE | G15: FALSE | H15: FALSE | I15: FALSE | J15: =M15/7 -> 0 | K15: =COUNTIF(C15,TRUE) -> 0 | L15: =COUNTIF(D15:I15,TRUE) -> 0 | M15: =K15+L15 -> 0
A16: #54W-8 | B16: Pierre Gasly | C16: FALSE | D16: FALSE | E16: FALSE | F16: FALSE | G16: FALSE | H16: FALSE | I16: FALSE | J16: =M16/7 -> 0 | K16: =COUNTIF(C16,TRUE) -> 0 | L16: =COUNTIF(D16:I16,TRUE) -> 0 | M16: =K16+L16 -> 0
A17: #54W-9 | B17: Daniil Kvyat | C17: FALSE | D17: FALSE | E17: FALSE | F17: FALSE | G17: FALSE | H17: FALSE | I17: FALSE | J17: =M17/7 -> 0 | K17: =COUNTIF(C17,TRUE) -> 0 | L17: =COUNTIF(D17:I17,TRUE) -> 0 | M17: =K17+L17 -> 0
... A40: #54W-25 | B40: Williams FW43 | C40: FALSE | D40: FALSE | E40: FALSE | F40: FALSE | G40: FALSE | H40: FALSE | I40: FALSE | J40: =M40/7 -> 0 | K40: =COUNTIF(C40,TRUE) -> 0 | L40: =COUNTIF(D40:I40,TRUE) -> 0 | M40: =K40+L40 -> 0
A42: TRACK TAGS · 15 cartes | J42: =SUM(M43:M57)/105 -> 0
A43: #TT-1 | B43: Lewis Hamilton | C43: FALSE | D43: FALSE | E43: FALSE | F43: FALSE | G43: FALSE | H43: FALSE | I43: FALSE | J43: =M43/7 -> 0 | K43: =COUNTIF(C43,TRUE) -> 0 | L43: =COUNTIF(D43:I43,TRUE) -> 0 | M43: =K43+L43 -> 0
A44: #TT-2 | B44: Valtteri Bottas | C44: FALSE | D44: FALSE | E44: FALSE | F44: FALSE | G44: FALSE | H44: FALSE | I44: FALSE | J44: =M44/7 -> 0 | K44: =COUNTIF(C44,TRUE) -> 0 | L44: =COUNTIF(D44:I44,TRUE) -> 0 | M44: =K44+L44 -> 0
A45: #TT-3 | B45: Sebastian Vettel | C45: FALSE | D45: FALSE | E45: FALSE | F45: FALSE | G45: FALSE | H45: FALSE | I45: FALSE | J45: =M45/7 -> 0 | K45: =COUNTIF(C45,TRUE) -> 0 | L45: =COUNTIF(D45:I45,TRUE) -> 0 | M45: =K45+L45 -> 0
A46: #TT-4 | B46: Charles Leclerc | C46: FALSE | D46: FALSE | E46: FALSE | F46: FALSE | G46: FALSE | H46: FALSE | I46: FALSE | J46: =M46/7 -> 0 | K46: =COUNTIF(C46,TRUE) -> 0 | L46: =COUNTIF(D46:I46,TRUE) -> 0 | M46: =K46+L46 -> 0
A47: #TT-5 | B47: Max Verstappen | C47: FALSE | D47: FALSE | E47: FALSE | F47: FALSE | G47: FALSE | H47: FALSE | I47: FALSE | J47: =M47/7 -> 0 | K47: =COUNTIF(C47,TRUE) -> 0 | L47: =COUNTIF(D47:I47,TRUE) -> 0 | M47: =K47+L47 -> 0
A48: #TT-6 | B48: Carlos Sainz | C48: FALSE | D48: FALSE | E48: FALSE | F48: FALSE | G48: FALSE | H48: FALSE | I48: FALSE | J48: =M48/7 -> 0 | K48: =COUNTIF(C48,TRUE) -> 0 | L48: =COUNTIF(D48:I48,TRUE) -> 0 | M48: =K48+L48 -> 0
A49: #TT-7 | B49: Daniel Ricciardo | C49: FALSE | D49: FALSE | E49: FALSE | F49: FALSE | G49: FALSE | H49: FALSE | I49: FALSE | J49: =M49/7 -> 0 | K49: =COUNTIF(C49,TRUE) -> 0 | L49: =COUNTIF(D49:I49,TRUE) -> 0 | M49: =K49+L49 -> 0
A50: #TT-8 | B50: Pierre Gasly | C50: FALSE | D50: FALSE | E50: FALSE | F50: FALSE | G50: FALSE | H50: FALSE | I50: FALSE | J50: =M50/7 -> 0 | K50: =COUNTIF(C50,TRUE) -> 0 | L50: =COUNTIF(D50:I50,TRUE) -> 0 | M50: =K50+L50 -> 0
A51: #TT-9 | B51: Daniil Kvyat | C51: FALSE | D51: FALSE | E51: FALSE | F51: FALSE | G51: FALSE | H51: FALSE | I51: FALSE | J51: =M51/7 -> 0 | K51: =COUNTIF(C51,TRUE) -> 0 | L51: =COUNTIF(D51:I51,TRUE) -> 0 | M51: =K51+L51 -> 0
A52: #TT-10 | B52: Sergio Pérez | C52: FALSE | D52: FALSE | E52: FALSE | F52: FALSE | G52: FALSE | H52: FALSE | I52: FALSE | J52: =M52/7 -> 0 | K52: =COUNTIF(C52,TRUE) -> 0 | L52: =COUNTIF(D52:I52,TRUE) -> 0 | M52: =K52+L52 -> 0
A53: #TT-11 | B53: Kimi Räikkönen | C53: FALSE | D53: FALSE | E53: FALSE | F53: FALSE | G53: FALSE | H53: FALSE | I53: FALSE | J53: =M53/7 -> 0 | K53: =COUNTIF(C53,TRUE) -> 0 | L53: =COUNTIF(D53:I53,TRUE) -> 0 | M53: =K53+L53 -> 0
A54: #TT-12 | B54: Antonio Giovinazzi | C54: FALSE | D54: FALSE | E54: FALSE | F54: FALSE | G54: FALSE | H54: FALSE | I54: FALSE | J54: =M54/7 -> 0 | K54: =COUNTIF(C54,TRUE) -> 0 | L54: =COUNTIF(D54:I54,TRUE) -> 0 | M54: =K54+L54 -> 0
... A57: #TT-15 | B57: Mick Schumacher | C57: FALSE | D57: FALSE | E57: FALSE | F57: FALSE | G57: FALSE | H57: FALSE | I57: FALSE | J57: =M57/7 -> 0 | K57: =COUNTIF(C57,TRUE) -> 0 | L57: =COUNTIF(D57:I57,TRUE) -> 0 | M57: =K57+L57 -> 0

Sheet Autographes
A1: Topps Chrome F1 2020 — Autographes
A2: Suivi de collection — checklist complète
A3: Cochez les cartes possédées. Utilisez les boutons − / + à gauche pour replier ou déplier chaque subset.
A4: N° | B4: Carte | C4: Version principale | D4: Green Refractor /99 | E4: Gold Refractor /50 | F4: Gold Wave Refractor /50 | G4: Orange Refractor /25 | H4: Red Refractor /5 | I4: Superfractor /1 | J4: Printing Plates /1 | K4: Progression | L4: Principales possédées | M4: Parallèles possédés | N4: Versions possédées
A5: SET DE BASE · 52 cartes | K5: =SUM(N6:N57)/416 -> 0
A6: #F1A-LH | B6: Lewis Hamilton | C6: FALSE | D6: FALSE | E6: FALSE | F6: FALSE | G6: FALSE | H6: FALSE | I6: FALSE | J6: FALSE | K6: =N6/8 -> 0 | L6: =COUNTIF(C6,TRUE) -> 0 | M6: =COUNTIF(D6:J6,TRUE) -> 0 | N6: =L6+M6 -> 0
A7: #F1A-VB | B7: Valtteri Bottas | C7: FALSE | D7: FALSE | E7: FALSE | F7: FALSE | G7: FALSE | H7: FALSE | I7: FALSE | J7: FALSE | K7: =N7/8 -> 0 | L7: =COUNTIF(C7,TRUE) -> 0 | M7: =COUNTIF(D7:J7,TRUE) -> 0 | N7: =L7+M7 -> 0
A8: #F1A-SV | B8: Sebastian Vettel | C8: FALSE | D8: FALSE | E8: FALSE | F8: FALSE | G8: FALSE | H8: FALSE | I8: FALSE | J8: FALSE | K8: =N8/8 -> 0 | L8: =COUNTIF(C8,TRUE) -> 0 | M8: =COUNTIF(D8:J8,TRUE) -> 0 | N8: =L8+M8 -> 0
A9: #F1A-CL | B9: Charles Leclerc | C9: FALSE | D9: FALSE | E9: FALSE | F9: FALSE | G9: FALSE | H9: FALSE | I9: FALSE | J9: FALSE | K9: =N9/8 -> 0 | L9: =COUNTIF(C9,TRUE) -> 0 | M9: =COUNTIF(D9:J9,TRUE) -> 0 | N9: =L9+M9 -> 0
A10: #F1A-MV | B10: Max Verstappen | C10: FALSE | D10: FALSE | E10: FALSE | F10: FALSE | G10: FALSE | H10: FALSE | I10: FALSE | J10: FALSE | K10: =N10/8 -> 0 | L10: =COUNTIF(C10,TRUE) -> 0 | M10: =COUNTIF(D10:J10,TRUE) -> 0 | N10: =L10+M10 -> 0
A11: #F1A-AA | B11: Alexander Albon (RC) | C11: FALSE | D11: FALSE | E11: FALSE | F11: FALSE | G11: FALSE | H11: FALSE | I11: FALSE | J11: FALSE | K11: =N11/8 -> 0 | L11: =COUNTIF(C11,TRUE) -> 0 | M11: =COUNTIF(D11:J11,TRUE) -> 0 | N11: =L11+M11 -> 0
A12: #F1A-LN | B12: Lando Norris (RC) | C12: FALSE | D12: FALSE | E12: FALSE | F12: FALSE | G12: FALSE | H12: FALSE | I12: FALSE | J12: FALSE | K12: =N12/8 -> 0 | L12: =COUNTIF(C12,TRUE) -> 0 | M12: =COUNTIF(D12:J12,TRUE) -> 0 | N12: =L12+M12 -> 0
A13: #F1A-CS | B13: Carlos Sainz | C13: FALSE | D13: FALSE | E13: FALSE | F13: FALSE | G13: FALSE | H13: FALSE | I13: FALSE | J13: FALSE | K13: =N13/8 -> 0 | L13: =COUNTIF(C13,TRUE) -> 0 | M13: =COUNTIF(D13:J13,TRUE) -> 0 | N13: =L13+M13 -> 0
A14: #F1A-DR | B14: Daniel Ricciardo | C14: FALSE | D14: FALSE | E14: FALSE | F14: FALSE | G14: FALSE | H14: FALSE | I14: FALSE | J14: FALSE | K14: =N14/8 -> 0 | L14: =COUNTIF(C14,TRUE) -> 0 | M14: =COUNTIF(D14:J14,TRUE) -> 0 | N14: =L14+M14 -> 0
A15: #F1A-EO | B15: Esteban Ocon | C15: FALSE | D15: FALSE | E15: FALSE | F15: FALSE | G15: FALSE | H15: FALSE | I15: FALSE | J15: FALSE | K15: =N15/8 -> 0 | L15: =COUNTIF(C15,TRUE) -> 0 | M15: =COUNTIF(D15:J15,TRUE) -> 0 | N15: =L15+M15 -> 0
A16: #F1A-PG | B16: Pierre Gasly | C16: FALSE | D16: FALSE | E16: FALSE | F16: FALSE | G16: FALSE | H16: FALSE | I16: FALSE | J16: FALSE | K16: =N16/8 -> 0 | L16: =COUNTIF(C16,TRUE) -> 0 | M16: =COUNTIF(D16:J16,TRUE) -> 0 | N16: =L16+M16 -> 0
A17: #F1A-DK | B17: Daniil Kvyat | C17: FALSE | D17: FALSE | E17: FALSE | F17: FALSE | G17: FALSE | H17: FALSE | I17: FALSE | J17: FALSE | K17: =N17/8 -> 0 | L17: =COUNTIF(C17,TRUE) -> 0 | M17: =COUNTIF(D17:J17,TRUE) -> 0 | N17: =L17+M17 -> 0
... A57: #F1A-YT | B57: Yuki Tsunoda | C57: FALSE | D57: FALSE | E57: FALSE | F57: FALSE | G57: FALSE | H57: FALSE | I57: FALSE | J57: FALSE | K57: =N57/8 -> 0 | L57: =COUNTIF(C57,TRUE) -> 0 | M57: =COUNTIF(D57:J57,TRUE) -> 0 | N57: =L57+M57 -> 0
